{"text_format":"3","workbook":"xlsx","n_sheets":3,"sheets":["Sheet1","Sheet2","Sheet3"],"not_rendered":{"external_links":1,"comments":1},"read":"whole","date_system":"1900"}

{"sheet":"Sheet1","index":0,"n_rows":222,"n_cols":10,"rows_kept":222}
["Id(int)","SceneType(int)","Name(str)","Exp(int)","Multiple(arrint)","Path(arrint)","Count(arrint)","RefreshInterval(int)","Speed(int)","Event(int)"]
["类型","场次类型","名字","经验","倍数","路径随机","出鱼数量","出鱼间隔(毫秒)","速度修正","事件"]
[3001,1,"小虾米",{"$f":"VLOOKUP(A3,[1]DB_Fish!$A:$G,7,FALSE)","v":10},{"$f":"VLOOKUP(A3,[1]DB_Fish!A:D,4,FALSE)","v":"1|1"},"1|1","1|1",200,0,0]
[1001,1,"小刺鱼",{"$f":"VLOOKUP(A4,[1]DB_Fish!$A:$G,7,FALSE)","v":10},{"$f":"VLOOKUP(A4,[1]DB_Fish!A:D,4,FALSE)","v":"2|2"},"1|1","1|1",{"$f":"H3+200","v":400},0,0]
[1002,1,"小草鱼",{"$f":"VLOOKUP(A5,[1]DB_Fish!$A:$G,7,FALSE)","v":10},{"$f":"VLOOKUP(A5,[1]DB_Fish!A:D,4,FALSE)","v":"2|2"},"1|1","1|1",{"$f":"H4+200","v":600},0,0]
[7001,1,"小彩鱼",{"$f":"VLOOKUP(A6,[1]DB_Fish!$A:$G,7,FALSE)","v":10},{"$f":"VLOOKUP(A6,[1]DB_Fish!A:D,4,FALSE)","v":"2|2"},"1|1","1|1",800,0,0]
[7002,1,"天使鱼",{"$f":"VLOOKUP(A7,[1]DB_Fish!$A:$G,7,FALSE)","v":10},{"$f":"VLOOKUP(A7,[1]DB_Fish!A:D,4,FALSE)","v":"2|2"},"1|1","1|1",1000,0,0]
[21001,1,"鲽鱼",{"$f":"VLOOKUP(A8,[1]DB_Fish!$A:$G,7,FALSE)","v":10},{"$f":"VLOOKUP(A8,[1]DB_Fish!A:D,4,FALSE)","v":"2|2"},"1|1","1|1",1200,0,0]
[3002,1,"小草鱼",{"$f":"VLOOKUP(A9,[1]DB_Fish!$A:$G,7,FALSE)","v":10},{"$f":"VLOOKUP(A9,[1]DB_Fish!A:D,4,FALSE)","v":"2|2"},"1|1","1|1",1400,0,0]
[5001,1,"小刺鱼",{"$f":"VLOOKUP(A10,[1]DB_Fish!$A:$G,7,FALSE)","v":10},{"$f":"VLOOKUP(A10,[1]DB_Fish!A:D,4,FALSE)","v":"2|2"},"1|1","1|1",1600,0,0]
[5002,1,"小草鱼",{"$f":"VLOOKUP(A11,[1]DB_Fish!$A:$G,7,FALSE)","v":10},{"$f":"VLOOKUP(A11,[1]DB_Fish!A:D,4,FALSE)","v":"2|2"},"1|1","1|1",1800,0,0]
[11001,1,"沙丁鱼",{"$f":"VLOOKUP(A12,[1]DB_Fish!$A:$G,7,FALSE)","v":10},{"$f":"VLOOKUP(A12,[1]DB_Fish!A:D,4,FALSE)","v":"2|2"},"1|1","1|1",2000,0,0]
[11002,1,"小丑鱼",{"$f":"VLOOKUP(A13,[1]DB_Fish!$A:$G,7,FALSE)","v":10},{"$f":"VLOOKUP(A13,[1]DB_Fish!A:D,4,FALSE)","v":"2|2"},"1|1","1|1",2200,0,0]
[1003,1,"小黄鱼",{"$f":"VLOOKUP(A14,[1]DB_Fish!$A:$G,7,FALSE)","v":10},{"$f":"VLOOKUP(A14,[1]DB_Fish!A:D,4,FALSE)","v":"3|3"},"1|1","1|1",2400,0,0]
[7003,1,"小黄鱼",{"$f":"VLOOKUP(A15,[1]DB_Fish!$A:$G,7,FALSE)","v":10},{"$f":"VLOOKUP(A15,[1]DB_Fish!A:D,4,FALSE)","v":"3|3"},"1|1","1|1",2600,0,0]
[7004,1,"车旗鱼",{"$f":"VLOOKUP(A16,[1]DB_Fish!$A:$G,7,FALSE)","v":10},{"$f":"VLOOKUP(A16,[1]DB_Fish!A:D,4,FALSE)","v":"3|3"},"1|1","1|1",2800,0,0]
[21002,1,"虾虎鱼",{"$f":"VLOOKUP(A17,[1]DB_Fish!$A:$G,7,FALSE)","v":10},{"$f":"VLOOKUP(A17,[1]DB_Fish!A:D,4,FALSE)","v":"3|3"},"1|1","1|1",3000,0,0]
[5003,1,"小黄鱼",{"$f":"VLOOKUP(A18,[1]DB_Fish!$A:$G,7,FALSE)","v":10},{"$f":"VLOOKUP(A18,[1]DB_Fish!A:D,4,FALSE)","v":"3|3"},"1|1","1|1",3200,0,0]
[11003,1,"蓝藻鱼",{"$f":"VLOOKUP(A19,[1]DB_Fish!$A:$G,7,FALSE)","v":10},{"$f":"VLOOKUP(A19,[1]DB_Fish!A:D,4,FALSE)","v":"3|3"},"1|1","1|1",3400,0,0]
[7005,1,"蓝金枪鱼",{"$f":"VLOOKUP(A20,[1]DB_Fish!$A:$G,7,FALSE)","v":10},{"$f":"VLOOKUP(A20,[1]DB_Fish!A:D,4,FALSE)","v":"4|4"},"1|1","1|1",3600,0,0]
[7006,1,"小丑鱼",{"$f":"VLOOKUP(A21,[1]DB_Fish!$A:$G,7,FALSE)","v":10},{"$f":"VLOOKUP(A21,[1]DB_Fish!A:D,4,FALSE)","v":"4|4"},"1|1","1|1",3800,0,0]
[21003,1,"兔子鱼",{"$f":"VLOOKUP(A22,[1]DB_Fish!$A:$G,7,FALSE)","v":10},{"$f":"VLOOKUP(A22,[1]DB_Fish!A:D,4,FALSE)","v":"4|4"},"1|1","1|1",4000,0,0]
[1004,1,"泡泡鱼",{"$f":"VLOOKUP(A23,[1]DB_Fish!$A:$G,7,FALSE)","v":10},{"$f":"VLOOKUP(A23,[1]DB_Fish!A:D,4,FALSE)","v":"4|4"},"1|1","1|1",4200,0,0]
[3003,1,"小黄鱼",{"$f":"VLOOKUP(A24,[1]DB_Fish!$A:$G,7,FALSE)","v":10},{"$f":"VLOOKUP(A24,[1]DB_Fish!A:D,4,FALSE)","v":"4|4"},"1|1","1|1",4400,0,0]
[5004,1,"泡泡鱼",{"$f":"VLOOKUP(A25,[1]DB_Fish!$A:$G,7,FALSE)","v":10},{"$f":"VLOOKUP(A25,[1]DB_Fish!A:D,4,FALSE)","v":"4|4"},"1|1","1|1",4600,0,0]
[11004,1,"红斗鱼",{"$f":"VLOOKUP(A26,[1]DB_Fish!$A:$G,7,FALSE)","v":10},{"$f":"VLOOKUP(A26,[1]DB_Fish!A:D,4,FALSE)","v":"4|4"},"1|1","1|1",4800,0,0]
[11005,1,"蓝斗鱼",{"$f":"VLOOKUP(A27,[1]DB_Fish!$A:$G,7,FALSE)","v":10},{"$f":"VLOOKUP(A27,[1]DB_Fish!A:D,4,FALSE)","v":"4|4"},"1|1","1|1",5000,0,0]
[7007,1,"小乌贼",{"$f":"VLOOKUP(A28,[1]DB_Fish!$A:$G,7,FALSE)","v":10},{"$f":"VLOOKUP(A28,[1]DB_Fish!A:D,4,FALSE)","v":"5|5"},"1|1","1|1",5200,0,0]
[7008,1,"星光鱼",{"$f":"VLOOKUP(A29,[1]DB_Fish!$A:$G,7,FALSE)","v":10},{"$f":"VLOOKUP(A29,[1]DB_Fish!A:D,4,FALSE)","v":"5|5"},"1|1","1|1",5400,0,0]
[21004,1,"小丑鱼",{"$f":"VLOOKUP(A30,[1]DB_Fish!$A:$G,7,FALSE)","v":10},{"$f":"VLOOKUP(A30,[1]DB_Fish!A:D,4,FALSE)","v":"5|5"},"1|1","1|1",5600,0,0]
[1005,1,"小紫鱼",{"$f":"VLOOKUP(A31,[1]DB_Fish!$A:$G,7,FALSE)","v":10},{"$f":"VLOOKUP(A31,[1]DB_Fish!A:D,4,FALSE)","v":"5|5"},"1|1","1|1",5800,0,0]
[3004,1,"泡泡鱼",{"$f":"VLOOKUP(A32,[1]DB_Fish!$A:$G,7,FALSE)","v":10},{"$f":"VLOOKUP(A32,[1]DB_Fish!A:D,4,FALSE)","v":"5|5"},"1|1","1|1",6000,0,0]
[5005,1,"小紫鱼",{"$f":"VLOOKUP(A33,[1]DB_Fish!$A:$G,7,FALSE)","v":10},{"$f":"VLOOKUP(A33,[1]DB_Fish!A:D,4,FALSE)","v":"5|5"},"1|1","1|1",6200,0,0]
[11006,1,"小墨鱼",{"$f":"VLOOKUP(A34,[1]DB_Fish!$A:$G,7,FALSE)","v":10},{"$f":"VLOOKUP(A34,[1]DB_Fish!A:D,4,FALSE)","v":"5|5"},"1|1","1|1",6400,0,0]
[11007,1,"气球鱼",{"$f":"VLOOKUP(A35,[1]DB_Fish!$A:$G,7,FALSE)","v":10},{"$f":"VLOOKUP(A35,[1]DB_Fish!A:D,4,FALSE)","v":"5|5"},"1|1","1|1",6600,0,0]
[7009,1,"小螃蟹",{"$f":"VLOOKUP(A36,[1]DB_Fish!$A:$G,7,FALSE)","v":10},{"$f":"VLOOKUP(A36,[1]DB_Fish!A:D,4,FALSE)","v":"6|6"},"1|1","1|1",6800,0,0]
[7010,1,"龙虾",{"$f":"VLOOKUP(A37,[1]DB_Fish!$A:$G,7,FALSE)","v":10},{"$f":"VLOOKUP(A37,[1]DB_Fish!A:D,4,FALSE)","v":"6|6"},"1|1","1|1",7000,0,0]
[21005,1,"神仙鱼",{"$f":"VLOOKUP(A38,[1]DB_Fish!$A:$G,7,FALSE)","v":10},{"$f":"VLOOKUP(A38,[1]DB_Fish!A:D,4,FALSE)","v":"6|6"},"1|1","1|1",7200,0,0]
[3005,1,"小紫鱼",{"$f":"VLOOKUP(A39,[1]DB_Fish!$A:$G,7,FALSE)","v":10},{"$f":"VLOOKUP(A39,[1]DB_Fish!A:D,4,FALSE)","v":"6|6"},"1|1","1|1",7400,0,0]
[1006,1,"尼莫",{"$f":"VLOOKUP(A40,[1]DB_Fish!$A:$G,7,FALSE)","v":10},{"$f":"VLOOKUP(A40,[1]DB_Fish!A:D,4,FALSE)","v":"6|6"},"1|1","1|1",7600,0,0]
[5006,1,"尼莫",{"$f":"VLOOKUP(A41,[1]DB_Fish!$A:$G,7,FALSE)","v":10},{"$f":"VLOOKUP(A41,[1]DB_Fish!A:D,4,FALSE)","v":"6|6"},"1|1","1|1",7800,0,0]
[7011,1,"深海鱿鱼",{"$f":"VLOOKUP(A42,[1]DB_Fish!$A:$G,7,FALSE)","v":10},{"$f":"VLOOKUP(A42,[1]DB_Fish!A:D,4,FALSE)","v":"7|7"},"1|1","1|1",8000,0,0]
[21006,1,"孔雀鱼",{"$f":"VLOOKUP(A43,[1]DB_Fish!$A:$G,7,FALSE)","v":10},{"$f":"VLOOKUP(A43,[1]DB_Fish!A:D,4,FALSE)","v":"7|7"},"1|1","1|1",8200,0,0]
[3006,1,"尼莫",{"$f":"VLOOKUP(A44,[1]DB_Fish!$A:$G,7,FALSE)","v":10},{"$f":"VLOOKUP(A44,[1]DB_Fish!A:D,4,FALSE)","v":"7|7"},"1|1","1|1",8400,0,0]
[1007,1,"河豚",{"$f":"VLOOKUP(A45,[1]DB_Fish!$A:$G,7,FALSE)","v":10},{"$f":"VLOOKUP(A45,[1]DB_Fish!A:D,4,FALSE)","v":"7|7"},"1|1","1|1",8600,0,0]
[5007,1,"河豚",{"$f":"VLOOKUP(A46,[1]DB_Fish!$A:$G,7,FALSE)","v":10},{"$f":"VLOOKUP(A46,[1]DB_Fish!A:D,4,FALSE)","v":"7|7"},"1|1","1|1",8800,0,0]
[21007,1,"星鱼",{"$f":"VLOOKUP(A47,[1]DB_Fish!$A:$G,7,FALSE)","v":10},{"$f":"VLOOKUP(A47,[1]DB_Fish!A:D,4,FALSE)","v":"8|8"},"1|1","1|1",9000,0,0]
[3007,1,"河豚",{"$f":"VLOOKUP(A48,[1]DB_Fish!$A:$G,7,FALSE)","v":10},{"$f":"VLOOKUP(A48,[1]DB_Fish!A:D,4,FALSE)","v":"8|8"},"1|1","1|1",9200,0,0]
[1008,1,"蓝鱼",{"$f":"VLOOKUP(A49,[1]DB_Fish!$A:$G,7,FALSE)","v":10},{"$f":"VLOOKUP(A49,[1]DB_Fish!A:D,4,FALSE)","v":"8|8"},"1|1","1|1",9400,0,0]
[5008,1,"蓝鱼",{"$f":"VLOOKUP(A50,[1]DB_Fish!$A:$G,7,FALSE)","v":10},{"$f":"VLOOKUP(A50,[1]DB_Fish!A:D,4,FALSE)","v":"8|8"},"1|1","1|1",9600,0,0]
[11008,1,"粉水母",{"$f":"VLOOKUP(A51,[1]DB_Fish!$A:$G,7,FALSE)","v":10},{"$f":"VLOOKUP(A51,[1]DB_Fish!A:D,4,FALSE)","v":"8|8"},"1|1","1|1",9800,0,0]
[11009,1,"螃蟹",{"$f":"VLOOKUP(A52,[1]DB_Fish!$A:$G,7,FALSE)","v":10},{"$f":"VLOOKUP(A52,[1]DB_Fish!A:D,4,FALSE)","v":"8|8"},"1|1","1|1",10000,0,0]
[5009,1,"灯笼鱼",{"$f":"VLOOKUP(A53,[1]DB_Fish!$A:$G,7,FALSE)","v":10},{"$f":"VLOOKUP(A53,[1]DB_Fish!A:D,4,FALSE)","v":"9|9"},"1|1","1|1",10200,0,0]
[1009,1,"灯笼鱼",{"$f":"VLOOKUP(A54,[1]DB_Fish!$A:$G,7,FALSE)","v":10},{"$f":"VLOOKUP(A54,[1]DB_Fish!A:D,4,FALSE)","v":"9|9"},"1|1","1|1",10400,0,0]
[1016,1,"海草",{"$f":"VLOOKUP(A55,[1]DB_Fish!$A:$G,7,FALSE)","v":10},{"$f":"VLOOKUP(A55,[1]DB_Fish!A:D,4,FALSE)","v":"10|10"},"1|1","1|1",10600,0,0]
[7012,1,"大眼鱼",{"$f":"VLOOKUP(A56,[1]DB_Fish!$A:$G,7,FALSE)","v":10},{"$f":"VLOOKUP(A56,[1]DB_Fish!A:D,4,FALSE)","v":"10|10"},"1|1","1|1",10800,0,0]
[21008,1,"海马",{"$f":"VLOOKUP(A57,[1]DB_Fish!$A:$G,7,FALSE)","v":10},{"$f":"VLOOKUP(A57,[1]DB_Fish!A:D,4,FALSE)","v":"10|10"},"1|1","1|1",11000,0,0]
[21009,1,"宝石鱼",{"$f":"VLOOKUP(A58,[1]DB_Fish!$A:$G,7,FALSE)","v":10},{"$f":"VLOOKUP(A58,[1]DB_Fish!A:D,4,FALSE)","v":"10|10"},"1|1","1|1",11200,0,0]
[3008,1,"蓝鱼",{"$f":"VLOOKUP(A59,[1]DB_Fish!$A:$G,7,FALSE)","v":10},{"$f":"VLOOKUP(A59,[1]DB_Fish!A:D,4,FALSE)","v":"10|10"},"1|1","1|1",11400,0,0]
[5010,1,"乌龟",{"$f":"VLOOKUP(A60,[1]DB_Fish!$A:$G,7,FALSE)","v":10},{"$f":"VLOOKUP(A60,[1]DB_Fish!A:D,4,FALSE)","v":"10|10"},"1|1","1|1",11600,0,0]
[5016,1,"海草",{"$f":"VLOOKUP(A61,[1]DB_Fish!$A:$G,7,FALSE)","v":10},{"$f":"VLOOKUP(A61,[1]DB_Fish!A:D,4,FALSE)","v":"10|10"},"1|1","1|1",11800,0,0]
[1010,1,"乌龟",{"$f":"VLOOKUP(A62,[1]DB_Fish!$A:$G,7,FALSE)","v":10},{"$f":"VLOOKUP(A62,[1]DB_Fish!A:D,4,FALSE)","v":"10|10"},"1|1","1|1",12000,0,0]
[11010,1,"灯笼鱼",{"$f":"VLOOKUP(A63,[1]DB_Fish!$A:$G,7,FALSE)","v":10},{"$f":"VLOOKUP(A63,[1]DB_Fish!A:D,4,FALSE)","v":"10|10"},"1|1","1|1",12200,0,0]
[11011,1,"乌龟",{"$f":"VLOOKUP(A64,[1]DB_Fish!$A:$G,7,FALSE)","v":10},{"$f":"VLOOKUP(A64,[1]DB_Fish!A:D,4,FALSE)","v":"10|10"},"1|1","1|1",12400,0,0]
[7013,1,"蝴蝶鱼",{"$f":"VLOOKUP(A65,[1]DB_Fish!$A:$G,7,FALSE)","v":10},{"$f":"VLOOKUP(A65,[1]DB_Fish!A:D,4,FALSE)","v":"12|12"},"1|1","1|1",12600,0,0]
[3009,1,"灯笼鱼",{"$f":"VLOOKUP(A66,[1]DB_Fish!$A:$G,7,FALSE)","v":10},{"$f":"VLOOKUP(A66,[1]DB_Fish!A:D,4,FALSE)","v":"12|12"},"1|1","1|1",12800,0,0]
[5011,1,"神仙鱼",{"$f":"VLOOKUP(A67,[1]DB_Fish!$A:$G,7,FALSE)","v":10},{"$f":"VLOOKUP(A67,[1]DB_Fish!A:D,4,FALSE)","v":"12|12"},"1|1","1|1",13000,0,0]
[1011,1,"神仙鱼",{"$f":"VLOOKUP(A68,[1]DB_Fish!$A:$G,7,FALSE)","v":10},{"$f":"VLOOKUP(A68,[1]DB_Fish!A:D,4,FALSE)","v":"12|12"},"1|1","1|1",13200,0,0]
[11012,1,"神仙鱼",{"$f":"VLOOKUP(A69,[1]DB_Fish!$A:$G,7,FALSE)","v":10},{"$f":"VLOOKUP(A69,[1]DB_Fish!A:D,4,FALSE)","v":"12|12"},"1|1","1|1",{"$f":"H68+200","v":13400},0,0]
[7014,1,"魔鬼鱼",{"$f":"VLOOKUP(A70,[1]DB_Fish!$A:$G,7,FALSE)","v":10},{"$f":"VLOOKUP(A70,[1]DB_Fish!A:D,4,FALSE)","v":"14|14"},"1|1","1|1",13600,0,0]
[11013,1,"蝴蝶鱼",{"$f":"VLOOKUP(A71,[1]DB_Fish!$A:$G,7,FALSE)","v":10},{"$f":"VLOOKUP(A71,[1]DB_Fish!A:D,4,FALSE)","v":"14|14"},"1|1","1|1",13800,0,0]
[1012,1,"蝴蝶鱼",{"$f":"VLOOKUP(A72,[1]DB_Fish!$A:$G,7,FALSE)","v":10},{"$f":"VLOOKUP(A72,[1]DB_Fish!A:D,4,FALSE)","v":"15|15"},"1|1","1|1",14000,0,0]
[8001,1,"冰冻鱼",{"$f":"VLOOKUP(A73,[1]DB_Fish!$A:$G,7,FALSE)","v":10},{"$f":"VLOOKUP(A73,[1]DB_Fish!A:D,4,FALSE)","v":"15|15"},"1|1","1|1",14200,0,0]
[21011,1,"食人鱼",{"$f":"VLOOKUP(A74,[1]DB_Fish!$A:$G,7,FALSE)","v":10},{"$f":"VLOOKUP(A74,[1]DB_Fish!A:D,4,FALSE)","v":"15|15"},"1|1","1|1",14400,0,0]
[3010,1,"乌龟",{"$f":"VLOOKUP(A75,[1]DB_Fish!$A:$G,7,FALSE)","v":10},{"$f":"VLOOKUP(A75,[1]DB_Fish!A:D,4,FALSE)","v":"15|15"},"1|1","1|1",14600,0,0]
[5012,1,"蝴蝶鱼",{"$f":"VLOOKUP(A76,[1]DB_Fish!$A:$G,7,FALSE)","v":10},{"$f":"VLOOKUP(A76,[1]DB_Fish!A:D,4,FALSE)","v":"15|15"},"1|1","1|1",14800,0,0]
[7015,1,"灯笼鱼",{"$f":"VLOOKUP(A77,[1]DB_Fish!$A:$G,7,FALSE)","v":10},{"$f":"VLOOKUP(A77,[1]DB_Fish!A:D,4,FALSE)","v":"16|16"},"1|1","1|1",15000,0,0]
[11014,1,"海星",{"$f":"VLOOKUP(A78,[1]DB_Fish!$A:$G,7,FALSE)","v":10},{"$f":"VLOOKUP(A78,[1]DB_Fish!A:D,4,FALSE)","v":"16|16"},"1|1","1|1",15200,0,0]
[11015,1,"剑鱼",{"$f":"VLOOKUP(A79,[1]DB_Fish!$A:$G,7,FALSE)","v":10},{"$f":"VLOOKUP(A79,[1]DB_Fish!A:D,4,FALSE)","v":"18|18"},"1|1","1|1",15400,0,0]
[1013,1,"孔雀鱼",{"$f":"VLOOKUP(A80,[1]DB_Fish!$A:$G,7,FALSE)","v":10},{"$f":"VLOOKUP(A80,[1]DB_Fish!A:D,4,FALSE)","v":"18|18"},"1|1","1|1",15600,0,0]
[7016,1,"红杉鱼",{"$f":"VLOOKUP(A81,[1]DB_Fish!$A:$G,7,FALSE)","v":10},{"$f":"VLOOKUP(A81,[1]DB_Fish!A:D,4,FALSE)","v":"18|18"},"1|1","1|1",15800,0,0]
[21012,1,"熊猫鱼",{"$f":"VLOOKUP(A82,[1]DB_Fish!$A:$G,7,FALSE)","v":10},{"$f":"VLOOKUP(A82,[1]DB_Fish!A:D,4,FALSE)","v":"18|18"},"1|1","1|1",16000,0,0]
[3011,1,"神仙鱼",{"$f":"VLOOKUP(A83,[1]DB_Fish!$A:$G,7,FALSE)","v":10},{"$f":"VLOOKUP(A83,[1]DB_Fish!A:D,4,FALSE)","v":"18|18"},"1|1","1|1",16200,0,0]
[5013,1,"孔雀鱼",{"$f":"VLOOKUP(A84,[1]DB_Fish!$A:$G,7,FALSE)","v":10},{"$f":"VLOOKUP(A84,[1]DB_Fish!A:D,4,FALSE)","v":"18|18"},"1|1","1|1",16400,0,0]
[11016,1,"魔鬼鱼",{"$f":"VLOOKUP(A85,[1]DB_Fish!$A:$G,7,FALSE)","v":10},{"$f":"VLOOKUP(A85,[1]DB_Fish!A:D,4,FALSE)","v":"20|20"},"1|1","1|1",16600,0,0]
[11017,1,"鳌虾",{"$f":"VLOOKUP(A86,[1]DB_Fish!$A:$G,7,FALSE)","v":10},{"$f":"VLOOKUP(A86,[1]DB_Fish!A:D,4,FALSE)","v":"20|20"},"1|1","1|1",16800,0,0]
[1014,1,"剑鱼",{"$f":"VLOOKUP(A87,[1]DB_Fish!$A:$G,7,FALSE)","v":10},{"$f":"VLOOKUP(A87,[1]DB_Fish!A:D,4,FALSE)","v":"20|20"},"1|1","1|1",17000,0,0]
[10501,1,"一网打尽",{"$f":"VLOOKUP(A88,[1]DB_Fish!$A:$G,7,FALSE)","v":10},{"$f":"VLOOKUP(A88,[1]DB_Fish!A:D,4,FALSE)","v":"20|20"},"1|1","1|1",17200,0,0]
[10502,1,"一网打尽",{"$f":"VLOOKUP(A89,[1]DB_Fish!$A:$G,7,FALSE)","v":10},{"$f":"VLOOKUP(A89,[1]DB_Fish!A:D,4,FALSE)","v":"20|20"},"1|1","1|1",17400,0,0]
[10503,1,"一网打尽",{"$f":"VLOOKUP(A90,[1]DB_Fish!$A:$G,7,FALSE)","v":10},{"$f":"VLOOKUP(A90,[1]DB_Fish!A:D,4,FALSE)","v":"20|20"},"1|1","1|1",17600,0,0]
[10504,1,"一网打尽",{"$f":"VLOOKUP(A91,[1]DB_Fish!$A:$G,7,FALSE)","v":10},{"$f":"VLOOKUP(A91,[1]DB_Fish!A:D,4,FALSE)","v":"20|20"},"1|1","1|1",17800,0,0]
[10505,1,"一网打尽",{"$f":"VLOOKUP(A92,[1]DB_Fish!$A:$G,7,FALSE)","v":10},{"$f":"VLOOKUP(A92,[1]DB_Fish!A:D,4,FALSE)","v":"20|20"},"1|1","1|1",18000,0,0]
[7017,1,"河豚鱼",{"$f":"VLOOKUP(A93,[1]DB_Fish!$A:$G,7,FALSE)","v":10},{"$f":"VLOOKUP(A93,[1]DB_Fish!A:D,4,FALSE)","v":"20|20"},"1|1","1|1",18200,0,0]
[7018,1,"红金枪鱼",{"$f":"VLOOKUP(A94,[1]DB_Fish!$A:$G,7,FALSE)","v":10},{"$f":"VLOOKUP(A94,[1]DB_Fish!A:D,4,FALSE)","v":"20|20"},"1|1","1|1",18400,0,0]
[8002,1,"电鳗",{"$f":"VLOOKUP(A95,[1]DB_Fish!$A:$G,7,FALSE)","v":10},{"$f":"VLOOKUP(A95,[1]DB_Fish!A:D,4,FALSE)","v":"20|20"},"1|1","1|1",18600,0,0]
[21013,1,"海龟",{"$f":"VLOOKUP(A96,[1]DB_Fish!$A:$G,7,FALSE)","v":10},{"$f":"VLOOKUP(A96,[1]DB_Fish!A:D,4,FALSE)","v":"20|20"},"1|1","1|1",18800,0,0]
[3012,1,"剑鱼",{"$f":"VLOOKUP(A97,[1]DB_Fish!$A:$G,7,FALSE)","v":10},{"$f":"VLOOKUP(A97,[1]DB_Fish!A:D,4,FALSE)","v":"20|20"},"1|1","1|1",19000,0,0]
[5014,1,"剑鱼",{"$f":"VLOOKUP(A98,[1]DB_Fish!$A:$G,7,FALSE)","v":10},{"$f":"VLOOKUP(A98,[1]DB_Fish!A:D,4,FALSE)","v":"20|20"},"1|1","1|1",19200,0,0]
[11018,1,"贝壳",{"$f":"VLOOKUP(A99,[1]DB_Fish!$A:$G,7,FALSE)","v":10},{"$f":"VLOOKUP(A99,[1]DB_Fish!A:D,4,FALSE)","v":"25|25"},"1|1","1|1",19400,0,0]
[11019,1,"海马",{"$f":"VLOOKUP(A100,[1]DB_Fish!$A:$G,7,FALSE)","v":10},{"$f":"VLOOKUP(A100,[1]DB_Fish!A:D,4,FALSE)","v":"25|25"},"1|1","1|1",19600,0,0]
[1015,1,"蝙蝠鱼",{"$f":"VLOOKUP(A101,[1]DB_Fish!$A:$G,7,FALSE)","v":10},{"$f":"VLOOKUP(A101,[1]DB_Fish!A:D,4,FALSE)","v":"25|25"},"1|1","1|1",19800,0,0]
[7019,1,"孔雀鱼",{"$f":"VLOOKUP(A102,[1]DB_Fish!$A:$G,7,FALSE)","v":10},{"$f":"VLOOKUP(A102,[1]DB_Fish!A:D,4,FALSE)","v":"25|25"},"1|1","1|1",20000,0,0]
[7020,1,"剑鱼",{"$f":"VLOOKUP(A103,[1]DB_Fish!$A:$G,7,FALSE)","v":10},{"$f":"VLOOKUP(A103,[1]DB_Fish!A:D,4,FALSE)","v":"25|25"},"1|1","1|1",20200,0,0]
[21014,1,"狮子鱼",{"$f":"VLOOKUP(A104,[1]DB_Fish!$A:$G,7,FALSE)","v":10},{"$f":"VLOOKUP(A104,[1]DB_Fish!A:D,4,FALSE)","v":"25|25"},"1|1","1|1",20400,0,0]
[21015,1,"旗鱼",{"$f":"VLOOKUP(A105,[1]DB_Fish!$A:$G,7,FALSE)","v":10},{"$f":"VLOOKUP(A105,[1]DB_Fish!A:D,4,FALSE)","v":"25|25"},"1|1","1|1",20600,0,0]
[3013,1,"蝙蝠鱼",{"$f":"VLOOKUP(A106,[1]DB_Fish!$A:$G,7,FALSE)","v":10},{"$f":"VLOOKUP(A106,[1]DB_Fish!A:D,4,FALSE)","v":"25|25"},"1|1","1|1",20800,0,0]
[5015,1,"蝙蝠鱼",{"$f":"VLOOKUP(A107,[1]DB_Fish!$A:$G,7,FALSE)","v":10},{"$f":"VLOOKUP(A107,[1]DB_Fish!A:D,4,FALSE)","v":"25|25"},"1|1","1|1",21000,0,0]
[11020,1,"海鳗",{"$f":"VLOOKUP(A108,[1]DB_Fish!$A:$G,7,FALSE)","v":10},{"$f":"VLOOKUP(A108,[1]DB_Fish!A:D,4,FALSE)","v":"30|30"},"1|1","1|1",21200,0,0]
[7021,1,"小海豹",{"$f":"VLOOKUP(A109,[1]DB_Fish!$A:$G,7,FALSE)","v":10},{"$f":"VLOOKUP(A109,[1]DB_Fish!A:D,4,FALSE)","v":"30|30"},"1|1","1|1",21400,0,0]
[1017,1,"大白鲨",{"$f":"VLOOKUP(A110,[1]DB_Fish!$A:$G,7,FALSE)","v":10},{"$f":"VLOOKUP(A110,[1]DB_Fish!A:D,4,FALSE)","v":"30|30"},"1|1","1|1",21600,0,0]
[7022,1,"锯齿鱼",{"$f":"VLOOKUP(A111,[1]DB_Fish!$A:$G,7,FALSE)","v":10},{"$f":"VLOOKUP(A111,[1]DB_Fish!A:D,4,FALSE)","v":"30|30"},"1|1","1|1",21800,0,0]
[8051,1,"组合鱼阵4",{"$f":"VLOOKUP(A112,[1]DB_Fish!$A:$G,7,FALSE)","v":10},{"$f":"VLOOKUP(A112,[1]DB_Fish!A:D,4,FALSE)","v":"30|30"},"1|1","1|1",22000,0,0]
[8052,1,"组合鱼阵4",{"$f":"VLOOKUP(A113,[1]DB_Fish!$A:$G,7,FALSE)","v":10},{"$f":"VLOOKUP(A113,[1]DB_Fish!A:D,4,FALSE)","v":"30|30"},"1|1","1|1",22200,0,0]
[8054,1,"组合鱼阵6",{"$f":"VLOOKUP(A114,[1]DB_Fish!$A:$G,7,FALSE)","v":10},{"$f":"VLOOKUP(A114,[1]DB_Fish!A:D,4,FALSE)","v":"30|30"},"1|1","1|1",22400,0,0]
[8055,1,"组合鱼阵6",{"$f":"VLOOKUP(A115,[1]DB_Fish!$A:$G,7,FALSE)","v":10},{"$f":"VLOOKUP(A115,[1]DB_Fish!A:D,4,FALSE)","v":"30|30"},"1|1","1|1",22600,0,0]
[21016,1,"水母",{"$f":"VLOOKUP(A116,[1]DB_Fish!$A:$G,7,FALSE)","v":10},{"$f":"VLOOKUP(A116,[1]DB_Fish!A:D,4,FALSE)","v":"30|30"},"1|1","1|1",22800,0,0]
[21017,1,"魔鬼鱼",{"$f":"VLOOKUP(A117,[1]DB_Fish!$A:$G,7,FALSE)","v":10},{"$f":"VLOOKUP(A117,[1]DB_Fish!A:D,4,FALSE)","v":"30|30"},"1|1","1|1",23000,0,0]
[3014,1,"大白鲨",{"$f":"VLOOKUP(A118,[1]DB_Fish!$A:$G,7,FALSE)","v":10},{"$f":"VLOOKUP(A118,[1]DB_Fish!A:D,4,FALSE)","v":"30|30"},"1|1","1|1",23200,0,0]
[5017,1,"大白鲨",{"$f":"VLOOKUP(A119,[1]DB_Fish!$A:$G,7,FALSE)","v":10},{"$f":"VLOOKUP(A119,[1]DB_Fish!A:D,4,FALSE)","v":"30|30"},"1|1","1|1",23400,0,0]
[7053,1,"大蓝鲸",{"$f":"VLOOKUP(A120,[1]DB_Fish!$A:$G,7,FALSE)","v":10},{"$f":"VLOOKUP(A120,[1]DB_Fish!A:D,4,FALSE)","v":"35|35"},"1|1","1|1",23600,0,0]
[3015,1,"大金鲨",{"$f":"VLOOKUP(A121,[1]DB_Fish!$A:$G,7,FALSE)","v":10},{"$f":"VLOOKUP(A121,[1]DB_Fish!A:D,4,FALSE)","v":"35|35"},"1|1","1|1",23800,0,0]
[11021,1,"闪电鱼",{"$f":"VLOOKUP(A122,[1]DB_Fish!$A:$G,7,FALSE)","v":10},{"$f":"VLOOKUP(A122,[1]DB_Fish!A:D,4,FALSE)","v":"40|40"},"1|1","1|1",24000,0,0]
[7057,1,"虎鲸",{"$f":"VLOOKUP(A123,[1]DB_Fish!$A:$G,7,FALSE)","v":10},{"$f":"VLOOKUP(A123,[1]DB_Fish!A:D,4,FALSE)","v":"40|40"},"1|1","1|1",24200,0,0]
[1018,1,"大金鲨",{"$f":"VLOOKUP(A124,[1]DB_Fish!$A:$G,7,FALSE)","v":10},{"$f":"VLOOKUP(A124,[1]DB_Fish!A:D,4,FALSE)","v":"40|40"},"1|1","1|1",24400,0,0]
[8053,1,"组合鱼阵6",{"$f":"VLOOKUP(A125,[1]DB_Fish!$A:$G,7,FALSE)","v":10},{"$f":"VLOOKUP(A125,[1]DB_Fish!A:D,4,FALSE)","v":"40|40"},"1|1","1|1",24600,0,0]
[8056,1,"组合鱼阵6",{"$f":"VLOOKUP(A126,[1]DB_Fish!$A:$G,7,FALSE)","v":10},{"$f":"VLOOKUP(A126,[1]DB_Fish!A:D,4,FALSE)","v":"40|40"},"1|1","1|1",24800,0,0]
[21018,1,"海豚",{"$f":"VLOOKUP(A127,[1]DB_Fish!$A:$G,7,FALSE)","v":10},{"$f":"VLOOKUP(A127,[1]DB_Fish!A:D,4,FALSE)","v":"40|40"},"1|1","1|1",25000,0,0]
[5018,1,"大金鲨",{"$f":"VLOOKUP(A128,[1]DB_Fish!$A:$G,7,FALSE)","v":10},{"$f":"VLOOKUP(A128,[1]DB_Fish!A:D,4,FALSE)","v":"40|40"},"1|1","1|1",25200,0,0]
[7051,1,"海马",{"$f":"VLOOKUP(A129,[1]DB_Fish!$A:$G,7,FALSE)","v":10},{"$f":"VLOOKUP(A129,[1]DB_Fish!A:D,4,FALSE)","v":"45|45"},"1|1","1|1",25400,0,0]
[11601,1,"财富鱼",{"$f":"VLOOKUP(A130,[1]DB_Fish!$A:$G,7,FALSE)","v":10},{"$f":"VLOOKUP(A130,[1]DB_Fish!A:D,4,FALSE)","v":"50|50"},"1|1","1|1",25600,0,0]
[7054,1,"大蓝鲨",{"$f":"VLOOKUP(A131,[1]DB_Fish!$A:$G,7,FALSE)","v":10},{"$f":"VLOOKUP(A131,[1]DB_Fish!A:D,4,FALSE)","v":"50|50"},"1|1","1|1",25800,0,0]
[21019,1,"锤头鲨",{"$f":"VLOOKUP(A132,[1]DB_Fish!$A:$G,7,FALSE)","v":10},{"$f":"VLOOKUP(A132,[1]DB_Fish!A:D,4,FALSE)","v":"50|50"},"1|1","1|1",26000,0,0]
[3051,1,"船",{"$f":"VLOOKUP(A133,[1]DB_Fish!$A:$G,7,FALSE)","v":10},{"$f":"VLOOKUP(A133,[1]DB_Fish!A:D,4,FALSE)","v":"50|50"},"1|1","1|1",{"$f":"H132+200","v":26200},0,0]
[5051,1,"企鹅",{"$f":"VLOOKUP(A134,[1]DB_Fish!$A:$G,7,FALSE)","v":10},{"$f":"VLOOKUP(A134,[1]DB_Fish!A:D,4,FALSE)","v":"50|50"},"1|1","1|1",26400,0,0]
[7052,1,"尖齿鲸",{"$f":"VLOOKUP(A135,[1]DB_Fish!$A:$G,7,FALSE)","v":10},{"$f":"VLOOKUP(A135,[1]DB_Fish!A:D,4,FALSE)","v":"55|55"},"1|1","1|1",26600,0,0]
[11051,1,"鲨鱼",{"$f":"VLOOKUP(A136,[1]DB_Fish!$A:$G,7,FALSE)","v":10},{"$f":"VLOOKUP(A136,[1]DB_Fish!A:D,4,FALSE)","v":"60|60"},"1|1","1|1",26800,0,0]
[10101,1,"小三元",{"$f":"VLOOKUP(A137,[1]DB_Fish!$A:$G,7,FALSE)","v":10},{"$f":"VLOOKUP(A137,[1]DB_Fish!A:D,4,FALSE)","v":"60|60"},"1|1","1|1",27000,0,0]
[7055,1,"锤头鲨",{"$f":"VLOOKUP(A138,[1]DB_Fish!$A:$G,7,FALSE)","v":10},{"$f":"VLOOKUP(A138,[1]DB_Fish!A:D,4,FALSE)","v":"60|60"},"1|1","1|1",27200,0,0]
[5052,1,"蓝海豚",{"$f":"VLOOKUP(A139,[1]DB_Fish!$A:$G,7,FALSE)","v":10},{"$f":"VLOOKUP(A139,[1]DB_Fish!A:D,4,FALSE)","v":"60|60"},"1|1","1|1",27400,0,0]
[5054,1,"银龙",{"$f":"VLOOKUP(A140,[1]DB_Fish!$A:$G,7,FALSE)","v":10},{"$f":"VLOOKUP(A140,[1]DB_Fish!A:D,4,FALSE)","v":"70|70"},"1|1","1|1",27600,0,0]
[3052,1,"美人鱼",{"$f":"VLOOKUP(A141,[1]DB_Fish!$A:$G,7,FALSE)","v":10},{"$f":"VLOOKUP(A141,[1]DB_Fish!A:D,4,FALSE)","v":"75|75"},"1|1","1|1",27800,0,0]
[11052,1,"盔甲鱼",{"$f":"VLOOKUP(A142,[1]DB_Fish!$A:$G,7,FALSE)","v":10},{"$f":"VLOOKUP(A142,[1]DB_Fish!A:D,4,FALSE)","v":"80|80"},"1|1","1|1",28000,0,0]
[5057,1,"美人鱼",{"$f":"VLOOKUP(A143,[1]DB_Fish!$A:$G,7,FALSE)","v":10},{"$f":"VLOOKUP(A143,[1]DB_Fish!A:D,4,FALSE)","v":"80|80"},"1|1","1|1",28200,0,0]
[11053,1,"银龙鱼",{"$f":"VLOOKUP(A144,[1]DB_Fish!$A:$G,7,FALSE)","v":10},{"$f":"VLOOKUP(A144,[1]DB_Fish!A:D,4,FALSE)","v":"100|100"},"1|1","1|1",28400,0,10004]
[13001,1,"炸弹海马",{"$f":"VLOOKUP(A145,[1]DB_Fish!$A:$G,7,FALSE)","v":10},{"$f":"VLOOKUP(A145,[1]DB_Fish!A:D,4,FALSE)","v":"100|100"},"1|1","1|1",28600,0,0]
[10201,1,"大三元",{"$f":"VLOOKUP(A146,[1]DB_Fish!$A:$G,7,FALSE)","v":10},{"$f":"VLOOKUP(A146,[1]DB_Fish!A:D,4,FALSE)","v":"100|100"},"1|1","1|1",28800,0,0]
[10301,1,"小四喜",{"$f":"VLOOKUP(A147,[1]DB_Fish!$A:$G,7,FALSE)","v":10},{"$f":"VLOOKUP(A147,[1]DB_Fish!A:D,4,FALSE)","v":"100|100"},"1|1","1|1",29000,0,0]
[8031,1,"寻龙夺宝",{"$f":"VLOOKUP(A148,[1]DB_Fish!$A:$G,7,FALSE)","v":10},{"$f":"VLOOKUP(A148,[1]DB_Fish!A:D,4,FALSE)","v":"100|100"},"1|1","1|1",29200,0,0]
[8033,1,"钻头贝",{"$f":"VLOOKUP(A149,[1]DB_Fish!$A:$G,7,FALSE)","v":10},{"$f":"VLOOKUP(A149,[1]DB_Fish!A:D,4,FALSE)","v":"100|100"},"1|1","1|1",29400,0,0]
[8034,1,"炮台龙虾",{"$f":"VLOOKUP(A150,[1]DB_Fish!$A:$G,7,FALSE)","v":10},{"$f":"VLOOKUP(A150,[1]DB_Fish!A:D,4,FALSE)","v":"100|100"},"1|1","1|1",29600,0,0]
[21051,1,"大鲨鱼",{"$f":"VLOOKUP(A151,[1]DB_Fish!$A:$G,7,FALSE)","v":10},{"$f":"VLOOKUP(A151,[1]DB_Fish!A:D,4,FALSE)","v":"100|100"},"1|1","1|1",29800,0,0]
[2001,1,"全屏炸弹(七星剑)",{"$f":"VLOOKUP(A152,[1]DB_Fish!$A:$G,7,FALSE)","v":10},{"$f":"VLOOKUP(A152,[1]DB_Fish!A:D,4,FALSE)","v":"100|100"},"1|1","1|1",30000,0,0]
[2002,1,"定屏炸弹(忠义堂)",{"$f":"VLOOKUP(A153,[1]DB_Fish!$A:$G,7,FALSE)","v":10},{"$f":"VLOOKUP(A153,[1]DB_Fish!A:D,4,FALSE)","v":"100|100"},"1|1","1|1",30200,0,0]
[2003,1,"局部炸弹(水浒传)",{"$f":"VLOOKUP(A154,[1]DB_Fish!$A:$G,7,FALSE)","v":10},{"$f":"VLOOKUP(A154,[1]DB_Fish!A:D,4,FALSE)","v":"100|100"},"1|1","1|1",30400,0,0]
[2051,1,"一种同类鱼",{"$f":"VLOOKUP(A155,[1]DB_Fish!$A:$G,7,FALSE)","v":10},{"$f":"VLOOKUP(A155,[1]DB_Fish!A:D,4,FALSE)","v":"100|100"},"1|1","1|1",30600,0,0]
[2052,1,"五种同类鱼",{"$f":"VLOOKUP(A156,[1]DB_Fish!$A:$G,7,FALSE)","v":10},{"$f":"VLOOKUP(A156,[1]DB_Fish!A:D,4,FALSE)","v":"100|100"},"1|1","1|1",30800,0,0]
[3053,1,"银龙",{"$f":"VLOOKUP(A157,[1]DB_Fish!$A:$G,7,FALSE)","v":10},{"$f":"VLOOKUP(A157,[1]DB_Fish!A:D,4,FALSE)","v":"100|100"},"1|1","1|1",31000,0,0]
[4003,1,"全屏炸弹(万佛朝宗)",{"$f":"VLOOKUP(A158,[1]DB_Fish!$A:$G,7,FALSE)","v":10},{"$f":"VLOOKUP(A158,[1]DB_Fish!A:D,4,FALSE)","v":"100|100"},"1|1","1|1",31200,0,0]
[4004,1,"随机效果(炼丹炉)",{"$f":"VLOOKUP(A159,[1]DB_Fish!$A:$G,7,FALSE)","v":10},{"$f":"VLOOKUP(A159,[1]DB_Fish!A:D,4,FALSE)","v":"100|100"},"1|1","1|1",31400,0,0]
[4051,1,"一种同类鱼",{"$f":"VLOOKUP(A160,[1]DB_Fish!$A:$G,7,FALSE)","v":10},{"$f":"VLOOKUP(A160,[1]DB_Fish!A:D,4,FALSE)","v":"100|100"},"1|1","1|1",31600,0,0]
[4052,1,"两种同类鱼",{"$f":"VLOOKUP(A161,[1]DB_Fish!$A:$G,7,FALSE)","v":10},{"$f":"VLOOKUP(A161,[1]DB_Fish!A:D,4,FALSE)","v":"100|100"},"1|1","1|1",31800,0,0]
[4053,1,"三种同类鱼",{"$f":"VLOOKUP(A162,[1]DB_Fish!$A:$G,7,FALSE)","v":10},{"$f":"VLOOKUP(A162,[1]DB_Fish!A:D,4,FALSE)","v":"100|100"},"1|1","1|1",32000,0,0]
[5058,1,"船",{"$f":"VLOOKUP(A163,[1]DB_Fish!$A:$G,7,FALSE)","v":10},{"$f":"VLOOKUP(A163,[1]DB_Fish!A:D,4,FALSE)","v":"100|100"},"1|1","1|1",32200,0,0]
[6002,1,"炼丹炉(随机炸弹)",{"$f":"VLOOKUP(A164,[1]DB_Fish!$A:$G,7,FALSE)","v":10},{"$f":"VLOOKUP(A164,[1]DB_Fish!A:D,4,FALSE)","v":"100|100"},"1|1","1|1",32400,0,0]
[6003,1,"全屏炸弹",{"$f":"VLOOKUP(A165,[1]DB_Fish!$A:$G,7,FALSE)","v":10},{"$f":"VLOOKUP(A165,[1]DB_Fish!A:D,4,FALSE)","v":"100|100"},"1|1","1|1",32600,0,0]
[6051,1,"一种同类鱼",{"$f":"VLOOKUP(A166,[1]DB_Fish!$A:$G,7,FALSE)","v":10},{"$f":"VLOOKUP(A166,[1]DB_Fish!A:D,4,FALSE)","v":"100|100"},"1|1","1|1",32800,0,0]
[6052,1,"两种同类鱼",{"$f":"VLOOKUP(A167,[1]DB_Fish!$A:$G,7,FALSE)","v":10},{"$f":"VLOOKUP(A167,[1]DB_Fish!A:D,4,FALSE)","v":"100|100"},"1|1","1|1",33000,0,0]
[6053,1,"三种同类鱼",{"$f":"VLOOKUP(A168,[1]DB_Fish!$A:$G,7,FALSE)","v":10},{"$f":"VLOOKUP(A168,[1]DB_Fish!A:D,4,FALSE)","v":"100|100"},"1|1","1|1",33200,0,0]
[6054,1,"五种同类鱼",{"$f":"VLOOKUP(A169,[1]DB_Fish!$A:$G,7,FALSE)","v":10},{"$f":"VLOOKUP(A169,[1]DB_Fish!A:D,4,FALSE)","v":"100|100"},"1|1","1|1",33400,0,0]
[7056,1,"寒冰水母",{"$f":"VLOOKUP(A170,[1]DB_Fish!$A:$G,7,FALSE)","v":10},{"$f":"VLOOKUP(A170,[1]DB_Fish!A:D,4,FALSE)","v":"110|110"},"1|1","1|1",33600,0,0]
[7058,1,"章鱼保罗",{"$f":"VLOOKUP(A171,[1]DB_Fish!$A:$G,7,FALSE)","v":10},{"$f":"VLOOKUP(A171,[1]DB_Fish!A:D,4,FALSE)","v":"110|110"},"1|1","1|1",33800,0,0]
[11054,1,"银双头鲨",{"$f":"VLOOKUP(A172,[1]DB_Fish!$A:$G,7,FALSE)","v":10},{"$f":"VLOOKUP(A172,[1]DB_Fish!A:D,4,FALSE)","v":"120|120"},"1|1","1|1",34000,0,0]
[7059,1,"黄金鲨",{"$f":"VLOOKUP(A173,[1]DB_Fish!$A:$G,7,FALSE)","v":10},{"$f":"VLOOKUP(A173,[1]DB_Fish!A:D,4,FALSE)","v":"120|120"},"1|1","1|1",34200,0,0]
[7060,1,"金沙水母",{"$f":"VLOOKUP(A174,[1]DB_Fish!$A:$G,7,FALSE)","v":10},{"$f":"VLOOKUP(A174,[1]DB_Fish!A:D,4,FALSE)","v":"120|120"},"1|1","1|1",34400,0,0]
[3054,1,"金龙",{"$f":"VLOOKUP(A175,[1]DB_Fish!$A:$G,7,FALSE)","v":10},{"$f":"VLOOKUP(A175,[1]DB_Fish!A:D,4,FALSE)","v":"120|120"},"1|1","1|1",34600,0,0]
[5053,1,"章鱼",{"$f":"VLOOKUP(A176,[1]DB_Fish!$A:$G,7,FALSE)","v":10},{"$f":"VLOOKUP(A176,[1]DB_Fish!A:D,4,FALSE)","v":"120|120"},"1|1","1|1",34800,0,0]
[11061,1,"金蟾",{"$f":"VLOOKUP(A177,[1]DB_Fish!$A:$G,7,FALSE)","v":10},{"$f":"VLOOKUP(A177,[1]DB_Fish!A:D,4,FALSE)","v":"140|140"},"1|1","1|1",35000,0,0]
[11062,1,"金龟",{"$f":"VLOOKUP(A178,[1]DB_Fish!$A:$G,7,FALSE)","v":10},{"$f":"VLOOKUP(A178,[1]DB_Fish!A:D,4,FALSE)","v":"140|140"},"1|1","1|1",35200,0,0]
[7061,1,"金龙鱼",{"$f":"VLOOKUP(A179,[1]DB_Fish!$A:$G,7,FALSE)","v":10},{"$f":"VLOOKUP(A179,[1]DB_Fish!A:D,4,FALSE)","v":"140|140"},"1|1","1|1",35400,0,0]
[7062,1,"中华金鲎",{"$f":"VLOOKUP(A180,[1]DB_Fish!$A:$G,7,FALSE)","v":10},{"$f":"VLOOKUP(A180,[1]DB_Fish!A:D,4,FALSE)","v":"140|140"},"1|1","1|1",35600,0,0]
[10401,1,"大四喜",{"$f":"VLOOKUP(A181,[1]DB_Fish!$A:$G,7,FALSE)","v":10},{"$f":"VLOOKUP(A181,[1]DB_Fish!A:D,4,FALSE)","v":"150|150"},"1|1","1|1",35800,0,0]
[1051,1,"金鲸",{"$f":"VLOOKUP(A182,[1]DB_Fish!$A:$G,7,FALSE)","v":10},{"$f":"VLOOKUP(A182,[1]DB_Fish!A:D,4,FALSE)","v":"150|150"},"1|1","1|1",36000,0,0]
[5056,1,"金鲸",{"$f":"VLOOKUP(A183,[1]DB_Fish!$A:$G,7,FALSE)","v":10},{"$f":"VLOOKUP(A183,[1]DB_Fish!A:D,4,FALSE)","v":"150|150"},"1|1","1|1",36200,0,0]
[11063,1,"金龙鱼",{"$f":"VLOOKUP(A184,[1]DB_Fish!$A:$G,7,FALSE)","v":10},{"$f":"VLOOKUP(A184,[1]DB_Fish!A:D,4,FALSE)","v":"160|160"},"1|1","1|1",36400,0,0]
[11064,1,"金双头鲨",{"$f":"VLOOKUP(A185,[1]DB_Fish!$A:$G,7,FALSE)","v":10},{"$f":"VLOOKUP(A185,[1]DB_Fish!A:D,4,FALSE)","v":"160|160"},"1|1","1|1",36600,0,0]
[7063,1,"银龙",{"$f":"VLOOKUP(A186,[1]DB_Fish!$A:$G,7,FALSE)","v":10},{"$f":"VLOOKUP(A186,[1]DB_Fish!A:D,4,FALSE)","v":"160|160"},"1|1","1|1",36800,0,0]
[7065,1,"金龙",{"$f":"VLOOKUP(A187,[1]DB_Fish!$A:$G,7,FALSE)","v":10},{"$f":"VLOOKUP(A187,[1]DB_Fish!A:D,4,FALSE)","v":"160|160"},"1|1","1|1",37000,0,0]
[7064,1,"食人鱼",{"$f":"VLOOKUP(A188,[1]DB_Fish!$A:$G,7,FALSE)","v":10},{"$f":"VLOOKUP(A188,[1]DB_Fish!A:D,4,FALSE)","v":"180|180"},"1|1","1|1",37200,0,0]
[4001,1,"孙悟空",{"$f":"VLOOKUP(A189,[1]DB_Fish!$A:$G,7,FALSE)","v":10},{"$f":"VLOOKUP(A189,[1]DB_Fish!A:D,4,FALSE)","v":"180|180"},"1|1","1|1",37400,0,0]
[5055,1,"金龙",{"$f":"VLOOKUP(A190,[1]DB_Fish!$A:$G,7,FALSE)","v":10},{"$f":"VLOOKUP(A190,[1]DB_Fish!A:D,4,FALSE)","v":"180|180"},"1|1","1|1",37600,0,0]
[21053,1,"鲸鱼",{"$f":"VLOOKUP(A191,[1]DB_Fish!$A:$G,7,FALSE)","v":10},{"$f":"VLOOKUP(A191,[1]DB_Fish!A:D,4,FALSE)","v":"200|200"},"1|1","1|1",37800,0,0]
[4002,1,"玉皇大帝",{"$f":"VLOOKUP(A192,[1]DB_Fish!$A:$G,7,FALSE)","v":10},{"$f":"VLOOKUP(A192,[1]DB_Fish!A:D,4,FALSE)","v":"200|200"},"1|1","1|1",38000,0,0]
[1052,1,"企鹅",{"$f":"VLOOKUP(A193,[1]DB_Fish!$A:$G,7,FALSE)","v":10},{"$f":"VLOOKUP(A193,[1]DB_Fish!A:D,4,FALSE)","v":"220|220"},"1|1","1|1",38200,0,0]
[21054,1,"黄金水母",{"$f":"VLOOKUP(A194,[1]DB_Fish!$A:$G,7,FALSE)","v":10},{"$f":"VLOOKUP(A194,[1]DB_Fish!A:D,4,FALSE)","v":"250|250"},"1|1","1|1",38400,0,0]
[12001,1,"大章鱼",{"$f":"VLOOKUP(A195,[1]DB_Fish!$A:$G,7,FALSE)","v":10},{"$f":"VLOOKUP(A195,[1]DB_Fish!A:D,4,FALSE)","v":"300|300"},"1|1","1|1",38600,0,0]
[8012,1,"聚宝盆",{"$f":"VLOOKUP(A196,[1]DB_Fish!$A:$G,7,FALSE)","v":10},{"$f":"VLOOKUP(A196,[1]DB_Fish!A:D,4,FALSE)","v":"300|300"},"1|1","1|1",38800,0,0]
[8013,1,"章鱼船长",{"$f":"VLOOKUP(A197,[1]DB_Fish!$A:$G,7,FALSE)","v":10},{"$f":"VLOOKUP(A197,[1]DB_Fish!A:D,4,FALSE)","v":"300|300"},"1|1","1|1",{"$f":"H196+200","v":39000},0,0]
[21061,1,"黄金魔鬼鱼",{"$f":"VLOOKUP(A198,[1]DB_Fish!$A:$G,7,FALSE)","v":10},{"$f":"VLOOKUP(A198,[1]DB_Fish!A:D,4,FALSE)","v":"300|300"},"1|1","1|1",39200,0,0]
[21062,1,"金龙鱼",{"$f":"VLOOKUP(A199,[1]DB_Fish!$A:$G,7,FALSE)","v":10},{"$f":"VLOOKUP(A199,[1]DB_Fish!A:D,4,FALSE)","v":"300|300"},"1|1","1|1",39400,0,0]
[2004,1,"李逵",{"$f":"VLOOKUP(A200,[1]DB_Fish!$A:$G,7,FALSE)","v":10},{"$f":"VLOOKUP(A200,[1]DB_Fish!A:D,4,FALSE)","v":"300|300"},"1|1","1|1",39600,0,0]
[6001,1,"金蟾",{"$f":"VLOOKUP(A201,[1]DB_Fish!$A:$G,7,FALSE)","v":10},{"$f":"VLOOKUP(A201,[1]DB_Fish!A:D,4,FALSE)","v":"300|300"},"1|1","1|1",39800,0,0]
[8011,1,"人鱼公主",{"$f":"VLOOKUP(A202,[1]DB_Fish!$A:$G,7,FALSE)","v":10},{"$f":"VLOOKUP(A202,[1]DB_Fish!A:D,4,FALSE)","v":"350|350"},"1|1","1|1",40000,0,0]
[21063,1,"黄金鲨鱼",{"$f":"VLOOKUP(A203,[1]DB_Fish!$A:$G,7,FALSE)","v":10},{"$f":"VLOOKUP(A203,[1]DB_Fish!A:D,4,FALSE)","v":"350|350"},"1|1","1|1",40200,0,0]
[12002,1,"银龙",{"$f":"VLOOKUP(A204,[1]DB_Fish!$A:$G,7,FALSE)","v":10},{"$f":"VLOOKUP(A204,[1]DB_Fish!A:D,4,FALSE)","v":"400|400"},"1|1","1|1",40400,0,0]
[8003,1,"深海龙王",{"$f":"VLOOKUP(A205,[1]DB_Fish!$A:$G,7,FALSE)","v":10},{"$f":"VLOOKUP(A205,[1]DB_Fish!A:D,4,FALSE)","v":"400|400"},"1|1","1|1",40600,0,0]
[8014,1,"海盗船",{"$f":"VLOOKUP(A206,[1]DB_Fish!$A:$G,7,FALSE)","v":10},{"$f":"VLOOKUP(A206,[1]DB_Fish!A:D,4,FALSE)","v":"400|400"},"1|1","1|1",40800,0,0]
[21064,1,"美人鱼",{"$f":"VLOOKUP(A207,[1]DB_Fish!$A:$G,7,FALSE)","v":10},{"$f":"VLOOKUP(A207,[1]DB_Fish!A:D,4,FALSE)","v":"400|400"},"1|1","1|1",41000,0,0]
[12004,1,"章鱼",{"$f":"VLOOKUP(A208,[1]DB_Fish!$A:$G,7,FALSE)","v":10},{"$f":"VLOOKUP(A208,[1]DB_Fish!A:D,4,FALSE)","v":"500|500"},"1|1","1|1",41200,0,0]
[1053,1,"银龙",{"$f":"VLOOKUP(A209,[1]DB_Fish!$A:$G,7,FALSE)","v":10},{"$f":"VLOOKUP(A209,[1]DB_Fish!A:D,4,FALSE)","v":"100|200"},"1|1","1|1",41400,0,0]
[1054,1,"金龙",{"$f":"VLOOKUP(A210,[1]DB_Fish!$A:$G,7,FALSE)","v":10},{"$f":"VLOOKUP(A210,[1]DB_Fish!A:D,4,FALSE)","v":"150|300"},"1|1","1|1",41600,0,0]
[1001,2,"蝴蝶鱼",{"$f":"VLOOKUP(A211,[1]DB_Fish!$A:$G,7,FALSE)","v":10},{"$f":"VLOOKUP(A211,[1]DB_Fish!A:D,4,FALSE)","v":"2|2"},"1|1","1|1",13000,0,0]
[1002,2,"双色草莓鱼",{"$f":"VLOOKUP(A212,[1]DB_Fish!$A:$G,7,FALSE)","v":10},{"$f":"VLOOKUP(A212,[1]DB_Fish!A:D,4,FALSE)","v":"2|2"},"1|2","1|1",13000,0,0]
[1003,2,"小黄鱼",{"$f":"VLOOKUP(A213,[1]DB_Fish!$A:$G,7,FALSE)","v":10},{"$f":"VLOOKUP(A213,[1]DB_Fish!A:D,4,FALSE)","v":"3|3"},"1|3","1|2",13000,0,0]
[1004,2,"小锦鲤",{"$f":"VLOOKUP(A214,[1]DB_Fish!$A:$G,7,FALSE)","v":10},{"$f":"VLOOKUP(A214,[1]DB_Fish!A:D,4,FALSE)","v":"4|4"},"2|3","1|2",13000,0,0]
[1001,3,"蝴蝶鱼",{"$f":"VLOOKUP(A215,[1]DB_Fish!$A:$G,7,FALSE)","v":10},{"$f":"VLOOKUP(A215,[1]DB_Fish!A:D,4,FALSE)","v":"2|2"},"1|1","1|1",13000,0,0]
[1002,3,"双色草莓鱼",{"$f":"VLOOKUP(A216,[1]DB_Fish!$A:$G,7,FALSE)","v":10},{"$f":"VLOOKUP(A216,[1]DB_Fish!A:D,4,FALSE)","v":"2|2"},"1|2","1|1",13000,0,0]
[1003,3,"小黄鱼",{"$f":"VLOOKUP(A217,[1]DB_Fish!$A:$G,7,FALSE)","v":10},{"$f":"VLOOKUP(A217,[1]DB_Fish!A:D,4,FALSE)","v":"3|3"},"1|3","1|2",13000,0,0]
[1004,3,"小锦鲤",{"$f":"VLOOKUP(A218,[1]DB_Fish!$A:$G,7,FALSE)","v":10},{"$f":"VLOOKUP(A218,[1]DB_Fish!A:D,4,FALSE)","v":"4|4"},"2|3","1|2",13000,0,0]
[1001,4,"蝴蝶鱼",{"$f":"VLOOKUP(A219,[1]DB_Fish!$A:$G,7,FALSE)","v":10},{"$f":"VLOOKUP(A219,[1]DB_Fish!A:D,4,FALSE)","v":"2|2"},"1|1","1|1",13000,0,0]
[1002,4,"双色草莓鱼",{"$f":"VLOOKUP(A220,[1]DB_Fish!$A:$G,7,FALSE)","v":10},{"$f":"VLOOKUP(A220,[1]DB_Fish!A:D,4,FALSE)","v":"2|2"},"1|2","1|1",13000,0,0]
[1003,4,"小黄鱼",{"$f":"VLOOKUP(A221,[1]DB_Fish!$A:$G,7,FALSE)","v":10},{"$f":"VLOOKUP(A221,[1]DB_Fish!A:D,4,FALSE)","v":"3|3"},"1|3","1|2",13000,0,0]
[1004,4,"小锦鲤",{"$f":"VLOOKUP(A222,[1]DB_Fish!$A:$G,7,FALSE)","v":10},{"$f":"VLOOKUP(A222,[1]DB_Fish!A:D,4,FALSE)","v":"4|4"},"2|3","1|2",13000,0,10004]

{"sheet":"Sheet2","index":1,"n_rows":208,"n_cols":16,"rows_kept":208}
["新手渔村",1,null,"编号","名称","名称英文","金币",null,null,1001,"小刺鱼",1,2,null,1001,"小刺鱼"]
["藏宝秘境",2,null,1001,"小刺鱼",1,2,null,null,1002,"小草鱼",1,2,null,1002,"小草鱼"]
["东海龙宫",3,null,1002,"小草鱼",1,2,null,null,1003,"小黄鱼",1,3,null,1003,"小黄鱼"]
["海怪深渊",4,null,1003,"小黄鱼",1,3,null,null,1004,"泡泡鱼",1,4,null,1004,"泡泡鱼"]
[{"$nulls":3},1004,"泡泡鱼",1,4,null,null,1005,"小紫鱼",1,5,null,1005,"小紫鱼"]
[{"$nulls":3},1005,"小紫鱼",1,5,null,null,1006,"尼莫",1,6,null,1006,"尼莫"]
[{"$nulls":3},1006,"尼莫",1,6,null,null,1007,"河豚",1,7,null,1007,"河豚"]
[{"$nulls":3},1007,"河豚",1,7,null,null,1008,"蓝鱼",1,8,null,1008,"蓝鱼"]
[{"$nulls":3},1008,"蓝鱼",1,8,null,null,1009,"灯笼鱼",1,9,null,1009,"灯笼鱼"]
[{"$nulls":3},1009,"灯笼鱼",1,9,null,null,1010,"乌龟",1,10,null,1010,"乌龟"]
[{"$nulls":3},1010,"乌龟",1,10,null,null,1011,"神仙鱼",1,12,null,1011,"神仙鱼"]
[{"$nulls":3},1011,"神仙鱼",1,12,null,null,1012,"蝴蝶鱼",1,15,null,1012,"蝴蝶鱼"]
[{"$nulls":3},1012,"蝴蝶鱼",1,15,null,null,1013,"孔雀鱼",1,18,null,1013,"孔雀鱼"]
[{"$nulls":3},1013,"孔雀鱼",1,18,null,null,1014,"剑鱼",1,20,null,1014,"剑鱼"]
[{"$nulls":3},1014,"剑鱼",1,20,null,null,1015,"蝙蝠鱼",1,25,null,1015,"蝙蝠鱼"]
[{"$nulls":3},1015,"蝙蝠鱼",1,25,null,null,1016,"海草",1,10,null,1016,"海草"]
[{"$nulls":3},1016,"海草",1,10,null,null,1017,"大白鲨",1,30,null,1017,"大白鲨"]
[{"$nulls":3},1017,"大白鲨",1,30,null,null,1018,"大金鲨",1,40,null,1018,"大金鲨"]
[{"$nulls":3},1018,"大金鲨",1,40,null,null,1051,"金鲸",1,150,null,1051,"金鲸"]
[{"$nulls":3},1051,"金鲸",1,150,null,null,1052,"企鹅",1,220,null,1052,"企鹅"]
[{"$nulls":3},1052,"企鹅",1,220,null,null,1053,"银龙",1,70,null,1053,"银龙"]
[{"$nulls":3},1053,"银龙",1,70,null,null,1054,"金龙",1,180,null,1054,"金龙"]
[{"$nulls":3},1054,"金龙",1,180,null,null,2001,"全屏炸弹(七星剑)",1,100,null,2001,"全屏炸弹(七星剑)"]
[{"$nulls":3},2001,"全屏炸弹(七星剑)",1,100,null,null,2002,"定屏炸弹(忠义堂)",1,100,null,2002,"定屏炸弹(忠义堂)"]
[{"$nulls":3},2002,"定屏炸弹(忠义堂)",1,100,null,null,2003,"局部炸弹(水浒传)",1,100,null,2003,"局部炸弹(水浒传)"]
[{"$nulls":3},2003,"局部炸弹(水浒传)",1,100,null,null,2051,"一种同类鱼",1,100,null,2004,"李逵"]
[{"$nulls":3},2004,"李逵",1,300,null,null,2052,"五种同类鱼",1,100,null,2051,"一种同类鱼"]
[{"$nulls":3},2051,"一种同类鱼",1,100,{"$nulls":7},2052,"五种同类鱼"]
[{"$nulls":3},2052,"五种同类鱼",1,100,{"$nulls":7},3001,"小虾米"]
[{"$nulls":3},3001,"小虾米",null,1,{"$nulls":7},3002,"小草鱼"]
[{"$nulls":3},3002,"小草鱼",1,2,{"$nulls":7},3003,"小黄鱼"]
[{"$nulls":3},3003,"小黄鱼",1,4,{"$nulls":7},3004,"泡泡鱼"]
[{"$nulls":3},3004,"泡泡鱼",1,5,{"$nulls":7},3005,"小紫鱼"]
[{"$nulls":3},3005,"小紫鱼",1,6,{"$nulls":7},3006,"尼莫"]
[{"$nulls":3},3006,"尼莫",1,7,{"$nulls":7},3007,"河豚"]
[{"$nulls":3},3007,"河豚",1,8,{"$nulls":7},3008,"蓝鱼"]
[{"$nulls":3},3008,"蓝鱼",1,10,{"$nulls":7},3009,"灯笼鱼"]
[{"$nulls":3},3009,"灯笼鱼",1,12,{"$nulls":7},3010,"乌龟"]
[{"$nulls":3},3010,"乌龟",1,15,{"$nulls":7},3011,"神仙鱼"]
[{"$nulls":3},3011,"神仙鱼",1,18,{"$nulls":7},3012,"剑鱼"]
[{"$nulls":3},3012,"剑鱼",1,20,{"$nulls":7},3013,"蝙蝠鱼"]
[{"$nulls":3},3013,"蝙蝠鱼",1,25,{"$nulls":7},3014,"大白鲨"]
[{"$nulls":3},3014,"大白鲨",1,30,{"$nulls":7},3015,"大金鲨"]
[{"$nulls":3},3015,"大金鲨",1,35,{"$nulls":7},3051,"船"]
[{"$nulls":3},3051,"船",1,50,{"$nulls":7},3052,"美人鱼"]
[{"$nulls":3},3052,"美人鱼",1,75,{"$nulls":7},3053,"银龙"]
[{"$nulls":3},3053,"银龙",1,100,{"$nulls":7},3054,"金龙"]
[{"$nulls":3},3054,"金龙",1,120,{"$nulls":7},4001,"孙悟空"]
[{"$nulls":3},4001,"孙悟空",1,180,{"$nulls":7},4002,"玉皇大帝"]
[{"$nulls":3},4002,"玉皇大帝",1,200,{"$nulls":7},4003,"全屏炸弹(万佛朝宗)"]
[{"$nulls":3},4003,"全屏炸弹(万佛朝宗)",1,100,{"$nulls":7},4004,"随机效果(炼丹炉)"]
[{"$nulls":3},4004,"随机效果(炼丹炉)",1,100,{"$nulls":7},4051,"一种同类鱼"]
[{"$nulls":3},4051,"一种同类鱼",1,100,{"$nulls":7},4052,"两种同类鱼"]
[{"$nulls":3},4052,"两种同类鱼",1,100,{"$nulls":7},4053,"三种同类鱼"]
[{"$nulls":3},4053,"三种同类鱼",1,100,{"$nulls":7},5001,"小刺鱼"]
[{"$nulls":3},5051,"企鹅",1,50,{"$nulls":7},5002,"小草鱼"]
[{"$nulls":3},5052,"蓝海豚",null,60,{"$nulls":7},5003,"小黄鱼"]
[{"$nulls":3},5053,"章鱼",1,120,{"$nulls":7},5004,"泡泡鱼"]
[{"$nulls":3},5057,"美人鱼",null,80,{"$nulls":7},5005,"小紫鱼"]
[{"$nulls":3},5058,"船",1,100,{"$nulls":7},5006,"尼莫"]
[{"$nulls":3},6001,"金蟾",1,300,{"$nulls":7},5007,"河豚"]
[{"$nulls":3},6002,"炼丹炉(随机炸弹)",1,100,{"$nulls":7},5008,"蓝鱼"]
[{"$nulls":3},6003,"全屏炸弹",1,100,{"$nulls":7},5009,"灯笼鱼"]
[{"$nulls":3},6052,"两种同类鱼",1,100,{"$nulls":7},5010,"乌龟"]
[{"$nulls":3},6053,"三种同类鱼",1,100,{"$nulls":7},5011,"神仙鱼"]
[{"$nulls":3},11001,"沙丁鱼",1,2,{"$nulls":7},5012,"蝴蝶鱼"]
[{"$nulls":3},11002,"小丑鱼",1,2,{"$nulls":7},5013,"孔雀鱼"]
[{"$nulls":3},11003,"蓝藻鱼",1,3,{"$nulls":7},5014,"剑鱼"]
[{"$nulls":3},11004,"红斗鱼",1,4,{"$nulls":7},5015,"蝙蝠鱼"]
[{"$nulls":3},11005,"蓝斗鱼",1,4,{"$nulls":7},5016,"海草"]
[{"$nulls":3},11006,"小墨鱼",1,5,{"$nulls":7},5017,"大白鲨"]
[{"$nulls":3},11007,"气球鱼",1,5,{"$nulls":7},5018,"大金鲨"]
[{"$nulls":3},11008,"粉水母",1,8,{"$nulls":7},5051,"企鹅"]
[{"$nulls":3},11009,"螃蟹",1,8,{"$nulls":7},5052,"蓝海豚"]
[{"$nulls":3},11010,"灯笼鱼",1,10,{"$nulls":7},5053,"章鱼"]
[{"$nulls":3},11011,"乌龟",1,10,{"$nulls":7},5054,"银龙"]
[{"$nulls":3},11012,"神仙鱼",1,12,{"$nulls":7},5055,"金龙"]
[{"$nulls":3},11013,"蝴蝶鱼",1,14,{"$nulls":7},5056,"金鲸"]
[{"$nulls":3},11014,"海星",1,16,{"$nulls":7},5057,"美人鱼"]
[{"$nulls":3},11015,"剑鱼",1,18,{"$nulls":7},5058,"船"]
[{"$nulls":3},11016,"魔鬼鱼",1,20,{"$nulls":7},6001,"金蟾"]
[{"$nulls":3},11017,"鳌虾",1,20,{"$nulls":7},6002,"炼丹炉(随机炸弹)"]
[{"$nulls":3},11018,"贝壳",1,25,{"$nulls":7},6003,"全屏炸弹"]
[{"$nulls":3},11019,"海马",1,25,{"$nulls":7},6051,"一种同类鱼"]
[{"$nulls":3},11020,"海鳗",1,30,{"$nulls":7},6052,"两种同类鱼"]
[{"$nulls":3},11021,"闪电鱼",1,40,{"$nulls":7},6053,"三种同类鱼"]
[{"$nulls":3},11051,"鲨鱼",1,60,{"$nulls":7},6054,"五种同类鱼"]
[{"$nulls":3},11052,"盔甲鱼",1,80,{"$nulls":7},11001,"沙丁鱼"]
[{"$nulls":3},11053,"银龙鱼",1,100,{"$nulls":7},11002,"小丑鱼"]
[{"$nulls":3},11054,"银双头鲨",1,120,{"$nulls":7},11003,"蓝藻鱼"]
[{"$nulls":3},11061,"金蟾",1,140,{"$nulls":7},11004,"红斗鱼"]
[{"$nulls":3},11062,"金龟",1,140,{"$nulls":7},11005,"蓝斗鱼"]
[{"$nulls":3},11063,"金龙鱼",1,160,{"$nulls":7},11006,"小墨鱼"]
[{"$nulls":3},11064,"金双头鲨",1,160,{"$nulls":7},11007,"气球鱼"]
[{"$nulls":3},12001,"大章鱼",1,300,{"$nulls":7},11008,"粉水母"]
[{"$nulls":3},12002,"银龙",1,400,{"$nulls":7},11009,"螃蟹"]
[{"$nulls":3},12004,"章鱼",1,500,{"$nulls":7},11010,"灯笼鱼"]
[{"$nulls":3},13001,"炸弹海马",1,100,{"$nulls":7},11011,"乌龟"]
[{"$nulls":3},10101,"小三元",1,60,{"$nulls":7},11012,"神仙鱼"]
[{"$nulls":3},10201,"大三元",1,100,{"$nulls":7},11013,"蝴蝶鱼"]
[{"$nulls":3},10301,"小四喜",1,100,{"$nulls":7},11014,"海星"]
[{"$nulls":3},10401,"大四喜",1,150,{"$nulls":7},11015,"剑鱼"]
[{"$nulls":3},10501,"一网打尽",1,20,{"$nulls":7},11016,"魔鬼鱼"]
[{"$nulls":3},11601,"财富鱼",1,50,{"$nulls":7},11017,"鳌虾"]
[{"$nulls":3},7001,"小彩鱼",1,2,{"$nulls":7},11018,"贝壳"]
[{"$nulls":3},7002,"天使鱼",1,2,{"$nulls":7},11019,"海马"]
[{"$nulls":3},7004,"车旗鱼",1,3,{"$nulls":7},11020,"海鳗"]
[{"$nulls":3},7005,"蓝金枪鱼",1,4,{"$nulls":7},11021,"闪电鱼"]
[{"$nulls":3},7006,"小丑鱼",1,4,{"$nulls":7},11051,"鲨鱼"]
[{"$nulls":3},7007,"小乌贼",1,5,{"$nulls":7},11052,"盔甲鱼"]
[{"$nulls":3},7008,"星光鱼",1,5,{"$nulls":7},11053,"银龙鱼"]
[{"$nulls":3},7009,"小螃蟹",1,6,{"$nulls":7},11054,"银双头鲨"]
[{"$nulls":3},7010,"龙虾",1,6,{"$nulls":7},11061,"金蟾"]
[{"$nulls":3},7011,"深海鱿鱼",1,7,{"$nulls":7},11062,"金龟"]
[{"$nulls":3},7012,"大眼鱼",1,10,{"$nulls":7},11063,"金龙鱼"]
[{"$nulls":3},7013,"蝴蝶鱼",1,12,{"$nulls":7},11064,"金双头鲨"]
[{"$nulls":3},7014,"魔鬼鱼",null,14,{"$nulls":7},12001,"大章鱼"]
[{"$nulls":3},7015,"灯笼鱼",1,16,{"$nulls":7},12002,"银龙"]
[{"$nulls":3},7016,"红杉鱼",1,18,{"$nulls":7},12004,"章鱼"]
[{"$nulls":3},7017,"河豚鱼",1,20,{"$nulls":7},13001,"炸弹海马"]
[{"$nulls":3},7018,"红金枪鱼",1,20,{"$nulls":7},10101,"小三元"]
[{"$nulls":3},7019,"孔雀鱼",null,25,{"$nulls":7},10201,"大三元"]
[{"$nulls":3},7020,"剑鱼",1,25,{"$nulls":7},10301,"小四喜"]
[{"$nulls":3},7021,"小海豹",1,30,{"$nulls":7},10401,"大四喜"]
[{"$nulls":3},7022,"锯齿鱼",1,30,{"$nulls":7},10501,"一网打尽"]
[{"$nulls":3},7051,"海马",1,45,{"$nulls":7},10502,"一网打尽"]
[{"$nulls":3},7052,"尖齿鲸",1,55,{"$nulls":7},10503,"一网打尽"]
[{"$nulls":3},7053,"大蓝鲸",1,35,{"$nulls":7},10504,"一网打尽"]
[{"$nulls":3},7054,"大蓝鲨",1,50,{"$nulls":7},10505,"一网打尽"]
[{"$nulls":3},7055,"锤头鲨",1,60,{"$nulls":7},11601,"财富鱼"]
[{"$nulls":3},7056,"寒冰水母",1,110,{"$nulls":7},7001,"小彩鱼"]
[{"$nulls":3},7057,"虎鲸",1,40,{"$nulls":7},7002,"天使鱼"]
[{"$nulls":3},7058,"章鱼保罗",1,110,{"$nulls":7},7003,"小黄鱼"]
[{"$nulls":3},7059,"黄金鲨",1,120,{"$nulls":7},7004,"车旗鱼"]
[{"$nulls":3},7060,"金沙水母",1,120,{"$nulls":7},7005,"蓝金枪鱼"]
[{"$nulls":3},7061,"金龙鱼",1,140,{"$nulls":7},7006,"小丑鱼"]
[{"$nulls":3},7062,"中华金鲎",1,140,{"$nulls":7},7007,"小乌贼"]
[{"$nulls":3},7063,"银龙",1,160,{"$nulls":7},7008,"星光鱼"]
[{"$nulls":3},7064,"食人鱼",1,180,{"$nulls":7},7009,"小螃蟹"]
[{"$nulls":3},7065,"金龙",1,160,{"$nulls":7},7010,"龙虾"]
[{"$nulls":3},8001,"冰冻鱼",1,15,{"$nulls":7},7011,"深海鱿鱼"]
[{"$nulls":3},8002,"电鳗",1,20,{"$nulls":7},7012,"大眼鱼"]
[{"$nulls":3},8003,"深海龙王",null,400,{"$nulls":7},7013,"蝴蝶鱼"]
[{"$nulls":3},8011,"人鱼公主",null,350,{"$nulls":7},7014,"魔鬼鱼"]
[{"$nulls":3},8012,"聚宝盆",null,300,{"$nulls":7},7015,"灯笼鱼"]
[{"$nulls":3},8013,"章鱼船长",null,300,{"$nulls":7},7016,"红杉鱼"]
[{"$nulls":3},8014,"海盗船",null,400,{"$nulls":7},7017,"河豚鱼"]
[{"$nulls":3},8031,"寻龙夺宝",null,100,{"$nulls":7},7018,"红金枪鱼"]
[{"$nulls":3},8033,"钻头贝",null,100,{"$nulls":7},7019,"孔雀鱼"]
[{"$nulls":3},8034,"炮台龙虾",null,100,{"$nulls":7},7020,"剑鱼"]
[{"$nulls":3},8051,"组合鱼阵4",null,30,{"$nulls":7},7021,"小海豹"]
[{"$nulls":3},8053,"组合鱼阵6",null,40,{"$nulls":7},7022,"锯齿鱼"]
[{"$nulls":3},8054,"组合鱼阵6",null,30,{"$nulls":7},7051,"海马"]
[{"$nulls":3},21001,"鲽鱼",1,2,{"$nulls":7},7052,"尖齿鲸"]
[{"$nulls":3},21002,"虾虎鱼",1,3,{"$nulls":7},7053,"大蓝鲸"]
[{"$nulls":3},21003,"兔子鱼",1,4,{"$nulls":7},7054,"大蓝鲨"]
[{"$nulls":3},21004,"小丑鱼",1,5,{"$nulls":7},7055,"锤头鲨"]
[{"$nulls":3},21005,"神仙鱼",1,6,{"$nulls":7},7056,"寒冰水母"]
[{"$nulls":3},21006,"孔雀鱼",1,7,{"$nulls":7},7057,"虎鲸"]
[{"$nulls":3},21007,"星鱼",1,8,{"$nulls":7},7058,"章鱼保罗"]
[{"$nulls":3},21008,"海马",1,10,{"$nulls":7},7059,"黄金鲨"]
[{"$nulls":3},21009,"宝石鱼",1,10,{"$nulls":7},7060,"金沙水母"]
[{"$nulls":3},21011,"食人鱼",1,15,{"$nulls":7},7061,"金龙鱼"]
[{"$nulls":3},21012,"熊猫鱼",1,18,{"$nulls":7},7062,"中华金鲎"]
[{"$nulls":3},21013,"海龟",1,20,{"$nulls":7},7063,"银龙"]
[{"$nulls":3},21014,"狮子鱼",1,25,{"$nulls":7},7064,"食人鱼"]
[{"$nulls":3},21015,"旗鱼",1,25,{"$nulls":7},7065,"金龙"]
[{"$nulls":3},21016,"水母",1,30,{"$nulls":7},8001,"冰冻鱼"]
[{"$nulls":3},21017,"魔鬼鱼",1,30,{"$nulls":7},8002,"电鳗"]
[{"$nulls":3},21018,"海豚",1,40,{"$nulls":7},8003,"深海龙王"]
[{"$nulls":3},21019,"锤头鲨",1,50,{"$nulls":7},8011,"人鱼公主"]
[{"$nulls":3},21051,"大鲨鱼",1,100,{"$nulls":7},8012,"聚宝盆"]
[{"$nulls":3},21053,"鲸鱼",1,200,{"$nulls":7},8013,"章鱼船长"]
[{"$nulls":3},21054,"黄金水母",1,250,{"$nulls":7},8014,"海盗船"]
[{"$nulls":3},21061,"黄金魔鬼鱼",1,300,{"$nulls":7},8031,"寻龙夺宝"]
[{"$nulls":3},21062,"金龙鱼",1,300,{"$nulls":7},8033,"钻头贝"]
[{"$nulls":3},21063,"黄金鲨鱼",1,350,{"$nulls":7},8034,"炮台龙虾"]
[{"$nulls":3},21064,"美人鱼",1,400,{"$nulls":7},8051,"组合鱼阵4"]
[{"$nulls":14},8052,"组合鱼阵4"]
[{"$nulls":14},8053,"组合鱼阵6"]
[{"$nulls":14},8054,"组合鱼阵6"]
[{"$nulls":14},8055,"组合鱼阵6"]
[{"$nulls":14},8056,"组合鱼阵6"]
[{"$nulls":14},21001,"鲽鱼"]
[{"$nulls":14},21002,"虾虎鱼"]
[{"$nulls":14},21003,"兔子鱼"]
[{"$nulls":14},21004,"小丑鱼"]
[{"$nulls":14},21005,"神仙鱼"]
[{"$nulls":14},21006,"孔雀鱼"]
[{"$nulls":14},21007,"星鱼"]
[{"$nulls":14},21008,"海马"]
[{"$nulls":14},21009,"宝石鱼"]
[{"$nulls":14},21011,"食人鱼"]
[{"$nulls":14},21012,"熊猫鱼"]
[{"$nulls":14},21013,"海龟"]
[{"$nulls":14},21014,"狮子鱼"]
[{"$nulls":14},21015,"旗鱼"]
[{"$nulls":14},21016,"水母"]
[{"$nulls":14},21017,"魔鬼鱼"]
[{"$nulls":14},21018,"海豚"]
[{"$nulls":14},21019,"锤头鲨"]
[{"$nulls":14},21051,"大鲨鱼"]
[{"$nulls":14},21053,"鲸鱼"]
[{"$nulls":14},21054,"黄金水母"]
[{"$nulls":14},21061,"黄金魔鬼鱼"]
[{"$nulls":14},21062,"金龙鱼"]
[{"$nulls":14},21063,"黄金鲨鱼"]
[{"$nulls":14},21064,"美人鱼"]

{"sheet":"Sheet3","index":2,"n_rows":12,"n_cols":10,"rows_kept":12}
[1001,2,"蝴蝶鱼",2,{"$f":"VLOOKUP(A1,Sheet3!A$1:D$12,4,FALSE)","v":2},"1|1","1|1",13000,0,0]
[1002,2,"双色草莓鱼",2,{"$f":"VLOOKUP(A2,Sheet3!A$1:D$12,4,FALSE)","v":2},"1|2","1|1",13000,0,0]
[1003,2,"小黄鱼",3,{"$f":"VLOOKUP(A3,Sheet3!A$1:D$12,4,FALSE)","v":3},"1|3","1|2",13000,0,0]
[1004,2,"小锦鲤",4,{"$f":"VLOOKUP(A4,Sheet3!A$1:D$12,4,FALSE)","v":4},"2|3","1|2",13000,0,0]
[1001,3,"蝴蝶鱼",2,{"$f":"VLOOKUP(A5,Sheet3!A$1:D$12,4,FALSE)","v":2},"1|1","1|1",13000,0,0]
[1002,3,"双色草莓鱼",2,{"$f":"VLOOKUP(A6,Sheet3!A$1:D$12,4,FALSE)","v":2},"1|2","1|1",13000,0,0]
[1003,3,"小黄鱼",3,{"$f":"VLOOKUP(A7,Sheet3!A$1:D$12,4,FALSE)","v":3},"1|3","1|2",13000,0,0]
[1004,3,"小锦鲤",4,{"$f":"VLOOKUP(A8,Sheet3!A$1:D$12,4,FALSE)","v":4},"2|3","1|2",13000,0,0]
[1001,4,"蝴蝶鱼",2,{"$f":"VLOOKUP(A9,Sheet3!A$1:D$12,4,FALSE)","v":2},"1|1","1|1",13000,0,0]
[1002,4,"双色草莓鱼",2,{"$f":"VLOOKUP(A10,Sheet3!A$1:D$12,4,FALSE)","v":2},"1|2","1|1",13000,0,0]
[1003,4,"小黄鱼",3,{"$f":"VLOOKUP(A11,Sheet3!A$1:D$12,4,FALSE)","v":3},"1|3","1|2",13000,0,0]
[1004,4,"小锦鲤",4,{"$f":"VLOOKUP(A12,Sheet3!A$1:D$12,4,FALSE)","v":4},"2|3","1|2",13000,0,10004]