{"text_format":"3","workbook":"xlsx","n_sheets":3,"sheets":["Sheet1","Sheet2","Sheet3"],"read":"whole","date_system":"1900"}

{"sheet":"Sheet1","index":0,"n_rows":5002,"n_cols":3,"rows_kept":5002}
["Id(int)","Time(int)","Price(int)"]
["帧数","时间","倍率"]
[1,0,10054]
[2,167,10068]
[3,334,10082]
[4,501,10096]
[5,668,10110]
[6,834,10124]
[7,1001,10139]
[8,1168,10153]
[9,1335,10167]
[10,1502,10181]
[11,1669,10195]
[12,1836,10210]
[13,2003,10224]
[14,2170,10238]
[15,2337,10253]
[16,2504,10267]
[17,2671,10282]
[18,2838,10296]
[19,3005,10310]
[20,3172,10325]
[21,3339,10339]
[22,3506,10354]
[23,3673,10368]
[24,3840,10383]
[25,4007,10397]
[26,4174,10412]
[27,4341,10426]
[28,4508,10441]
[29,4675,10456]
[30,4842,10470]
[31,5009,10485]
[32,5176,10500]
[33,5344,10514]
[34,5511,10529]
[35,5678,10544]
[36,5845,10559]
[37,6012,10574]
[38,6179,10588]
[39,6346,10603]
[40,6513,10618]
[41,6680,10633]
[42,6847,10648]
[43,7014,10663]
[44,7181,10678]
[45,7348,10693]
[46,7515,10708]
[47,7682,10723]
[48,7849,10738]
[49,8016,10753]
[50,8183,10768]
[51,8350,10783]
[52,8517,10798]
[53,8684,10813]
[54,8851,10828]
[55,9018,10843]
[56,9185,10859]
[57,9352,10874]
[58,9519,10889]
[59,9686,10904]
[60,9853,10920]
[61,10020,10935]
[62,10187,10950]
[63,10354,10966]
[64,10521,10981]
[65,10688,10996]
[66,10855,11012]
[67,11022,11027]
[68,11189,11043]
[69,11356,11058]
[70,11523,11074]
[71,11690,11089]
[72,11857,11105]
[73,12024,11120]
[74,12191,11136]
[75,12358,11151]
[76,12525,11167]
[77,12692,11183]
[78,12859,11198]
[79,13026,11214]
[80,13193,11230]
[81,13360,11245]
[82,13527,11261]
[83,13694,11277]
[84,13860,11293]
[85,14027,11309]
[86,14194,11324]
[87,14361,11340]
[88,14528,11356]
[89,14695,11372]
[90,14862,11388]
[91,15029,11404]
[92,15196,11420]
[93,15363,11436]
[94,15530,11452]
[95,15697,11468]
[96,15864,11484]
[97,16031,11500]
[98,16198,11516]
[99,16365,11532]
[100,16532,11549]
[101,16699,11565]
[102,16866,11581]
[103,17033,11597]
[104,17200,11613]
[105,17367,11630]
[106,17534,11646]
[107,17701,11662]
[108,17868,11679]
[109,18035,11695]
[110,18202,11711]
[111,18369,11728]
[112,18536,11744]
[113,18703,11761]
[114,18870,11777]
[115,19037,11794]
[116,19204,11810]
[117,19371,11827]
[118,19538,11843]
[119,19705,11860]
[120,19872,11877]
[121,20039,11893]
[122,20206,11910]
[123,20373,11927]
[124,20540,11943]
[125,20707,11960]
[126,20874,11977]
[127,21041,11994]
[128,21208,12000]
[129,21375,12027]
[130,21542,12044]
[131,21709,12061]
[132,21876,12078]
[133,22043,12095]
[134,22211,12112]
[135,22378,12129]
[136,22545,12146]
[137,22712,12163]
[138,22879,12180]
[139,23046,12197]
[140,23213,12214]
[141,23380,12231]
[142,23547,12248]
[143,23714,12265]
[144,23881,12282]
[145,24048,12300]
[146,24215,12317]
[147,24382,12334]
[148,24549,12351]
[149,24716,12369]
[150,24883,12386]
[151,25050,12403]
[152,25217,12421]
[153,25384,12438]
[154,25551,12456]
[155,25718,12473]
[156,25885,12491]
[157,26052,12508]
[158,26219,12526]
[159,26386,12543]
[160,26553,12561]
[161,26720,12578]
[162,26887,12596]
[163,27054,12614]
[164,27221,12631]
[165,27388,12649]
[166,27555,12667]
[167,27722,12684]
[168,27889,12702]
[169,28056,12720]
[170,28223,12738]
[171,28390,12756]
[172,28557,12774]
[173,28724,12791]
[174,28891,12809]
[175,29058,12827]
[176,29225,12845]
[177,29392,12863]
[178,29559,12881]
[179,29726,12899]
[180,29893,12917]
[181,30060,12936]
[182,30227,12954]
[183,30394,12972]
[184,30561,12990]
[185,30728,13000]
[186,30895,13026]
[187,31062,13045]
[188,31229,13063]
[189,31396,13081]
[190,31563,13100]
[191,31730,13118]
[192,31897,13136]
[193,32064,13155]
[194,32231,13173]
[195,32398,13192]
[196,32565,13210]
[197,32732,13229]
[198,32899,13247]
[199,33066,13266]
[200,33233,13284]
[201,33400,13303]
[202,33567,13322]
[203,33734,13340]
[204,33901,13359]
[205,34068,13378]
[206,34235,13396]
[207,34402,13415]
[208,34569,13434]
[209,34736,13453]
[210,34903,13472]
[211,35070,13490]
[212,35237,13509]
[213,35404,13528]
[214,35571,13547]
[215,35738,13566]
[216,35905,13585]
[217,36072,13604]
[218,36239,13623]
[219,36406,13642]
[220,36573,13662]
[221,36740,13681]
[222,36907,13700]
[223,37074,13719]
[224,37241,13738]
[225,37408,13758]
[226,37575,13777]
[227,37742,13796]
[228,37909,13815]
[229,38076,13835]
[230,38243,13854]
[231,38410,13874]
[232,38577,13893]
[233,38744,13913]
[234,38911,13932]
[235,39078,13952]
[236,39245,13971]
[237,39412,13991]
[238,39579,14000]
[239,39746,14030]
[240,39913,14050]
[241,40080,14069]
[242,40247,14089]
[243,40414,14109]
[244,40581,14128]
[245,40748,14148]
[246,40915,14168]
[247,41082,14188]
[248,41249,14208]
[249,41416,14228]
[250,41583,14248]
[251,41750,14268]
[252,41917,14288]
[253,42084,14308]
[254,42251,14328]
[255,42418,14348]
[256,42585,14368]
[257,42752,14388]
[258,42919,14408]
[259,43086,14428]
[260,43253,14449]
[261,43420,14469]
[262,43587,14489]
[263,43754,14509]
[264,43921,14530]
[265,44088,14550]
[266,44255,14570]
[267,44422,14591]
[268,44589,14611]
[269,44756,14632]
[270,44923,14652]
[271,45090,14673]
[272,45257,14693]
[273,45424,14714]
[274,45591,14735]
[275,45758,14755]
[276,45925,14776]
[277,46092,14797]
[278,46259,14817]
[279,46426,14838]
[280,46593,14859]
[281,46760,14880]
[282,46927,14901]
[283,47094,14921]
[284,47261,14942]
[285,47428,14963]
[286,47595,14984]
[287,47762,15000]
[288,47929,15026]
[289,48096,15047]
[290,48263,15068]
[291,48430,15090]
[292,48597,15111]
[293,48764,15132]
[294,48931,15153]
[295,49098,15174]
[296,49265,15196]
[297,49432,15217]
[298,49599,15238]
[299,49766,15259]
[300,49933,15281]
[301,50100,15302]
[302,50267,15324]
[303,50434,15345]
[304,50601,15367]
[305,50768,15388]
[306,50935,15410]
[307,51102,15431]
[308,51269,15453]
[309,51436,15475]
[310,51603,15496]
[311,51770,15518]
[312,51937,15540]
[313,52104,15562]
[314,52271,15583]
[315,52438,15605]
[316,52605,15627]
[317,52772,15649]
[318,52939,15671]
[319,53106,15693]
[320,53273,15715]
[321,53440,15737]
[322,53607,15759]
[323,53774,15781]
[324,53941,15803]
[325,54108,15825]
[326,54275,15847]
[327,54442,15870]
[328,54609,15892]
[329,54776,15914]
[330,54943,15936]
[331,55110,15959]
[332,55277,15981]
[333,55444,16000]
[334,55611,16026]
[335,55778,16048]
[336,55945,16071]
[337,56112,16093]
[338,56279,16116]
[339,56446,16139]
[340,56613,16161]
[341,56780,16184]
[342,56947,16206]
[343,57114,16229]
[344,57281,16252]
[345,57448,16275]
[346,57615,16297]
[347,57782,16320]
[348,57949,16343]
[349,58116,16366]
[350,58283,16389]
[351,58450,16412]
[352,58617,16435]
[353,58784,16458]
[354,58951,16481]
[355,59118,16504]
[356,59285,16527]
[357,59452,16550]
[358,59619,16574]
[359,59786,16597]
[360,59953,16620]
[361,60120,16643]
[362,60287,16667]
[363,60454,16690]
[364,60621,16713]
[365,60788,16737]
[366,60955,16760]
[367,61122,16784]
[368,61289,16807]
[369,61456,16831]
[370,61623,16854]
[371,61790,16878]
[372,61957,16902]
[373,62124,16925]
[374,62291,16949]
[375,62458,16973]
[376,62625,16997]
[377,62792,17000]
[378,62959,17044]
[379,63126,17068]
[380,63293,17092]
[381,63460,17116]
[382,63627,17140]
[383,63794,17164]
[384,63961,17188]
[385,64128,17212]
[386,64295,17236]
[387,64462,17260]
[388,64629,17285]
[389,64796,17309]
[390,64963,17333]
[391,65130,17357]
[392,65297,17382]
[393,65464,17406]
[394,65631,17430]
[395,65798,17455]
[396,65965,17479]
[397,66132,17504]
[398,66299,17528]
[399,66466,17553]
[400,66633,17578]
[401,66800,17602]
[402,66967,17627]
[403,67134,17652]
[404,67301,17676]
[405,67468,17701]
[406,67635,17726]
[407,67802,17751]
[408,67969,17776]
[409,68136,17800]
[410,68303,17825]
[411,68470,17850]
[412,68637,17875]
[413,68804,17900]
[414,68971,17925]
[415,69138,17951]
[416,69305,17976]
[417,69472,18000]
[418,69639,18026]
[419,69806,18051]
[420,69973,18077]
[421,70140,18102]
[422,70307,18127]
[423,70474,18153]
[424,70641,18178]
[425,70808,18204]
[426,70975,18229]
[427,71142,18255]
[428,71309,18280]
[429,71476,18306]
[430,71643,18332]
[431,71810,18357]
[432,71977,18383]
[433,72144,18409]
[434,72311,18435]
[435,72478,18460]
[436,72645,18486]
[437,72812,18512]
[438,72979,18538]
[439,73146,18564]
[440,73313,18590]
[441,73480,18616]
[442,73647,18642]
[443,73814,18668]
[444,73981,18694]
[445,74148,18721]
[446,74315,18747]
[447,74482,18773]
[448,74649,18799]
[449,74816,18826]
[450,74983,18852]
[451,75150,18879]
[452,75317,18905]
[453,75484,18932]
[454,75651,18958]
[455,75818,18985]
[456,75985,19000]
[457,76152,19038]
[458,76319,19065]
[459,76486,19091]
[460,76653,19118]
[461,76820,19145]
[462,76987,19172]
[463,77154,19198]
[464,77321,19225]
[465,77488,19252]
[466,77655,19279]
[467,77822,19306]
[468,77989,19333]
[469,78156,19360]
[470,78323,19388]
[471,78490,19415]
[472,78657,19442]
[473,78824,19469]
[474,78991,19496]
[475,79158,19524]
[476,79325,19551]
[477,79492,19579]
[478,79659,19606]
[479,79826,19633]
[480,79993,19661]
[481,80160,19689]
[482,80327,19716]
[483,80494,19744]
[484,80661,19771]
[485,80828,19799]
[486,80995,19827]
[487,81162,19855]
[488,81329,19882]
[489,81496,19910]
[490,81663,19938]
[491,81830,19966]
[492,81997,19994]
[493,82164,20000]
[494,82331,20050]
[495,82498,20078]
[496,82665,20106]
[497,82832,20135]
[498,82999,20163]
[499,83166,20191]
[500,83333,20219]
[501,83500,20248]
[502,83667,20276]
[503,83834,20304]
[504,84001,20333]
[505,84168,20361]
[506,84335,20390]
[507,84502,20418]
[508,84669,20447]
[509,84836,20476]
[510,85003,20504]
[511,85170,20533]
[512,85337,20562]
[513,85504,20591]
[514,85671,20620]
[515,85838,20648]
[516,86005,20677]
[517,86172,20706]
[518,86339,20735]
[519,86506,20764]
[520,86673,20794]
[521,86840,20823]
[522,87007,20852]
[523,87174,20881]
[524,87341,20910]
[525,87508,20940]
[526,87675,20969]
[527,87842,20998]
[528,88009,21028]
[529,88176,21057]
[530,88343,21087]
[531,88510,21116]
[532,88677,21146]
[533,88844,21175]
[534,89011,21205]
[535,89178,21235]
[536,89345,21265]
[537,89512,21294]
[538,89679,21324]
[539,89846,21354]
[540,90013,21384]
[541,90180,21414]
[542,90347,21444]
[543,90514,21474]
[544,90681,21504]
[545,90848,21534]
[546,91015,21564]
[547,91182,21595]
[548,91349,21625]
[549,91516,21655]
[550,91683,21686]
[551,91850,21716]
[552,92017,21746]
[553,92184,21777]
[554,92351,21807]
[555,92518,21838]
[556,92685,21869]
[557,92852,21899]
[558,93019,21930]
[559,93186,21961]
[560,93353,21991]
[561,93520,22022]
[562,93687,22053]
[563,93854,22084]
[564,94021,22115]
[565,94188,22146]
[566,94355,22177]
[567,94522,22208]
[568,94689,22239]
[569,94856,22270]
[570,95023,22301]
[571,95190,22333]
[572,95357,22364]
[573,95524,22395]
[574,95691,22427]
[575,95858,22458]
[576,96025,22490]
[577,96192,22521]
[578,96359,22553]
[579,96526,22584]
[580,96693,22616]
[581,96860,22648]
[582,97027,22679]
[583,97194,22711]
[584,97361,22743]
[585,97528,22775]
[586,97695,22807]
[587,97862,22839]
[588,98029,22871]
[589,98196,22903]
[590,98363,22935]
[591,98530,22967]
[592,98697,22999]
[593,98864,23031]
[594,99031,23064]
[595,99198,23096]
[596,99365,23128]
[597,99532,23161]
[598,99699,23193]
[599,99866,23226]
[600,100033,23258]
[601,100200,23291]
[602,100367,23323]
[603,100534,23356]
[604,100701,23389]
[605,100868,23422]
[606,101035,23454]
[607,101202,23487]
[608,101369,23520]
[609,101536,23553]
[610,101703,23586]
[611,101870,23619]
[612,102037,23652]
[613,102204,23685]
[614,102371,23719]
[615,102538,23752]
[616,102705,23785]
[617,102872,23818]
[618,103039,23852]
[619,103206,23885]
[620,103373,23919]
[621,103540,23952]
[622,103707,23986]
[623,103874,24019]
[624,104041,24053]
[625,104208,24087]
[626,104375,24120]
[627,104542,24154]
[628,104709,24188]
[629,104876,24222]
[630,105043,24256]
[631,105210,24290]
[632,105377,24324]
[633,105544,24358]
[634,105711,24392]
[635,105878,24426]
[636,106045,24461]
[637,106212,24495]
[638,106379,24529]
[639,106546,24564]
[640,106713,24598]
[641,106880,24632]
[642,107047,24667]
[643,107214,24701]
[644,107381,24736]
[645,107548,24771]
[646,107715,24805]
[647,107882,24840]
[648,108049,24875]
[649,108216,24910]
[650,108383,24945]
[651,108550,24980]
[652,108717,25015]
[653,108884,25050]
[654,109051,25085]
[655,109218,25120]
[656,109385,25155]
[657,109552,25190]
[658,109719,25226]
[659,109886,25261]
[660,110053,25296]
[661,110220,25332]
[662,110387,25367]
[663,110554,25403]
[664,110721,25439]
[665,110888,25474]
[666,111055,25510]
[667,111222,25546]
[668,111389,25581]
[669,111556,25617]
[670,111723,25653]
[671,111890,25689]
[672,112057,25725]
[673,112224,25761]
[674,112391,25797]
[675,112558,25833]
[676,112725,25870]
[677,112892,25906]
[678,113059,25942]
[679,113226,25978]
[680,113393,26015]
[681,113560,26051]
[682,113727,26088]
[683,113894,26124]
[684,114061,26161]
[685,114228,26198]
[686,114395,26234]
[687,114562,26271]
[688,114729,26308]
[689,114896,26345]
[690,115063,26382]
[691,115230,26419]
[692,115397,26456]
[693,115564,26493]
[694,115731,26530]
[695,115898,26567]
[696,116065,26604]
[697,116232,26642]
[698,116399,26679]
[699,116566,26716]
[700,116733,26754]
[701,116900,26791]
[702,117067,26829]
[703,117234,26866]
[704,117401,26904]
[705,117568,26942]
[706,117735,26979]
[707,117902,27017]
[708,118069,27055]
[709,118236,27093]
[710,118403,27131]
[711,118570,27169]
[712,118737,27207]
[713,118904,27245]
[714,119071,27283]
[715,119238,27322]
[716,119405,27360]
[717,119572,27398]
[718,119739,27437]
[719,119906,27475]
[720,120073,27513]
[721,120240,27552]
[722,120407,27591]
[723,120574,27629]
[724,120741,27668]
[725,120908,27707]
[726,121075,27746]
[727,121242,27784]
[728,121409,27823]
[729,121576,27862]
[730,121743,27901]
[731,121910,27941]
[732,122077,27980]
[733,122244,28019]
[734,122411,28058]
[735,122578,28097]
[736,122745,28137]
[737,122912,28176]
[738,123079,28216]
[739,123246,28255]
[740,123413,28295]
[741,123580,28334]
[742,123747,28374]
[743,123914,28414]
[744,124081,28454]
[745,124248,28494]
[746,124415,28534]
[747,124582,28574]
[748,124749,28614]
[749,124916,28654]
[750,125083,28694]
[751,125250,28734]
[752,125417,28774]
[753,125584,28815]
[754,125751,28855]
[755,125918,28895]
[756,126085,28936]
[757,126252,28976]
[758,126419,29017]
[759,126586,29058]
[760,126753,29098]
[761,126920,29139]
[762,127087,29180]
[763,127254,29221]
[764,127421,29262]
[765,127588,29303]
[766,127755,29344]
[767,127922,29385]
[768,128089,29426]
[769,128256,29467]
[770,128423,29509]
[771,128590,29550]
[772,128757,29591]
[773,128924,29633]
[774,129091,29674]
[775,129258,29716]
[776,129425,29758]
[777,129592,29799]
[778,129759,29841]
[779,129926,29883]
[780,130093,29925]
[781,130260,29967]
[782,130427,30000]
[783,130594,30051]
[784,130761,30093]
[785,130928,30135]
[786,131095,30177]
[787,131262,30219]
[788,131429,30262]
[789,131596,30304]
[790,131763,30347]
[791,131930,30389]
[792,132097,30432]
[793,132264,30474]
[794,132431,30517]
[795,132598,30560]
[796,132765,30603]
[797,132932,30646]
[798,133099,30689]
[799,133266,30732]
[800,133433,30775]
[801,133600,30818]
[802,133767,30861]
[803,133934,30904]
[804,134101,30947]
[805,134268,30991]
[806,134435,31034]
[807,134602,31078]
[808,134769,31121]
[809,134936,31165]
[810,135103,31209]
[811,135270,31252]
[812,135437,31296]
[813,135604,31340]
[814,135771,31384]
[815,135938,31428]
[816,136105,31472]
[817,136272,31516]
[818,136439,31560]
[819,136606,31604]
[820,136773,31649]
[821,136940,31693]
[822,137107,31737]
[823,137274,31782]
[824,137441,31826]
[825,137608,31871]
[826,137775,31916]
[827,137942,31960]
[828,138109,32005]
[829,138276,32050]
[830,138443,32095]
[831,138610,32140]
[832,138777,32185]
[833,138944,32230]
[834,139111,32275]
[835,139278,32320]
[836,139445,32366]
[837,139612,32411]
[838,139779,32456]
[839,139946,32502]
[840,140113,32547]
[841,140280,32593]
[842,140447,32639]
[843,140614,32684]
[844,140781,32730]
[845,140948,32776]
[846,141115,32822]
[847,141282,32868]
[848,141449,32914]
[849,141616,32960]
[850,141783,33006]
[851,141950,33052]
[852,142117,33099]
[853,142284,33145]
[854,142451,33192]
[855,142618,33238]
[856,142785,33285]
[857,142952,33331]
[858,143119,33378]
[859,143286,33425]
[860,143453,33472]
[861,143620,33519]
[862,143787,33566]
[863,143954,33613]
[864,144121,33660]
[865,144288,33707]
[866,144455,33754]
[867,144622,33801]
[868,144789,33849]
[869,144956,33896]
[870,145123,33944]
[871,145290,33991]
[872,145457,34039]
[873,145624,34086]
[874,145791,34134]
[875,145958,34182]
[876,146125,34230]
[877,146292,34278]
[878,146459,34326]
[879,146626,34374]
[880,146793,34422]
[881,146960,34470]
[882,147127,34519]
[883,147294,34567]
[884,147461,34616]
[885,147628,34664]
[886,147795,34713]
[887,147962,34761]
[888,148129,34810]
[889,148296,34859]
[890,148463,34908]
[891,148630,34956]
[892,148797,35005]
[893,148964,35054]
[894,149131,35104]
[895,149298,35153]
[896,149465,35202]
[897,149632,35251]
[898,149799,35301]
[899,149966,35350]
[900,150133,35400]
[901,150300,35449]
[902,150467,35499]
[903,150634,35549]
[904,150801,35599]
[905,150968,35648]
[906,151135,35698]
[907,151302,35748]
[908,151469,35799]
[909,151636,35849]
[910,151803,35899]
[911,151970,35949]
[912,152137,36000]
[913,152304,36050]
[914,152471,36101]
[915,152638,36151]
[916,152805,36202]
[917,152972,36252]
[918,153139,36303]
[919,153306,36354]
[920,153473,36405]
[921,153640,36456]
[922,153807,36507]
[923,153974,36558]
[924,154141,36610]
[925,154308,36661]
[926,154475,36712]
[927,154642,36764]
[928,154809,36815]
[929,154976,36867]
[930,155143,36918]
[931,155310,36970]
[932,155477,37022]
[933,155644,37074]
[934,155811,37126]
[935,155978,37178]
[936,156145,37230]
[937,156312,37282]
[938,156479,37334]
[939,156646,37387]
[940,156813,37439]
[941,156980,37491]
[942,157147,37544]
[943,157314,37597]
[944,157481,37649]
[945,157648,37702]
[946,157815,37755]
[947,157982,37808]
[948,158149,37861]
[949,158316,37914]
[950,158483,37967]
[951,158650,38020]
[952,158817,38073]
[953,158984,38127]
[954,159151,38180]
[955,159318,38234]
[956,159485,38287]
[957,159652,38341]
[958,159819,38395]
[959,159986,38448]
[960,160153,38502]
[961,160320,38556]
[962,160487,38610]
[963,160654,38664]
[964,160821,38718]
[965,160988,38773]
[966,161155,38827]
[967,161322,38881]
[968,161489,38936]
[969,161656,38990]
[970,161823,39045]
[971,161990,39100]
[972,162157,39155]
[973,162324,39209]
[974,162491,39264]
[975,162658,39319]
[976,162825,39374]
[977,162992,39430]
[978,163159,39485]
[979,163326,39540]
[980,163493,39596]
[981,163660,39651]
[982,163827,39707]
[983,163994,39762]
[984,164161,39818]
[985,164328,39874]
[986,164495,39930]
[987,164662,39986]
[988,164829,40000]
[989,164996,40098]
[990,165163,40154]
[991,165330,40210]
[992,165497,40266]
[993,165664,40323]
[994,165831,40379]
[995,165998,40436]
[996,166165,40493]
[997,166332,40549]
[998,166499,40606]
[999,166666,40663]
[1000,166833,40720]
[1001,167000,40777]
[1002,167167,40834]
[1003,167334,40891]
[1004,167501,40949]
[1005,167668,41006]
[1006,167835,41064]
[1007,168002,41121]
[1008,168169,41179]
[1009,168336,41236]
[1010,168503,41294]
[1011,168670,41352]
[1012,168837,41410]
[1013,169004,41468]
[1014,169171,41526]
[1015,169338,41584]
[1016,169505,41643]
[1017,169672,41701]
[1018,169839,41759]
[1019,170006,41818]
[1020,170173,41876]
[1021,170340,41935]
[1022,170507,41994]
[1023,170674,42053]
[1024,170841,42112]
[1025,171008,42171]
[1026,171175,42230]
[1027,171342,42289]
[1028,171509,42348]
[1029,171676,42408]
[1030,171843,42467]
[1031,172010,42526]
[1032,172177,42586]
[1033,172344,42646]
[1034,172511,42705]
[1035,172678,42765]
[1036,172845,42825]
[1037,173012,42885]
[1038,173179,42945]
[1039,173346,43005]
[1040,173513,43066]
[1041,173680,43126]
[1042,173847,43186]
[1043,174014,43247]
[1044,174181,43308]
[1045,174348,43368]
[1046,174515,43429]
[1047,174682,43490]
[1048,174849,43551]
[1049,175016,43612]
[1050,175183,43673]
[1051,175350,43734]
[1052,175517,43795]
[1053,175684,43857]
[1054,175851,43918]
[1055,176018,43980]
[1056,176185,44041]
[1057,176352,44103]
[1058,176519,44165]
[1059,176686,44227]
[1060,176853,44289]
[1061,177020,44351]
[1062,177187,44413]
[1063,177354,44475]
[1064,177521,44537]
[1065,177688,44600]
[1066,177855,44662]
[1067,178022,44725]
[1068,178189,44788]
[1069,178356,44850]
[1070,178523,44913]
[1071,178690,44976]
[1072,178857,45039]
[1073,179024,45102]
[1074,179191,45165]
[1075,179358,45229]
[1076,179525,45292]
[1077,179692,45356]
[1078,179859,45419]
[1079,180026,45483]
[1080,180193,45546]
[1081,180360,45610]
[1082,180527,45674]
[1083,180694,45738]
[1084,180861,45802]
[1085,181028,45866]
[1086,181195,45931]
[1087,181362,45995]
[1088,181529,46060]
[1089,181696,46124]
[1090,181863,46189]
[1091,182030,46253]
[1092,182197,46318]
[1093,182364,46383]
[1094,182531,46448]
[1095,182698,46513]
[1096,182865,46578]
[1097,183032,46644]
[1098,183199,46709]
[1099,183366,46774]
[1100,183533,46840]
[1101,183700,46906]
[1102,183867,46971]
[1103,184034,47037]
[1104,184201,47103]
[1105,184368,47169]
[1106,184535,47235]
[1107,184702,47301]
[1108,184869,47368]
[1109,185036,47434]
[1110,185203,47500]
[1111,185370,47567]
[1112,185537,47634]
[1113,185704,47700]
[1114,185871,47767]
[1115,186038,47834]
[1116,186205,47901]
[1117,186372,47968]
[1118,186539,48035]
[1119,186706,48103]
[1120,186873,48170]
[1121,187040,48238]
[1122,187207,48305]
[1123,187374,48373]
[1124,187541,48441]
[1125,187708,48509]
[1126,187875,48577]
[1127,188042,48645]
[1128,188209,48713]
[1129,188376,48781]
[1130,188543,48849]
[1131,188710,48918]
[1132,188877,48986]
[1133,189044,49055]
[1134,189211,49124]
[1135,189378,49193]
[1136,189545,49261]
[1137,189712,49330]
[1138,189879,49400]
[1139,190046,49469]
[1140,190213,49538]
[1141,190380,49608]
[1142,190547,49677]
[1143,190714,49747]
[1144,190881,49816]
[1145,191048,49886]
[1146,191215,49956]
[1147,191382,50000]
[1148,191549,50096]
[1149,191716,50166]
[1150,191883,50237]
[1151,192050,50307]
[1152,192217,50377]
[1153,192384,50448]
[1154,192551,50519]
[1155,192718,50590]
[1156,192885,50660]
[1157,193052,50731]
[1158,193219,50802]
[1159,193386,50874]
[1160,193553,50945]
[1161,193720,51016]
[1162,193887,51088]
[1163,194054,51159]
[1164,194221,51231]
[1165,194388,51303]
[1166,194555,51375]
[1167,194722,51447]
[1168,194889,51519]
[1169,195056,51591]
[1170,195223,51663]
[1171,195390,51736]
[1172,195557,51808]
[1173,195724,51881]
[1174,195891,51953]
[1175,196058,52026]
[1176,196225,52099]
[1177,196392,52172]
[1178,196559,52245]
[1179,196726,52318]
[1180,196893,52392]
[1181,197060,52465]
[1182,197227,52539]
[1183,197394,52612]
[1184,197561,52686]
[1185,197728,52760]
[1186,197895,52834]
[1187,198062,52908]
[1188,198229,52982]
[1189,198396,53056]
[1190,198563,53130]
[1191,198730,53205]
[1192,198897,53279]
[1193,199064,53354]
[1194,199231,53429]
[1195,199398,53504]
[1196,199565,53579]
[1197,199732,53654]
[1198,199899,53729]
[1199,200066,53804]
[1200,200233,53880]
[1201,200400,53955]
[1202,200567,54031]
[1203,200734,54106]
[1204,200901,54182]
[1205,201068,54258]
[1206,201235,54334]
[1207,201402,54410]
[1208,201569,54487]
[1209,201736,54563]
[1210,201903,54639]
[1211,202070,54716]
[1212,202237,54793]
[1213,202404,54869]
[1214,202571,54946]
[1215,202738,55023]
[1216,202905,55100]
[1217,203072,55177]
[1218,203239,55255]
[1219,203406,55332]
[1220,203573,55410]
[1221,203740,55487]
[1222,203907,55565]
[1223,204074,55643]
[1224,204241,55721]
[1225,204408,55799]
[1226,204575,55877]
[1227,204742,55955]
[1228,204909,56034]
[1229,205076,56112]
[1230,205243,56191]
[1231,205410,56270]
[1232,205577,56349]
[1233,205744,56428]
[1234,205911,56507]
[1235,206078,56586]
[1236,206245,56665]
[1237,206412,56744]
[1238,206579,56824]
[1239,206746,56904]
[1240,206913,56983]
[1241,207080,57063]
[1242,207247,57143]
[1243,207414,57223]
[1244,207581,57303]
[1245,207748,57384]
[1246,207915,57464]
[1247,208082,57545]
[1248,208249,57625]
[1249,208416,57706]
[1250,208583,57787]
[1251,208750,57868]
[1252,208917,57949]
[1253,209084,58030]
[1254,209251,58111]
[1255,209418,58193]
[1256,209585,58274]
[1257,209752,58356]
[1258,209919,58438]
[1259,210086,58520]
[1260,210253,58602]
[1261,210420,58684]
[1262,210587,58766]
[1263,210754,58848]
[1264,210921,58931]
[1265,211088,59013]
[1266,211255,59096]
[1267,211422,59179]
[1268,211589,59262]
[1269,211756,59345]
[1270,211923,59428]
[1271,212090,59511]
[1272,212257,59594]
[1273,212424,59678]
[1274,212591,59762]
[1275,212758,59845]
[1276,212925,59929]
[1277,213092,60000]
[1278,213259,60097]
[1279,213426,60181]
[1280,213593,60266]
[1281,213760,60350]
[1282,213927,60435]
[1283,214094,60519]
[1284,214261,60604]
[1285,214428,60689]
[1286,214595,60774]
[1287,214762,60859]
[1288,214929,60945]
[1289,215096,61030]
[1290,215263,61116]
[1291,215430,61201]
[1292,215597,61287]
[1293,215764,61373]
[1294,215931,61459]
[1295,216098,61545]
[1296,216265,61631]
[1297,216432,61717]
[1298,216599,61804]
[1299,216766,61891]
[1300,216933,61977]
[1301,217100,62064]
[1302,217267,62151]
[1303,217434,62238]
[1304,217601,62325]
[1305,217768,62413]
[1306,217935,62500]
[1307,218102,62588]
[1308,218269,62675]
[1309,218436,62763]
[1310,218603,62851]
[1311,218770,62939]
[1312,218937,63027]
[1313,219104,63116]
[1314,219271,63204]
[1315,219438,63293]
[1316,219605,63381]
[1317,219772,63470]
[1318,219939,63559]
[1319,220106,63648]
[1320,220273,63737]
[1321,220440,63827]
[1322,220607,63916]
[1323,220774,64006]
[1324,220941,64095]
[1325,221108,64185]
[1326,221275,64275]
[1327,221442,64365]
[1328,221609,64455]
[1329,221776,64546]
[1330,221943,64636]
[1331,222110,64727]
[1332,222277,64817]
[1333,222444,64908]
[1334,222611,64999]
[1335,222778,65090]
[1336,222945,65181]
[1337,223112,65273]
[1338,223279,65364]
[1339,223446,65456]
[1340,223613,65547]
[1341,223780,65639]
[1342,223947,65731]
[1343,224114,65823]
[1344,224281,65916]
[1345,224448,66008]
[1346,224615,66100]
[1347,224782,66193]
[1348,224949,66286]
[1349,225116,66379]
[1350,225283,66472]
[1351,225450,66565]
[1352,225617,66658]
[1353,225784,66751]
[1354,225951,66845]
[1355,226118,66939]
[1356,226285,67032]
[1357,226452,67126]
[1358,226619,67220]
[1359,226786,67315]
[1360,226953,67409]
[1361,227120,67503]
[1362,227287,67598]
[1363,227454,67693]
[1364,227621,67787]
[1365,227788,67882]
[1366,227955,67978]
[1367,228122,68073]
[1368,228289,68168]
[1369,228456,68264]
[1370,228623,68359]
[1371,228790,68455]
[1372,228957,68551]
[1373,229124,68647]
[1374,229291,68743]
[1375,229458,68840]
[1376,229625,68936]
[1377,229792,69033]
[1378,229959,69129]
[1379,230126,69226]
[1380,230293,69323]
[1381,230460,69420]
[1382,230627,69518]
[1383,230794,69615]
[1384,230961,69713]
[1385,231128,69810]
[1386,231295,69908]
[1387,231462,70000]
[1388,231629,70104]
[1389,231796,70202]
[1390,231963,70301]
[1391,232130,70399]
[1392,232297,70498]
[1393,232464,70597]
[1394,232631,70695]
[1395,232798,70795]
[1396,232965,70894]
[1397,233132,70993]
[1398,233299,71092]
[1399,233466,71192]
[1400,233633,71292]
[1401,233800,71392]
[1402,233967,71492]
[1403,234134,71592]
[1404,234301,71692]
[1405,234468,71793]
[1406,234635,71893]
[1407,234802,71994]
[1408,234969,72095]
[1409,235136,72196]
[1410,235303,72297]
[1411,235470,72398]
[1412,235637,72500]
[1413,235804,72601]
[1414,235971,72703]
[1415,236138,72805]
[1416,236305,72907]
[1417,236472,73009]
[1418,236639,73111]
[1419,236806,73214]
[1420,236973,73316]
[1421,237140,73419]
[1422,237307,73522]
[1423,237474,73625]
[1424,237641,73728]
[1425,237808,73832]
[1426,237975,73935]
[1427,238142,74039]
[1428,238309,74142]
[1429,238476,74246]
[1430,238643,74350]
[1431,238810,74454]
[1432,238977,74559]
[1433,239144,74663]
[1434,239311,74768]
[1435,239478,74873]
[1436,239645,74977]
[1437,239812,75083]
[1438,239979,75188]
[1439,240146,75293]
[1440,240313,75399]
[1441,240480,75504]
[1442,240647,75610]
[1443,240814,75716]
[1444,240981,75822]
[1445,241148,75928]
[1446,241315,76035]
[1447,241482,76141]
[1448,241649,76248]
[1449,241816,76355]
[1450,241983,76462]
[1451,242150,76569]
[1452,242317,76676]
[1453,242484,76784]
[1454,242651,76891]
[1455,242818,76999]
[1456,242985,77107]
[1457,243152,77215]
[1458,243319,77323]
[1459,243486,77431]
[1460,243653,77540]
[1461,243820,77648]
[1462,243987,77757]
[1463,244154,77866]
[1464,244321,77975]
[1465,244488,78085]
[1466,244655,78194]
[1467,244822,78303]
[1468,244989,78413]
[1469,245156,78523]
[1470,245323,78633]
[1471,245490,78743]
[1472,245657,78854]
[1473,245824,78964]
[1474,245991,79075]
[1475,246158,79186]
[1476,246325,79296]
[1477,246492,79408]
[1478,246659,79519]
[1479,246826,79630]
[1480,246993,79742]
[1481,247160,79854]
[1482,247327,79965]
[1483,247494,80000]
[1484,247661,80190]
[1485,247828,80302]
[1486,247995,80415]
[1487,248162,80527]
[1488,248329,80640]
[1489,248496,80753]
[1490,248663,80866]
[1491,248830,80979]
[1492,248997,81093]
[1493,249164,81207]
[1494,249331,81320]
[1495,249498,81434]
[1496,249665,81548]
[1497,249832,81663]
[1498,249999,81777]
[1499,250166,81892]
[1500,250333,82006]
[1501,250500,82121]
[1502,250667,82236]
[1503,250834,82352]
[1504,251001,82467]
[1505,251168,82582]
[1506,251335,82698]
[1507,251502,82814]
[1508,251669,82930]
[1509,251836,83046]
[1510,252003,83163]
[1511,252170,83279]
[1512,252337,83396]
[1513,252504,83513]
[1514,252671,83630]
[1515,252838,83747]
[1516,253005,83864]
[1517,253172,83982]
[1518,253339,84099]
[1519,253506,84217]
[1520,253673,84335]
[1521,253840,84453]
[1522,254007,84572]
[1523,254174,84690]
[1524,254341,84809]
[1525,254508,84928]
[1526,254675,85047]
[1527,254842,85166]
[1528,255009,85285]
[1529,255176,85405]
[1530,255343,85524]
[1531,255510,85644]
[1532,255677,85764]
[1533,255844,85884]
[1534,256011,86005]
[1535,256178,86125]
[1536,256345,86246]
[1537,256512,86367]
[1538,256679,86488]
[1539,256846,86609]
[1540,257013,86730]
[1541,257180,86852]
[1542,257347,86973]
[1543,257514,87095]
[1544,257681,87217]
[1545,257848,87340]
[1546,258015,87462]
[1547,258182,87584]
[1548,258349,87707]
[1549,258516,87830]
[1550,258683,87953]
[1551,258850,88076]
[1552,259017,88200]
[1553,259184,88323]
[1554,259351,88447]
[1555,259518,88571]
[1556,259685,88695]
[1557,259852,88819]
[1558,260019,88944]
[1559,260186,89069]
[1560,260353,89193]
[1561,260520,89318]
[1562,260687,89443]
[1563,260854,89569]
[1564,261021,89694]
[1565,261188,89820]
[1566,261355,89946]
[1567,261522,90000]
[1568,261689,90198]
[1569,261856,90324]
[1570,262023,90451]
[1571,262190,90578]
[1572,262357,90705]
[1573,262524,90832]
[1574,262691,90959]
[1575,262858,91086]
[1576,263025,91214]
[1577,263192,91342]
[1578,263359,91470]
[1579,263526,91598]
[1580,263693,91726]
[1581,263860,91855]
[1582,264027,91983]
[1583,264194,92112]
[1584,264361,92241]
[1585,264528,92371]
[1586,264695,92500]
[1587,264862,92630]
[1588,265029,92759]
[1589,265196,92889]
[1590,265363,93020]
[1591,265530,93150]
[1592,265697,93280]
[1593,265864,93411]
[1594,266031,93542]
[1595,266198,93673]
[1596,266365,93804]
[1597,266532,93936]
[1598,266699,94067]
[1599,266866,94199]
[1600,267033,94331]
[1601,267200,94463]
[1602,267367,94596]
[1603,267534,94728]
[1604,267701,94861]
[1605,267868,94994]
[1606,268035,95127]
[1607,268202,95260]
[1608,268369,95394]
[1609,268536,95527]
[1610,268703,95661]
[1611,268870,95795]
[1612,269037,95930]
[1613,269204,96064]
[1614,269371,96199]
[1615,269538,96333]
[1616,269705,96468]
[1617,269872,96603]
[1618,270039,96739]
[1619,270206,96874]
[1620,270373,97010]
[1621,270540,97146]
[1622,270707,97282]
[1623,270874,97418]
[1624,271041,97555]
[1625,271208,97692]
[1626,271375,97828]
[1627,271542,97966]
[1628,271709,98103]
[1629,271876,98240]
[1630,272043,98378]
[1631,272210,98516]
[1632,272377,98654]
[1633,272544,98792]
[1634,272711,98930]
[1635,272878,99069]
[1636,273045,99208]
[1637,273212,99347]
[1638,273379,99486]
[1639,273546,99625]
[1640,273713,99765]
[1641,273880,99905]
[1642,274047,100000]
[1643,274214,100185]
[1644,274381,100325]
[1645,274548,100466]
[1646,274715,100607]
[1647,274882,100748]
[1648,275049,100889]
[1649,275216,101030]
[1650,275383,101172]
[1651,275550,101313]
[1652,275717,101455]
[1653,275884,101598]
[1654,276051,101740]
[1655,276218,101882]
[1656,276385,102025]
[1657,276552,102168]
[1658,276719,102311]
[1659,276886,102455]
[1660,277053,102598]
[1661,277220,102742]
[1662,277387,102886]
[1663,277554,103030]
[1664,277721,103174]
[1665,277888,103319]
[1666,278055,103464]
[1667,278222,103609]
[1668,278389,103754]
[1669,278556,103899]
[1670,278723,104045]
[1671,278890,104191]
[1672,279057,104337]
[1673,279224,104483]
[1674,279391,104629]
[1675,279558,104776]
[1676,279725,104923]
[1677,279892,105070]
[1678,280059,105217]
[1679,280226,105364]
[1680,280393,105512]
[1681,280560,105660]
[1682,280727,105808]
[1683,280894,105956]
[1684,281061,106104]
[1685,281228,106253]
[1686,281395,106402]
[1687,281562,106551]
[1688,281729,106700]
[1689,281896,106850]
[1690,282063,107000]
[1691,282230,107150]
[1692,282397,107300]
[1693,282564,107450]
[1694,282731,107601]
[1695,282898,107751]
[1696,283065,107902]
[1697,283232,108053]
[1698,283399,108205]
[1699,283566,108356]
[1700,283733,108508]
[1701,283900,108660]
[1702,284067,108813]
[1703,284234,108965]
[1704,284401,109118]
[1705,284568,109271]
[1706,284735,109424]
[1707,284902,109577]
[1708,285069,109731]
[1709,285236,109884]
[1710,285403,110038]
[1711,285570,110192]
[1712,285737,110347]
[1713,285904,110501]
[1714,286071,110656]
[1715,286238,110811]
[1716,286405,110967]
[1717,286572,111122]
[1718,286739,111278]
[1719,286906,111434]
[1720,287073,111590]
[1721,287240,111746]
[1722,287407,111903]
[1723,287574,112059]
[1724,287741,112217]
[1725,287908,112374]
[1726,288075,112531]
[1727,288242,112689]
[1728,288409,112847]
[1729,288576,113005]
[1730,288743,113163]
[1731,288910,113322]
[1732,289077,113481]
[1733,289244,113640]
[1734,289411,113799]
[1735,289578,113958]
[1736,289745,114118]
[1737,289912,114278]
[1738,290079,114438]
[1739,290246,114598]
[1740,290413,114759]
[1741,290580,114920]
[1742,290747,115081]
[1743,290914,115242]
[1744,291081,115403]
[1745,291248,115565]
[1746,291415,115727]
[1747,291582,115889]
[1748,291749,116051]
[1749,291916,116214]
[1750,292083,116377]
[1751,292250,116540]
[1752,292417,116703]
[1753,292584,116867]
[1754,292751,117030]
[1755,292918,117194]
[1756,293085,117359]
[1757,293252,117523]
[1758,293419,117688]
[1759,293586,117853]
[1760,293753,118018]
[1761,293920,118183]
[1762,294087,118349]
[1763,294254,118515]
[1764,294421,118681]
[1765,294588,118847]
[1766,294755,119013]
[1767,294922,119180]
[1768,295089,119347]
[1769,295256,119514]
[1770,295423,119682]
[1771,295590,119850]
[1772,295757,120017]
[1773,295924,120186]
[1774,296091,120354]
[1775,296258,120523]
[1776,296425,120691]
[1777,296592,120861]
[1778,296759,121030]
[1779,296926,121200]
[1780,297093,121369]
[1781,297260,121539]
[1782,297427,121710]
[1783,297594,121880]
[1784,297761,122051]
[1785,297928,122222]
[1786,298095,122393]
[1787,298262,122565]
[1788,298429,122736]
[1789,298596,122908]
[1790,298763,123081]
[1791,298930,123253]
[1792,299097,123426]
[1793,299264,123599]
[1794,299431,123772]
[1795,299598,123945]
[1796,299765,124119]
[1797,299932,124293]
[1798,300099,124467]
[1799,300266,124641]
[1800,300433,124816]
[1801,300600,124991]
[1802,300767,125166]
[1803,300934,125341]
[1804,301101,125517]
[1805,301268,125693]
[1806,301435,125869]
[1807,301602,126045]
[1808,301769,126222]
[1809,301936,126399]
[1810,302103,126576]
[1811,302270,126753]
[1812,302437,126931]
[1813,302604,127109]
[1814,302771,127287]
[1815,302938,127465]
[1816,303105,127644]
[1817,303272,127823]
[1818,303439,128002]
[1819,303606,128181]
[1820,303773,128361]
[1821,303940,128541]
[1822,304107,128721]
[1823,304274,128901]
[1824,304441,129082]
[1825,304608,129262]
[1826,304775,129444]
[1827,304942,129625]
[1828,305109,129807]
[1829,305276,129988]
[1830,305443,130171]
[1831,305610,130353]
[1832,305777,130536]
[1833,305944,130718]
[1834,306111,130902]
[1835,306278,131085]
[1836,306445,131269]
[1837,306612,131453]
[1838,306779,131637]
[1839,306946,131821]
[1840,307113,132006]
[1841,307280,132191]
[1842,307447,132376]
[1843,307614,132562]
[1844,307781,132747]
[1845,307948,132933]
[1846,308115,133120]
[1847,308282,133306]
[1848,308449,133493]
[1849,308616,133680]
[1850,308783,133867]
[1851,308950,134055]
[1852,309117,134243]
[1853,309284,134431]
[1854,309451,134619]
[1855,309618,134808]
[1856,309785,134997]
[1857,309952,135186]
[1858,310119,135375]
[1859,310286,135565]
[1860,310453,135755]
[1861,310620,135945]
[1862,310787,136135]
[1863,310954,136326]
[1864,311121,136517]
[1865,311288,136708]
[1866,311455,136900]
[1867,311622,137092]
[1868,311789,137284]
[1869,311956,137476]
[1870,312123,137669]
[1871,312290,137862]
[1872,312457,138055]
[1873,312624,138248]
[1874,312791,138442]
[1875,312958,138636]
[1876,313125,138830]
[1877,313292,139025]
[1878,313459,139220]
[1879,313626,139415]
[1880,313793,139610]
[1881,313960,139806]
[1882,314127,140001]
[1883,314294,140198]
[1884,314461,140394]
[1885,314628,140591]
[1886,314795,140788]
[1887,314962,140985]
[1888,315129,141183]
[1889,315296,141380]
[1890,315463,141578]
[1891,315630,141777]
[1892,315797,141976]
[1893,315964,142174]
[1894,316131,142374]
[1895,316298,142573]
[1896,316465,142773]
[1897,316632,142973]
[1898,316799,143173]
[1899,316966,143374]
[1900,317133,143575]
[1901,317300,143776]
[1902,317467,143977]
[1903,317634,144179]
[1904,317801,144381]
[1905,317968,144583]
[1906,318135,144786]
[1907,318302,144989]
[1908,318469,145192]
[1909,318636,145395]
[1910,318803,145599]
[1911,318970,145803]
[1912,319137,146007]
[1913,319304,146212]
[1914,319471,146417]
[1915,319638,146622]
[1916,319805,146827]
[1917,319972,147033]
[1918,320139,147239]
[1919,320306,147445]
[1920,320473,147652]
[1921,320640,147859]
[1922,320807,148066]
[1923,320974,148274]
[1924,321141,148481]
[1925,321308,148689]
[1926,321475,148898]
[1927,321642,149106]
[1928,321809,149315]
[1929,321976,149524]
[1930,322143,149734]
[1931,322310,149944]
[1932,322477,150154]
[1933,322644,150364]
[1934,322811,150575]
[1935,322978,150786]
[1936,323145,150997]
[1937,323312,151209]
[1938,323479,151421]
[1939,323646,151633]
[1940,323813,151845]
[1941,323980,152058]
[1942,324147,152271]
[1943,324314,152484]
[1944,324481,152698]
[1945,324648,152912]
[1946,324815,153126]
[1947,324982,153341]
[1948,325149,153556]
[1949,325316,153771]
[1950,325483,153986]
[1951,325650,154202]
[1952,325817,154418]
[1953,325984,154634]
[1954,326151,154851]
[1955,326318,155068]
[1956,326485,155285]
[1957,326652,155503]
[1958,326819,155721]
[1959,326986,155939]
[1960,327153,156157]
[1961,327320,156376]
[1962,327487,156595]
[1963,327654,156815]
[1964,327821,157034]
[1965,327988,157254]
[1966,328155,157475]
[1967,328322,157695]
[1968,328489,157916]
[1969,328656,158138]
[1970,328823,158359]
[1971,328990,158581]
[1972,329157,158803]
[1973,329324,159026]
[1974,329491,159249]
[1975,329658,159472]
[1976,329825,159695]
[1977,329992,159919]
[1978,330159,160143]
[1979,330326,160367]
[1980,330493,160592]
[1981,330660,160817]
[1982,330827,161042]
[1983,330994,161268]
[1984,331161,161494]
[1985,331328,161720]
[1986,331495,161947]
[1987,331662,162174]
[1988,331829,162401]
[1989,331996,162629]
[1990,332163,162856]
[1991,332330,163085]
[1992,332497,163313]
[1993,332664,163542]
[1994,332831,163771]
[1995,332998,164000]
[1996,333165,164230]
[1997,333332,164460]
[1998,333499,164691]
[1999,333666,164922]
[2000,333833,165153]
[2001,334000,165384]
[2002,334167,165616]
[2003,334334,165848]
[2004,334501,166080]
[2005,334668,166313]
[2006,334835,166546]
[2007,335002,166779]
[2008,335169,167013]
[2009,335336,167247]
[2010,335503,167481]
[2011,335670,167716]
[2012,335837,167951]
[2013,336004,168186]
[2014,336171,168422]
[2015,336338,168658]
[2016,336505,168894]
[2017,336672,169131]
[2018,336839,169368]
[2019,337006,169605]
[2020,337173,169843]
[2021,337340,170081]
[2022,337507,170319]
[2023,337674,170558]
[2024,337841,170797]
[2025,338008,171036]
[2026,338175,171276]
[2027,338342,171516]
[2028,338509,171756]
[2029,338676,171997]
[2030,338843,172238]
[2031,339010,172479]
[2032,339177,172721]
[2033,339344,172963]
[2034,339511,173205]
[2035,339678,173448]
[2036,339845,173691]
[2037,340012,173934]
[2038,340179,174178]
[2039,340346,174422]
[2040,340513,174666]
[2041,340680,174911]
[2042,340847,175156]
[2043,341014,175401]
[2044,341181,175647]
[2045,341348,175893]
[2046,341515,176140]
[2047,341682,176386]
[2048,341849,176634]
[2049,342016,176881]
[2050,342183,177129]
[2051,342350,177377]
[2052,342517,177626]
[2053,342684,177874]
[2054,342851,178124]
[2055,343018,178373]
[2056,343185,178623]
[2057,343352,178873]
[2058,343519,179124]
[2059,343686,179375]
[2060,343853,179626]
[2061,344020,179878]
[2062,344187,180130]
[2063,344354,180382]
[2064,344521,180635]
[2065,344688,180888]
[2066,344855,181142]
[2067,345022,181396]
[2068,345189,181650]
[2069,345356,181904]
[2070,345523,182159]
[2071,345690,182414]
[2072,345857,182670]
[2073,346024,182926]
[2074,346191,183182]
[2075,346358,183439]
[2076,346525,183696]
[2077,346692,183953]
[2078,346859,184211]
[2079,347026,184469]
[2080,347193,184727]
[2081,347360,184986]
[2082,347527,185245]
[2083,347694,185505]
[2084,347861,185765]
[2085,348028,186025]
[2086,348195,186286]
[2087,348362,186547]
[2088,348529,186808]
[2089,348696,187070]
[2090,348863,187332]
[2091,349030,187595]
[2092,349197,187857]
[2093,349364,188121]
[2094,349531,188384]
[2095,349698,188648]
[2096,349865,188913]
[2097,350032,189177]
[2098,350199,189442]
[2099,350366,189708]
[2100,350533,189973]
[2101,350700,190240]
[2102,350867,190506]
[2103,351034,190773]
[2104,351201,191040]
[2105,351368,191308]
[2106,351535,191576]
[2107,351702,191845]
[2108,351869,192113]
[2109,352036,192383]
[2110,352203,192652]
[2111,352370,192922]
[2112,352537,193192]
[2113,352704,193463]
[2114,352871,193734]
[2115,353038,194006]
[2116,353205,194277]
[2117,353372,194550]
[2118,353539,194822]
[2119,353706,195095]
[2120,353873,195368]
[2121,354040,195642]
[2122,354207,195916]
[2123,354374,196191]
[2124,354541,196466]
[2125,354708,196741]
[2126,354875,197017]
[2127,355042,197293]
[2128,355209,197569]
[2129,355376,197846]
[2130,355543,198123]
[2131,355710,198401]
[2132,355877,198679]
[2133,356044,198957]
[2134,356211,199236]
[2135,356378,199515]
[2136,356545,199795]
[2137,356712,200000]
[2138,356879,200355]
[2139,357046,200636]
[2140,357213,200917]
[2141,357380,201198]
[2142,357547,201480]
[2143,357714,201762]
[2144,357881,202045]
[2145,358048,202328]
[2146,358215,202612]
[2147,358382,202896]
[2148,358549,203180]
[2149,358716,203465]
[2150,358883,203750]
[2151,359050,204035]
[2152,359217,204321]
[2153,359384,204607]
[2154,359551,204894]
[2155,359718,205181]
[2156,359885,205468]
[2157,360052,205756]
[2158,360219,206045]
[2159,360386,206333]
[2160,360553,206622]
[2161,360720,206912]
[2162,360887,207202]
[2163,361054,207492]
[2164,361221,207783]
[2165,361388,208074]
[2166,361555,208366]
[2167,361722,208657]
[2168,361889,208950]
[2169,362056,209243]
[2170,362223,209536]
[2171,362390,209829]
[2172,362557,210123]
[2173,362724,210418]
[2174,362891,210713]
[2175,363058,211008]
[2176,363225,211303]
[2177,363392,211600]
[2178,363559,211896]
[2179,363726,212193]
[2180,363893,212490]
[2181,364060,212788]
[2182,364227,213086]
[2183,364394,213385]
[2184,364561,213684]
[2185,364728,213983]
[2186,364895,214283]
[2187,365062,214583]
[2188,365229,214884]
[2189,365396,215185]
[2190,365563,215486]
[2191,365730,215788]
[2192,365897,216091]
[2193,366064,216393]
[2194,366231,216697]
[2195,366398,217000]
[2196,366565,217304]
[2197,366732,217609]
[2198,366899,217914]
[2199,367066,218219]
[2200,367233,218525]
[2201,367400,218831]
[2202,367567,219137]
[2203,367734,219444]
[2204,367901,219752]
[2205,368068,220060]
[2206,368235,220368]
[2207,368402,220677]
[2208,368569,220986]
[2209,368736,221296]
[2210,368903,221606]
[2211,369070,221916]
[2212,369237,222227]
[2213,369404,222539]
[2214,369571,222850]
[2215,369738,223163]
[2216,369905,223475]
[2217,370072,223788]
[2218,370239,224102]
[2219,370406,224416]
[2220,370573,224730]
[2221,370740,225045]
[2222,370907,225361]
[2223,371074,225676]
[2224,371241,225993]
[2225,371408,226309]
[2226,371575,226626]
[2227,371742,226944]
[2228,371909,227262]
[2229,372076,227580]
[2230,372243,227899]
[2231,372410,228218]
[2232,372577,228538]
[2233,372744,228858]
[2234,372911,229179]
[2235,373078,229500]
[2236,373245,229822]
[2237,373412,230144]
[2238,373579,230466]
[2239,373746,230789]
[2240,373913,231112]
[2241,374080,231436]
[2242,374247,231761]
[2243,374414,232085]
[2244,374581,232410]
[2245,374748,232736]
[2246,374915,233062]
[2247,375082,233389]
[2248,375249,233716]
[2249,375416,234043]
[2250,375583,234371]
[2251,375750,234700]
[2252,375917,235028]
[2253,376084,235358]
[2254,376251,235687]
[2255,376418,236018]
[2256,376585,236348]
[2257,376752,236680]
[2258,376919,237011]
[2259,377086,237343]
[2260,377253,237676]
[2261,377420,238009]
[2262,377587,238342]
[2263,377754,238676]
[2264,377921,239011]
[2265,378088,239346]
[2266,378255,239681]
[2267,378422,240017]
[2268,378589,240353]
[2269,378756,240690]
[2270,378923,241027]
[2271,379090,241365]
[2272,379257,241703]
[2273,379424,242042]
[2274,379591,242381]
[2275,379758,242720]
[2276,379925,243060]
[2277,380092,243401]
[2278,380259,243742]
[2279,380426,244083]
[2280,380593,244425]
[2281,380760,244768]
[2282,380927,245111]
[2283,381094,245454]
[2284,381261,245798]
[2285,381428,246143]
[2286,381595,246487]
[2287,381762,246833]
[2288,381929,247179]
[2289,382096,247525]
[2290,382263,247872]
[2291,382430,248219]
[2292,382597,248567]
[2293,382764,248915]
[2294,382931,249264]
[2295,383098,249613]
[2296,383265,249963]
[2297,383432,250313]
[2298,383599,250664]
[2299,383766,251015]
[2300,383933,251367]
[2301,384100,251719]
[2302,384267,252072]
[2303,384434,252425]
[2304,384601,252779]
[2305,384768,253133]
[2306,384935,253487]
[2307,385102,253843]
[2308,385269,254198]
[2309,385436,254554]
[2310,385603,254911]
[2311,385770,255268]
[2312,385937,255626]
[2313,386104,255984]
[2314,386271,256343]
[2315,386438,256702]
[2316,386605,257062]
[2317,386772,257422]
[2318,386939,257782]
[2319,387106,258144]
[2320,387273,258505]
[2321,387440,258867]
[2322,387607,259230]
[2323,387774,259593]
[2324,387941,259957]
[2325,388108,260321]
[2326,388275,260686]
[2327,388442,261051]
[2328,388609,261417]
[2329,388776,261783]
[2330,388943,262150]
[2331,389110,262517]
[2332,389277,262885]
[2333,389444,263254]
[2334,389611,263622]
[2335,389778,263992]
[2336,389945,264362]
[2337,390112,264732]
[2338,390279,265103]
[2339,390446,265474]
[2340,390613,265846]
[2341,390780,266219]
[2342,390947,266592]
[2343,391114,266965]
[2344,391281,267340]
[2345,391448,267714]
[2346,391615,268089]
[2347,391782,268465]
[2348,391949,268841]
[2349,392116,269218]
[2350,392283,269595]
[2351,392450,269973]
[2352,392617,270351]
[2353,392784,270730]
[2354,392951,271109]
[2355,393118,271489]
[2356,393285,271869]
[2357,393452,272250]
[2358,393619,272632]
[2359,393786,273014]
[2360,393953,273396]
[2361,394120,273779]
[2362,394287,274163]
[2363,394454,274547]
[2364,394621,274932]
[2365,394788,275317]
[2366,394955,275703]
[2367,395122,276089]
[2368,395289,276476]
[2369,395456,276863]
[2370,395623,277251]
[2371,395790,277639]
[2372,395957,278028]
[2373,396124,278418]
[2374,396291,278808]
[2375,396458,279199]
[2376,396625,279590]
[2377,396792,279982]
[2378,396959,280374]
[2379,397126,280767]
[2380,397293,281160]
[2381,397460,281554]
[2382,397627,281949]
[2383,397794,282344]
[2384,397961,282739]
[2385,398128,283135]
[2386,398295,283532]
[2387,398462,283929]
[2388,398629,284327]
[2389,398796,284726]
[2390,398963,285125]
[2391,399130,285524]
[2392,399297,285924]
[2393,399464,286325]
[2394,399631,286726]
[2395,399798,287128]
[2396,399965,287530]
[2397,400132,287933]
[2398,400299,288336]
[2399,400466,288740]
[2400,400633,289145]
[2401,400800,289550]
[2402,400967,289956]
[2403,401134,290362]
[2404,401301,290769]
[2405,401468,291176]
[2406,401635,291584]
[2407,401802,291993]
[2408,401969,292402]
[2409,402136,292811]
[2410,402303,293222]
[2411,402470,293633]
[2412,402637,294044]
[2413,402804,294456]
[2414,402971,294868]
[2415,403138,295282]
[2416,403305,295695]
[2417,403472,296110]
[2418,403639,296525]
[2419,403806,296940]
[2420,403973,297356]
[2421,404140,297773]
[2422,404307,298190]
[2423,404474,298608]
[2424,404641,299026]
[2425,404808,299445]
[2426,404975,299865]
[2427,405142,300000]
[2428,405309,300706]
[2429,405476,301127]
[2430,405643,301549]
[2431,405810,301971]
[2432,405977,302394]
[2433,406144,302818]
[2434,406311,303242]
[2435,406478,303667]
[2436,406645,304093]
[2437,406812,304519]
[2438,406979,304945]
[2439,407146,305373]
[2440,407313,305801]
[2441,407480,306229]
[2442,407647,306658]
[2443,407814,307088]
[2444,407981,307518]
[2445,408148,307949]
[2446,408315,308380]
[2447,408482,308812]
[2448,408649,309245]
[2449,408816,309678]
[2450,408983,310112]
[2451,409150,310547]
[2452,409317,310982]
[2453,409484,311418]
[2454,409651,311854]
[2455,409818,312291]
[2456,409985,312728]
[2457,410152,313167]
[2458,410319,313605]
[2459,410486,314045]
[2460,410653,314485]
[2461,410820,314926]
[2462,410987,315367]
[2463,411154,315809]
[2464,411321,316251]
[2465,411488,316694]
[2466,411655,317138]
[2467,411822,317582]
[2468,411989,318027]
[2469,412156,318473]
[2470,412323,318919]
[2471,412490,319366]
[2472,412657,319813]
[2473,412824,320261]
[2474,412991,320710]
[2475,413158,321160]
[2476,413325,321610]
[2477,413492,322060]
[2478,413659,322511]
[2479,413826,322963]
[2480,413993,323416]
[2481,414160,323869]
[2482,414327,324323]
[2483,414494,324777]
[2484,414661,325232]
[2485,414828,325688]
[2486,414995,326144]
[2487,415162,326601]
[2488,415329,327059]
[2489,415496,327517]
[2490,415663,327976]
[2491,415830,328435]
[2492,415997,328896]
[2493,416164,329356]
[2494,416331,329818]
[2495,416498,330280]
[2496,416665,330743]
[2497,416832,331206]
[2498,416999,331670]
[2499,417166,332135]
[2500,417333,332600]
[2501,417500,333066]
[2502,417667,333533]
[2503,417834,334000]
[2504,418001,334468]
[2505,418168,334937]
[2506,418335,335406]
[2507,418502,335876]
[2508,418669,336347]
[2509,418836,336818]
[2510,419003,337290]
[2511,419170,337763]
[2512,419337,338236]
[2513,419504,338710]
[2514,419671,339184]
[2515,419838,339660]
[2516,420005,340135]
[2517,420172,340612]
[2518,420339,341089]
[2519,420506,341567]
[2520,420673,342046]
[2521,420840,342525]
[2522,421007,343005]
[2523,421174,343486]
[2524,421341,343967]
[2525,421508,344449]
[2526,421675,344931]
[2527,421842,345415]
[2528,422009,345899]
[2529,422176,346383]
[2530,422343,346869]
[2531,422510,347355]
[2532,422677,347841]
[2533,422844,348329]
[2534,423011,348817]
[2535,423178,349305]
[2536,423345,349795]
[2537,423512,350285]
[2538,423679,350776]
[2539,423846,351267]
[2540,424013,351759]
[2541,424180,352252]
[2542,424347,352746]
[2543,424514,353240]
[2544,424681,353735]
[2545,424848,354231]
[2546,425015,354727]
[2547,425182,355224]
[2548,425349,355722]
[2549,425516,356220]
[2550,425683,356719]
[2551,425850,357219]
[2552,426017,357719]
[2553,426184,358221]
[2554,426351,358723]
[2555,426518,359225]
[2556,426685,359729]
[2557,426852,360233]
[2558,427019,360737]
[2559,427186,361243]
[2560,427353,361749]
[2561,427520,362256]
[2562,427687,362763]
[2563,427854,363272]
[2564,428021,363781]
[2565,428188,364290]
[2566,428355,364801]
[2567,428522,365312]
[2568,428689,365824]
[2569,428856,366336]
[2570,429023,366849]
[2571,429190,367363]
[2572,429357,367878]
[2573,429524,368394]
[2574,429691,368910]
[2575,429858,369427]
[2576,430025,369944]
[2577,430192,370463]
[2578,430359,370982]
[2579,430526,371501]
[2580,430693,372022]
[2581,430860,372543]
[2582,431027,373065]
[2583,431194,373588]
[2584,431361,374111]
[2585,431528,374636]
[2586,431695,375160]
[2587,431862,375686]
[2588,432029,376213]
[2589,432196,376740]
[2590,432363,377267]
[2591,432530,377796]
[2592,432697,378325]
[2593,432864,378855]
[2594,433031,379386]
[2595,433198,379918]
[2596,433365,380450]
[2597,433532,380983]
[2598,433699,381517]
[2599,433866,382052]
[2600,434033,382587]
[2601,434200,383123]
[2602,434367,383660]
[2603,434534,384197]
[2604,434701,384736]
[2605,434868,385275]
[2606,435035,385815]
[2607,435202,386355]
[2608,435369,386896]
[2609,435536,387439]
[2610,435703,387981]
[2611,435870,388525]
[2612,436037,389069]
[2613,436204,389614]
[2614,436371,390160]
[2615,436538,390707]
[2616,436705,391254]
[2617,436872,391803]
[2618,437039,392352]
[2619,437206,392901]
[2620,437373,393452]
[2621,437540,394003]
[2622,437707,394555]
[2623,437874,395108]
[2624,438041,395662]
[2625,438208,396216]
[2626,438375,396771]
[2627,438542,397327]
[2628,438709,397884]
[2629,438876,398441]
[2630,439043,398999]
[2631,439210,399559]
[2632,439377,400000]
[2633,439544,400679]
[2634,439711,401240]
[2635,439878,401803]
[2636,440045,402366]
[2637,440212,402929]
[2638,440379,403494]
[2639,440546,404059]
[2640,440713,404625]
[2641,440880,405192]
[2642,441047,405760]
[2643,441214,406329]
[2644,441381,406898]
[2645,441548,407468]
[2646,441715,408039]
[2647,441882,408611]
[2648,442049,409183]
[2649,442216,409756]
[2650,442383,410331]
[2651,442550,410905]
[2652,442717,411481]
[2653,442884,412058]
[2654,443051,412635]
[2655,443218,413213]
[2656,443385,413792]
[2657,443552,414372]
[2658,443719,414953]
[2659,443886,415534]
[2660,444053,416116]
[2661,444220,416699]
[2662,444387,417283]
[2663,444554,417868]
[2664,444721,418453]
[2665,444888,419039]
[2666,445055,419627]
[2667,445222,420215]
[2668,445389,420803]
[2669,445556,421393]
[2670,445723,421983]
[2671,445890,422575]
[2672,446057,423167]
[2673,446224,423760]
[2674,446391,424353]
[2675,446558,424948]
[2676,446725,425543]
[2677,446892,426140]
[2678,447059,426737]
[2679,447226,427334]
[2680,447393,427933]
[2681,447560,428533]
[2682,447727,429133]
[2683,447894,429735]
[2684,448061,430337]
[2685,448228,430940]
[2686,448395,431543]
[2687,448562,432148]
[2688,448729,432754]
[2689,448896,433360]
[2690,449063,433967]
[2691,449230,434575]
[2692,449397,435184]
[2693,449564,435794]
[2694,449731,436404]
[2695,449898,437016]
[2696,450065,437628]
[2697,450232,438241]
[2698,450399,438855]
[2699,450566,439470]
[2700,450733,440086]
[2701,450900,440703]
[2702,451067,441320]
[2703,451234,441938]
[2704,451401,442558]
[2705,451568,443178]
[2706,451735,443799]
[2707,451902,444420]
[2708,452069,445043]
[2709,452236,445667]
[2710,452403,446291]
[2711,452570,446916]
[2712,452737,447543]
[2713,452904,448170]
[2714,453071,448798]
[2715,453238,449426]
[2716,453405,450056]
[2717,453572,450687]
[2718,453739,451318]
[2719,453906,451951]
[2720,454073,452584]
[2721,454240,453218]
[2722,454407,453853]
[2723,454574,454489]
[2724,454741,455126]
[2725,454908,455763]
[2726,455075,456402]
[2727,455242,457041]
[2728,455409,457682]
[2729,455576,458323]
[2730,455743,458965]
[2731,455910,459608]
[2732,456077,460252]
[2733,456244,460897]
[2734,456411,461543]
[2735,456578,462190]
[2736,456745,462837]
[2737,456912,463486]
[2738,457079,464135]
[2739,457246,464785]
[2740,457413,465437]
[2741,457580,466089]
[2742,457747,466742]
[2743,457914,467396]
[2744,458081,468051]
[2745,458248,468706]
[2746,458415,469363]
[2747,458582,470021]
[2748,458749,470679]
[2749,458916,471339]
[2750,459083,471999]
[2751,459250,472660]
[2752,459417,473323]
[2753,459584,473986]
[2754,459751,474650]
[2755,459918,475315]
[2756,460085,475981]
[2757,460252,476648]
[2758,460419,477316]
[2759,460586,477985]
[2760,460753,478654]
[2761,460920,479325]
[2762,461087,479996]
[2763,461254,480669]
[2764,461421,481343]
[2765,461588,482017]
[2766,461755,482692]
[2767,461922,483369]
[2768,462089,484046]
[2769,462256,484724]
[2770,462423,485403]
[2771,462590,486083]
[2772,462757,486764]
[2773,462924,487446]
[2774,463091,488129]
[2775,463258,488813]
[2776,463425,489498]
[2777,463592,490184]
[2778,463759,490871]
[2779,463926,491559]
[2780,464093,492247]
[2781,464260,492937]
[2782,464427,493628]
[2783,464594,494319]
[2784,464761,495012]
[2785,464928,495706]
[2786,465095,496400]
[2787,465262,497096]
[2788,465429,497792]
[2789,465596,498490]
[2790,465763,499188]
[2791,465930,499887]
[2792,466097,500000]
[2793,466264,501289]
[2794,466431,501992]
[2795,466598,502695]
[2796,466765,503399]
[2797,466932,504105]
[2798,467099,504811]
[2799,467266,505518]
[2800,467433,506226]
[2801,467600,506936]
[2802,467767,507646]
[2803,467934,508357]
[2804,468101,509070]
[2805,468268,509783]
[2806,468435,510497]
[2807,468602,511212]
[2808,468769,511929]
[2809,468936,512646]
[2810,469103,513364]
[2811,469270,514084]
[2812,469437,514804]
[2813,469604,515525]
[2814,469771,516247]
[2815,469938,516971]
[2816,470105,517695]
[2817,470272,518420]
[2818,470439,519147]
[2819,470606,519874]
[2820,470773,520603]
[2821,470940,521332]
[2822,471107,522062]
[2823,471274,522794]
[2824,471441,523526]
[2825,471608,524260]
[2826,471775,524995]
[2827,471942,525730]
[2828,472109,526467]
[2829,472276,527204]
[2830,472443,527943]
[2831,472610,528683]
[2832,472777,529424]
[2833,472944,530165]
[2834,473111,530908]
[2835,473278,531652]
[2836,473445,532397]
[2837,473612,533143]
[2838,473779,533890]
[2839,473946,534638]
[2840,474113,535387]
[2841,474280,536137]
[2842,474447,536888]
[2843,474614,537641]
[2844,474781,538394]
[2845,474948,539148]
[2846,475115,539904]
[2847,475282,540660]
[2848,475449,541418]
[2849,475616,542176]
[2850,475783,542936]
[2851,475950,543697]
[2852,476117,544458]
[2853,476284,545221]
[2854,476451,545985]
[2855,476618,546750]
[2856,476785,547516]
[2857,476952,548283]
[2858,477119,549052]
[2859,477286,549821]
[2860,477453,550591]
[2861,477620,551363]
[2862,477787,552135]
[2863,477954,552909]
[2864,478121,553684]
[2865,478288,554459]
[2866,478455,555236]
[2867,478622,556014]
[2868,478789,556793]
[2869,478956,557573]
[2870,479123,558355]
[2871,479290,559137]
[2872,479457,559920]
[2873,479624,560705]
[2874,479791,561490]
[2875,479958,562277]
[2876,480125,563065]
[2877,480292,563854]
[2878,480459,564644]
[2879,480626,565435]
[2880,480793,566227]
[2881,480960,567021]
[2882,481127,567815]
[2883,481294,568611]
[2884,481461,569407]
[2885,481628,570205]
[2886,481795,571004]
[2887,481962,571804]
[2888,482129,572605]
[2889,482296,573408]
[2890,482463,574211]
[2891,482630,575016]
[2892,482797,575821]
[2893,482964,576628]
[2894,483131,577436]
[2895,483298,578245]
[2896,483465,579055]
[2897,483632,579866]
[2898,483799,580679]
[2899,483966,581493]
[2900,484133,582307]
[2901,484300,583123]
[2902,484467,583940]
[2903,484634,584758]
[2904,484801,585578]
[2905,484968,586398]
[2906,485135,587220]
[2907,485302,588043]
[2908,485469,588866]
[2909,485636,589692]
[2910,485803,590518]
[2911,485970,591345]
[2912,486137,592174]
[2913,486304,593003]
[2914,486471,593834]
[2915,486638,594666]
[2916,486805,595500]
[2917,486972,596334]
[2918,487139,597169]
[2919,487306,598006]
[2920,487473,598844]
[2921,487640,599683]
[2922,487807,600000]
[2923,487974,601365]
[2924,488141,602207]
[2925,488308,603051]
[2926,488475,603896]
[2927,488642,604742]
[2928,488809,605589]
[2929,488976,606438]
[2930,489143,607288]
[2931,489310,608139]
[2932,489477,608991]
[2933,489644,609844]
[2934,489811,610698]
[2935,489978,611554]
[2936,490145,612411]
[2937,490312,613269]
[2938,490479,614128]
[2939,490646,614989]
[2940,490813,615850]
[2941,490980,616713]
[2942,491147,617577]
[2943,491314,618443]
[2944,491481,619309]
[2945,491648,620177]
[2946,491815,621046]
[2947,491982,621916]
[2948,492149,622787]
[2949,492316,623660]
[2950,492483,624534]
[2951,492650,625409]
[2952,492817,626285]
[2953,492984,627163]
[2954,493151,628041]
[2955,493318,628921]
[2956,493485,629802]
[2957,493652,630685]
[2958,493819,631569]
[2959,493986,632453]
[2960,494153,633340]
[2961,494320,634227]
[2962,494487,635116]
[2963,494654,636005]
[2964,494821,636897]
[2965,494988,637789]
[2966,495155,638683]
[2967,495322,639577]
[2968,495489,640474]
[2969,495656,641371]
[2970,495823,642270]
[2971,495990,643170]
[2972,496157,644071]
[2973,496324,644973]
[2974,496491,645877]
[2975,496658,646782]
[2976,496825,647688]
[2977,496992,648595]
[2978,497159,649504]
[2979,497326,650414]
[2980,497493,651326]
[2981,497660,652238]
[2982,497827,653152]
[2983,497994,654067]
[2984,498161,654984]
[2985,498328,655901]
[2986,498495,656820]
[2987,498662,657741]
[2988,498829,658662]
[2989,498996,659585]
[2990,499163,660509]
[2991,499330,661435]
[2992,499497,662361]
[2993,499664,663289]
[2994,499831,664219]
[2995,499998,665149]
[2996,500165,666081]
[2997,500332,667015]
[2998,500499,667949]
[2999,500666,668885]
[3000,500833,669822]
[3001,501000,670761]
[3002,501167,671701]
[3003,501334,672642]
[3004,501501,673584]
[3005,501668,674528]
[3006,501835,675473]
[3007,502002,676419]
[3008,502169,677367]
[3009,502336,678316]
[3010,502503,679267]
[3011,502670,680218]
[3012,502837,681172]
[3013,503004,682126]
[3014,503171,683082]
[3015,503338,684039]
[3016,503505,684997]
[3017,503672,685957]
[3018,503839,686918]
[3019,504006,687880]
[3020,504173,688844]
[3021,504340,689809]
[3022,504507,690776]
[3023,504674,691744]
[3024,504841,692713]
[3025,505008,693684]
[3026,505175,694656]
[3027,505342,695629]
[3028,505509,696603]
[3029,505676,697580]
[3030,505843,698557]
[3031,506010,699536]
[3032,506177,700000]
[3033,506344,701497]
[3034,506511,702480]
[3035,506678,703464]
[3036,506845,704450]
[3037,507012,705437]
[3038,507179,706426]
[3039,507346,707415]
[3040,507513,708406]
[3041,507680,709399]
[3042,507847,710393]
[3043,508014,711388]
[3044,508181,712385]
[3045,508348,713383]
[3046,508515,714383]
[3047,508682,715384]
[3048,508849,716386]
[3049,509016,717390]
[3050,509183,718395]
[3051,509350,719401]
[3052,509517,720409]
[3053,509684,721419]
[3054,509851,722430]
[3055,510018,723442]
[3056,510185,724455]
[3057,510352,725471]
[3058,510519,726487]
[3059,510686,727505]
[3060,510853,728524]
[3061,511020,729545]
[3062,511187,730567]
[3063,511354,731591]
[3064,511521,732616]
[3065,511688,733642]
[3066,511855,734670]
[3067,512022,735700]
[3068,512189,736730]
[3069,512356,737763]
[3070,512523,738796]
[3071,512690,739831]
[3072,512857,740868]
[3073,513024,741906]
[3074,513191,742946]
[3075,513358,743987]
[3076,513525,745029]
[3077,513692,746073]
[3078,513859,747118]
[3079,514026,748165]
[3080,514193,749213]
[3081,514360,750263]
[3082,514527,751314]
[3083,514694,752367]
[3084,514861,753421]
[3085,515028,754477]
[3086,515195,755534]
[3087,515362,756592]
[3088,515529,757652]
[3089,515696,758714]
[3090,515863,759777]
[3091,516030,760842]
[3092,516197,761908]
[3093,516364,762975]
[3094,516531,764044]
[3095,516698,765115]
[3096,516865,766187]
[3097,517032,767260]
[3098,517199,768335]
[3099,517366,769412]
[3100,517533,770490]
[3101,517700,771569]
[3102,517867,772650]
[3103,518034,773733]
[3104,518201,774817]
[3105,518368,775903]
[3106,518535,776990]
[3107,518702,778079]
[3108,518869,779169]
[3109,519036,780260]
[3110,519203,781354]
[3111,519370,782448]
[3112,519537,783545]
[3113,519704,784643]
[3114,519871,785742]
[3115,520038,786843]
[3116,520205,787945]
[3117,520372,789049]
[3118,520539,790155]
[3119,520706,791262]
[3120,520873,792371]
[3121,521040,793481]
[3122,521207,794593]
[3123,521374,795706]
[3124,521541,796821]
[3125,521708,797937]
[3126,521875,799055]
[3127,522042,800000]
[3128,522209,801296]
[3129,522376,802419]
[3130,522543,803543]
[3131,522710,804669]
[3132,522877,805796]
[3133,523044,806925]
[3134,523211,808056]
[3135,523378,809188]
[3136,523545,810322]
[3137,523712,811457]
[3138,523879,812594]
[3139,524046,813733]
[3140,524213,814873]
[3141,524380,816015]
[3142,524547,817158]
[3143,524714,818303]
[3144,524881,819449]
[3145,525048,820598]
[3146,525215,821747]
[3147,525382,822899]
[3148,525549,824052]
[3149,525716,825206]
[3150,525883,826363]
[3151,526050,827520]
[3152,526217,828680]
[3153,526384,829841]
[3154,526551,831004]
[3155,526718,832168]
[3156,526885,833334]
[3157,527052,834502]
[3158,527219,835671]
[3159,527386,836842]
[3160,527553,838014]
[3161,527720,839188]
[3162,527887,840364]
[3163,528054,841542]
[3164,528221,842721]
[3165,528388,843901]
[3166,528555,845084]
[3167,528722,846268]
[3168,528889,847454]
[3169,529056,848641]
[3170,529223,849830]
[3171,529390,851021]
[3172,529557,852213]
[3173,529724,853407]
[3174,529891,854603]
[3175,530058,855800]
[3176,530225,856999]
[3177,530392,858200]
[3178,530559,859403]
[3179,530726,860607]
[3180,530893,861813]
[3181,531060,863020]
[3182,531227,864229]
[3183,531394,865440]
[3184,531561,866653]
[3185,531728,867867]
[3186,531895,869083]
[3187,532062,870301]
[3188,532229,871520]
[3189,532396,872741]
[3190,532563,873964]
[3191,532730,875189]
[3192,532897,876415]
[3193,533064,877643]
[3194,533231,878872]
[3195,533398,880104]
[3196,533565,881337]
[3197,533732,882572]
[3198,533899,883808]
[3199,534066,885047]
[3200,534233,886287]
[3201,534400,887529]
[3202,534567,888772]
[3203,534734,890017]
[3204,534901,891264]
[3205,535068,892513]
[3206,535235,893764]
[3207,535402,895016]
[3208,535569,896270]
[3209,535736,897526]
[3210,535903,898783]
[3211,536070,900000]
[3212,536237,901304]
[3213,536404,902567]
[3214,536571,903831]
[3215,536738,905098]
[3216,536905,906366]
[3217,537072,907636]
[3218,537239,908907]
[3219,537406,910181]
[3220,537573,911456]
[3221,537740,912733]
[3222,537907,914012]
[3223,538074,915293]
[3224,538241,916575]
[3225,538408,917859]
[3226,538575,919145]
[3227,538742,920433]
[3228,538909,921723]
[3229,539076,923014]
[3230,539243,924308]
[3231,539410,925603]
[3232,539577,926899]
[3233,539744,928198]
[3234,539911,929499]
[3235,540078,930801]
[3236,540245,932105]
[3237,540412,933411]
[3238,540579,934719]
[3239,540746,936029]
[3240,540913,937340]
[3241,541080,938653]
[3242,541247,939969]
[3243,541414,941286]
[3244,541581,942605]
[3245,541748,943925]
[3246,541915,945248]
[3247,542082,946572]
[3248,542249,947898]
[3249,542416,949227]
[3250,542583,950557]
[3251,542750,951888]
[3252,542917,953222]
[3253,543084,954558]
[3254,543251,955895]
[3255,543418,957234]
[3256,543585,958576]
[3257,543752,959919]
[3258,543919,961264]
[3259,544086,962611]
[3260,544253,963959]
[3261,544420,965310]
[3262,544587,966662]
[3263,544754,968017]
[3264,544921,969373]
[3265,545088,970731]
[3266,545255,972091]
[3267,545422,973453]
[3268,545589,974817]
[3269,545756,976183]
[3270,545923,977551]
[3271,546090,978921]
[3272,546257,980292]
[3273,546424,981666]
[3274,546591,983041]
[3275,546758,984419]
[3276,546925,985798]
[3277,547092,987179]
[3278,547259,988562]
[3279,547426,989947]
[3280,547593,991334]
[3281,547760,992723]
[3282,547927,994114]
[3283,548094,995507]
[3284,548261,996902]
[3285,548428,998299]
[3286,548595,999697]
[3287,548762,1000000]
[3288,548929,1002501]
[3289,549096,1003905]
[3290,549263,1005312]
[3291,549430,1006721]
[3292,549597,1008131]
[3293,549764,1009544]
[3294,549931,1010958]
[3295,550098,1012375]
[3296,550265,1013793]
[3297,550432,1015214]
[3298,550599,1016636]
[3299,550766,1018060]
[3300,550933,1019487]
[3301,551100,1020915]
[3302,551267,1022346]
[3303,551434,1023778]
[3304,551601,1025213]
[3305,551768,1026649]
[3306,551935,1028087]
[3307,552102,1029528]
[3308,552269,1030970]
[3309,552436,1032415]
[3310,552603,1033861]
[3311,552770,1035310]
[3312,552937,1036761]
[3313,553104,1038213]
[3314,553271,1039668]
[3315,553438,1041125]
[3316,553605,1042583]
[3317,553772,1044044]
[3318,553939,1045507]
[3319,554106,1046972]
[3320,554273,1048439]
[3321,554440,1049908]
[3322,554607,1051379]
[3323,554774,1052852]
[3324,554941,1054327]
[3325,555108,1055804]
[3326,555275,1057284]
[3327,555442,1058765]
[3328,555609,1060249]
[3329,555776,1061734]
[3330,555943,1063222]
[3331,556110,1064711]
[3332,556277,1066203]
[3333,556444,1067697]
[3334,556611,1069193]
[3335,556778,1070691]
[3336,556945,1072191]
[3337,557112,1073694]
[3338,557279,1075198]
[3339,557446,1076704]
[3340,557613,1078213]
[3341,557780,1079724]
[3342,557947,1081237]
[3343,558114,1082751]
[3344,558281,1084269]
[3345,558448,1085788]
[3346,558615,1087309]
[3347,558782,1088832]
[3348,558949,1090358]
[3349,559116,1091886]
[3350,559283,1093416]
[3351,559450,1094948]
[3352,559617,1096482]
[3353,559784,1098018]
[3354,559951,1099557]
[3355,560118,1101097]
[3356,560285,1102640]
[3357,560452,1104185]
[3358,560619,1105732]
[3359,560786,1107281]
[3360,560953,1108833]
[3361,561120,1110386]
[3362,561287,1111942]
[3363,561454,1113500]
[3364,561621,1115060]
[3365,561788,1116623]
[3366,561955,1118187]
[3367,562122,1119754]
[3368,562289,1121323]
[3369,562456,1122894]
[3370,562623,1124467]
[3371,562790,1126043]
[3372,562957,1127620]
[3373,563124,1129200]
[3374,563291,1130782]
[3375,563458,1132367]
[3376,563625,1133953]
[3377,563792,1135542]
[3378,563959,1137133]
[3379,564126,1138726]
[3380,564293,1140322]
[3381,564460,1141920]
[3382,564627,1143520]
[3383,564794,1145122]
[3384,564961,1146726]
[3385,565128,1148333]
[3386,565295,1149942]
[3387,565462,1151553]
[3388,565629,1153167]
[3389,565796,1154782]
[3390,565963,1156400]
[3391,566130,1158021]
[3392,566297,1159643]
[3393,566464,1161268]
[3394,566631,1162895]
[3395,566798,1164524]
[3396,566965,1166156]
[3397,567132,1167790]
[3398,567299,1169426]
[3399,567466,1171065]
[3400,567633,1172706]
[3401,567800,1174349]
[3402,567967,1175994]
[3403,568134,1177642]
[3404,568301,1179292]
[3405,568468,1180944]
[3406,568635,1182599]
[3407,568802,1184256]
[3408,568969,1185915]
[3409,569136,1187577]
[3410,569303,1189241]
[3411,569470,1190907]
[3412,569637,1192575]
[3413,569804,1194246]
[3414,569971,1195920]
[3415,570138,1197595]
[3416,570305,1199273]
[3417,570472,1200954]
[3418,570639,1202636]
[3419,570806,1204321]
[3420,570973,1206009]
[3421,571140,1207698]
[3422,571307,1209391]
[3423,571474,1211085]
[3424,571641,1212782]
[3425,571808,1214481]
[3426,571975,1216183]
[3427,572142,1217887]
[3428,572309,1219593]
[3429,572476,1221302]
[3430,572643,1223013]
[3431,572810,1224727]
[3432,572977,1226443]
[3433,573144,1228161]
[3434,573311,1229882]
[3435,573478,1231605]
[3436,573645,1233331]
[3437,573812,1235059]
[3438,573979,1236789]
[3439,574146,1238522]
[3440,574313,1240258]
[3441,574480,1241995]
[3442,574647,1243736]
[3443,574814,1245478]
[3444,574981,1247223]
[3445,575148,1248971]
[3446,575315,1250721]
[3447,575482,1252473]
[3448,575649,1254228]
[3449,575816,1255985]
[3450,575983,1257745]
[3451,576150,1259507]
[3452,576317,1261272]
[3453,576484,1263039]
[3454,576651,1264809]
[3455,576818,1266581]
[3456,576985,1268356]
[3457,577152,1270133]
[3458,577319,1271912]
[3459,577486,1273695]
[3460,577653,1275479]
[3461,577820,1277266]
[3462,577987,1279056]
[3463,578154,1280848]
[3464,578321,1282643]
[3465,578488,1284440]
[3466,578655,1286239]
[3467,578822,1288042]
[3468,578989,1289846]
[3469,579156,1291653]
[3470,579323,1293463]
[3471,579490,1295276]
[3472,579657,1297090]
[3473,579824,1298908]
[3474,579991,1300728]
[3475,580158,1302550]
[3476,580325,1304375]
[3477,580492,1306203]
[3478,580659,1308033]
[3479,580826,1309866]
[3480,580993,1311701]
[3481,581160,1313539]
[3482,581327,1315379]
[3483,581494,1317222]
[3484,581661,1319068]
[3485,581828,1320916]
[3486,581995,1322767]
[3487,582162,1324620]
[3488,582329,1326476]
[3489,582496,1328335]
[3490,582663,1330196]
[3491,582830,1332060]
[3492,582997,1333926]
[3493,583164,1335795]
[3494,583331,1337667]
[3495,583498,1339541]
[3496,583665,1341418]
[3497,583832,1343297]
[3498,583999,1345179]
[3499,584166,1347064]
[3500,584333,1348951]
[3501,584500,1350841]
[3502,584667,1352734]
[3503,584834,1354629]
[3504,585001,1356527]
[3505,585168,1358428]
[3506,585335,1360331]
[3507,585502,1362237]
[3508,585669,1364146]
[3509,585836,1366057]
[3510,586003,1367971]
[3511,586170,1369888]
[3512,586337,1371808]
[3513,586504,1373730]
[3514,586671,1375654]
[3515,586838,1377582]
[3516,587005,1379512]
[3517,587172,1381445]
[3518,587339,1383380]
[3519,587506,1385319]
[3520,587673,1387260]
[3521,587840,1389203]
[3522,588007,1391150]
[3523,588174,1393099]
[3524,588341,1395051]
[3525,588508,1397006]
[3526,588675,1398963]
[3527,588842,1400923]
[3528,589009,1402886]
[3529,589176,1404852]
[3530,589343,1406820]
[3531,589510,1408791]
[3532,589677,1410765]
[3533,589844,1412742]
[3534,590011,1414721]
[3535,590178,1416703]
[3536,590345,1418688]
[3537,590512,1420676]
[3538,590679,1422666]
[3539,590846,1424660]
[3540,591013,1426656]
[3541,591180,1428655]
[3542,591347,1430657]
[3543,591514,1432661]
[3544,591681,1434668]
[3545,591848,1436679]
[3546,592015,1438691]
[3547,592182,1440707]
[3548,592349,1442726]
[3549,592516,1444747]
[3550,592683,1446772]
[3551,592850,1448799]
[3552,593017,1450829]
[3553,593184,1452861]
[3554,593351,1454897]
[3555,593518,1456936]
[3556,593685,1458977]
[3557,593852,1461021]
[3558,594019,1463068]
[3559,594186,1465118]
[3560,594353,1467171]
[3561,594520,1469227]
[3562,594687,1471285]
[3563,594854,1473347]
[3564,595021,1475411]
[3565,595188,1477478]
[3566,595355,1479548]
[3567,595522,1481621]
[3568,595689,1483697]
[3569,595856,1485776]
[3570,596023,1487858]
[3571,596190,1489942]
[3572,596357,1492030]
[3573,596524,1494121]
[3574,596691,1496214]
[3575,596858,1498310]
[3576,597025,1500410]
[3577,597192,1502512]
[3578,597359,1504617]
[3579,597526,1506725]
[3580,597693,1508836]
[3581,597860,1510950]
[3582,598027,1513068]
[3583,598194,1515187]
[3584,598361,1517310]
[3585,598528,1519436]
[3586,598695,1521565]
[3587,598862,1523697]
[3588,599029,1525832]
[3589,599196,1527970]
[3590,599363,1530111]
[3591,599530,1532255]
[3592,599697,1534402]
[3593,599864,1536551]
[3594,600031,1538704]
[3595,600198,1540860]
[3596,600365,1543019]
[3597,600532,1545181]
[3598,600699,1547346]
[3599,600866,1549514]
[3600,601033,1551685]
[3601,601200,1553859]
[3602,601367,1556036]
[3603,601534,1558217]
[3604,601701,1560400]
[3605,601868,1562586]
[3606,602035,1564776]
[3607,602202,1566968]
[3608,602369,1569164]
[3609,602536,1571362]
[3610,602703,1573564]
[3611,602870,1575769]
[3612,603037,1577976]
[3613,603204,1580187]
[3614,603371,1582401]
[3615,603538,1584619]
[3616,603705,1586839]
[3617,603872,1589062]
[3618,604039,1591289]
[3619,604206,1593518]
[3620,604373,1595751]
[3621,604540,1597987]
[3622,604707,1600226]
[3623,604874,1602468]
[3624,605041,1604713]
[3625,605208,1606961]
[3626,605375,1609213]
[3627,605542,1611468]
[3628,605709,1613726]
[3629,605876,1615987]
[3630,606043,1618251]
[3631,606210,1620518]
[3632,606377,1622789]
[3633,606544,1625062]
[3634,606711,1627339]
[3635,606878,1629619]
[3636,607045,1631903]
[3637,607212,1634189]
[3638,607379,1636479]
[3639,607546,1638772]
[3640,607713,1641068]
[3641,607880,1643367]
[3642,608047,1645670]
[3643,608214,1647976]
[3644,608381,1650285]
[3645,608548,1652597]
[3646,608715,1654912]
[3647,608882,1657231]
[3648,609049,1659553]
[3649,609216,1661878]
[3650,609383,1664207]
[3651,609550,1666539]
[3652,609717,1668874]
[3653,609884,1671212]
[3654,610051,1673553]
[3655,610218,1675898]
[3656,610385,1678246]
[3657,610552,1680598]
[3658,610719,1682953]
[3659,610886,1685311]
[3660,611053,1687672]
[3661,611220,1690037]
[3662,611387,1692404]
[3663,611554,1694776]
[3664,611721,1697150]
[3665,611888,1699528]
[3666,612055,1701909]
[3667,612222,1704294]
[3668,612389,1706682]
[3669,612556,1709073]
[3670,612723,1711468]
[3671,612890,1713866]
[3672,613057,1716267]
[3673,613224,1718672]
[3674,613391,1721080]
[3675,613558,1723491]
[3676,613725,1725906]
[3677,613892,1728324]
[3678,614059,1730746]
[3679,614226,1733171]
[3680,614393,1735599]
[3681,614560,1738031]
[3682,614727,1740466]
[3683,614894,1742905]
[3684,615061,1745347]
[3685,615228,1747792]
[3686,615395,1750241]
[3687,615562,1752694]
[3688,615729,1755149]
[3689,615896,1757609]
[3690,616063,1760071]
[3691,616230,1762537]
[3692,616397,1765007]
[3693,616564,1767480]
[3694,616731,1769956]
[3695,616898,1772436]
[3696,617065,1774919]
[3697,617232,1777406]
[3698,617399,1779897]
[3699,617566,1782391]
[3700,617733,1784888]
[3701,617900,1787389]
[3702,618067,1789893]
[3703,618234,1792401]
[3704,618401,1794912]
[3705,618568,1797427]
[3706,618735,1799946]
[3707,618902,1802468]
[3708,619069,1804993]
[3709,619236,1807522]
[3710,619403,1810055]
[3711,619570,1812591]
[3712,619737,1815130]
[3713,619904,1817674]
[3714,620071,1820220]
[3715,620238,1822771]
[3716,620405,1825325]
[3717,620572,1827882]
[3718,620739,1830443]
[3719,620906,1833008]
[3720,621073,1835576]
[3721,621240,1838148]
[3722,621407,1840724]
[3723,621574,1843303]
[3724,621741,1845885]
[3725,621908,1848472]
[3726,622075,1851062]
[3727,622242,1853655]
[3728,622409,1856252]
[3729,622576,1858853]
[3730,622743,1861458]
[3731,622910,1864066]
[3732,623077,1866678]
[3733,623244,1869293]
[3734,623411,1871912]
[3735,623578,1874535]
[3736,623745,1877161]
[3737,623912,1879791]
[3738,624079,1882425]
[3739,624246,1885063]
[3740,624413,1887704]
[3741,624580,1890349]
[3742,624747,1892997]
[3743,624914,1895650]
[3744,625081,1898306]
[3745,625248,1900966]
[3746,625415,1903629]
[3747,625582,1906296]
[3748,625749,1908967]
[3749,625916,1911642]
[3750,626083,1914320]
[3751,626250,1917003]
[3752,626417,1919688]
[3753,626584,1922378]
[3754,626751,1925072]
[3755,626918,1927769]
[3756,627085,1930470]
[3757,627252,1933175]
[3758,627419,1935883]
[3759,627586,1938596]
[3760,627753,1941312]
[3761,627920,1944032]
[3762,628087,1946756]
[3763,628254,1949484]
[3764,628421,1952215]
[3765,628588,1954950]
[3766,628755,1957689]
[3767,628922,1960432]
[3768,629089,1963179]
[3769,629256,1965930]
[3770,629423,1968684]
[3771,629590,1971443]
[3772,629757,1974205]
[3773,629924,1976971]
[3774,630091,1979741]
[3775,630258,1982515]
[3776,630425,1985293]
[3777,630592,1988074]
[3778,630759,1990860]
[3779,630926,1993649]
[3780,631093,1996443]
[3781,631260,1999240]
[3782,631427,2000000]
[3783,631594,2004846]
[3784,631761,2007655]
[3785,631928,2010468]
[3786,632095,2013285]
[3787,632262,2016106]
[3788,632429,2018931]
[3789,632596,2021759]
[3790,632763,2024592]
[3791,632930,2027429]
[3792,633097,2030269]
[3793,633264,2033114]
[3794,633431,2035963]
[3795,633598,2038815]
[3796,633765,2041672]
[3797,633932,2044533]
[3798,634099,2047397]
[3799,634266,2050266]
[3800,634433,2053139]
[3801,634600,2056015]
[3802,634767,2058896]
[3803,634934,2061781]
[3804,635101,2064670]
[3805,635268,2067562]
[3806,635435,2070459]
[3807,635602,2073360]
[3808,635769,2076265]
[3809,635936,2079174]
[3810,636103,2082088]
[3811,636270,2085005]
[3812,636437,2087926]
[3813,636604,2090852]
[3814,636771,2093781]
[3815,636938,2096715]
[3816,637105,2099653]
[3817,637272,2102594]
[3818,637439,2105540]
[3819,637606,2108491]
[3820,637773,2111445]
[3821,637940,2114403]
[3822,638107,2117366]
[3823,638274,2120332]
[3824,638441,2123303]
[3825,638608,2126278]
[3826,638775,2129257]
[3827,638942,2132241]
[3828,639109,2135228]
[3829,639276,2138220]
[3830,639443,2141216]
[3831,639610,2144216]
[3832,639777,2147220]
[3833,639944,2150229]
[3834,640111,2153242]
[3835,640278,2156259]
[3836,640445,2159280]
[3837,640612,2162305]
[3838,640779,2165335]
[3839,640946,2168369]
[3840,641113,2171407]
[3841,641280,2174449]
[3842,641447,2177496]
[3843,641614,2180547]
[3844,641781,2183602]
[3845,641948,2186662]
[3846,642115,2189725]
[3847,642282,2192793]
[3848,642449,2195866]
[3849,642616,2198942]
[3850,642783,2202023]
[3851,642950,2205109]
[3852,643117,2208198]
[3853,643284,2211292]
[3854,643451,2214391]
[3855,643618,2217493]
[3856,643785,2220600]
[3857,643952,2223712]
[3858,644119,2226827]
[3859,644286,2229947]
[3860,644453,2233072]
[3861,644620,2236201]
[3862,644787,2239334]
[3863,644954,2242471]
[3864,645121,2245613]
[3865,645288,2248760]
[3866,645455,2251910]
[3867,645622,2255066]
[3868,645789,2258225]
[3869,645956,2261389]
[3870,646123,2264558]
[3871,646290,2267731]
[3872,646457,2270908]
[3873,646624,2274090]
[3874,646791,2277276]
[3875,646958,2280467]
[3876,647125,2283662]
[3877,647292,2286862]
[3878,647459,2290066]
[3879,647626,2293275]
[3880,647793,2296488]
[3881,647960,2299705]
[3882,648127,2302928]
[3883,648294,2306154]
[3884,648461,2309385]
[3885,648628,2312621]
[3886,648795,2315861]
[3887,648962,2319106]
[3888,649129,2322356]
[3889,649296,2325609]
[3890,649463,2328868]
[3891,649630,2332131]
[3892,649797,2335399]
[3893,649964,2338671]
[3894,650131,2341948]
[3895,650298,2345229]
[3896,650465,2348515]
[3897,650632,2351805]
[3898,650799,2355101]
[3899,650966,2358400]
[3900,651133,2361705]
[3901,651300,2365014]
[3902,651467,2368327]
[3903,651634,2371646]
[3904,651801,2374969]
[3905,651968,2378296]
[3906,652135,2381629]
[3907,652302,2384966]
[3908,652469,2388307]
[3909,652636,2391653]
[3910,652803,2395004]
[3911,652970,2398360]
[3912,653137,2401721]
[3913,653304,2405086]
[3914,653471,2408455]
[3915,653638,2411830]
[3916,653805,2415209]
[3917,653972,2418593]
[3918,654139,2421982]
[3919,654306,2425376]
[3920,654473,2428774]
[3921,654640,2432177]
[3922,654807,2435585]
[3923,654974,2438997]
[3924,655141,2442414]
[3925,655308,2445837]
[3926,655475,2449263]
[3927,655642,2452695]
[3928,655809,2456132]
[3929,655976,2459573]
[3930,656143,2463019]
[3931,656310,2466470]
[3932,656477,2469926]
[3933,656644,2473387]
[3934,656811,2476852]
[3935,656978,2480323]
[3936,657145,2483798]
[3937,657312,2487278]
[3938,657479,2490763]
[3939,657646,2494253]
[3940,657813,2497747]
[3941,657980,2501247]
[3942,658147,2504752]
[3943,658314,2508261]
[3944,658481,2511775]
[3945,658648,2515295]
[3946,658815,2518819]
[3947,658982,2522348]
[3948,659149,2525882]
[3949,659316,2529421]
[3950,659483,2532965]
[3951,659650,2536514]
[3952,659817,2540068]
[3953,659984,2543627]
[3954,660151,2547191]
[3955,660318,2550760]
[3956,660485,2554334]
[3957,660652,2557913]
[3958,660819,2561497]
[3959,660986,2565086]
[3960,661153,2568680]
[3961,661320,2572279]
[3962,661487,2575883]
[3963,661654,2579492]
[3964,661821,2583106]
[3965,661988,2586726]
[3966,662155,2590350]
[3967,662322,2593979]
[3968,662489,2597614]
[3969,662656,2601253]
[3970,662823,2604898]
[3971,662990,2608548]
[3972,663157,2612203]
[3973,663324,2615863]
[3974,663491,2619528]
[3975,663658,2623198]
[3976,663825,2626874]
[3977,663992,2630554]
[3978,664159,2634240]
[3979,664326,2637931]
[3980,664493,2641627]
[3981,664660,2645328]
[3982,664827,2649034]
[3983,664994,2652746]
[3984,665161,2656463]
[3985,665328,2660185]
[3986,665495,2663912]
[3987,665662,2667645]
[3988,665829,2671382]
[3989,665996,2675125]
[3990,666163,2678873]
[3991,666330,2682627]
[3992,666497,2686385]
[3993,666664,2690149]
[3994,666831,2693919]
[3995,666998,2697693]
[3996,667165,2701473]
[3997,667332,2705258]
[3998,667499,2709048]
[3999,667666,2712844]
[4000,667833,2716645]
[4001,668000,2720452]
[4002,668167,2724263]
[4003,668334,2728080]
[4004,668501,2731903]
[4005,668668,2735730]
[4006,668835,2739563]
[4007,669002,2743402]
[4008,669169,2747246]
[4009,669336,2751095]
[4010,669503,2754950]
[4011,669670,2758810]
[4012,669837,2762675]
[4013,670004,2766546]
[4014,670171,2770422]
[4015,670338,2774304]
[4016,670505,2778191]
[4017,670672,2782084]
[4018,670839,2785982]
[4019,671006,2789885]
[4020,671173,2793794]
[4021,671340,2797708]
[4022,671507,2801628]
[4023,671674,2805554]
[4024,671841,2809485]
[4025,672008,2813421]
[4026,672175,2817363]
[4027,672342,2821311]
[4028,672509,2825264]
[4029,672676,2829222]
[4030,672843,2833186]
[4031,673010,2837156]
[4032,673177,2841131]
[4033,673344,2845112]
[4034,673511,2849098]
[4035,673678,2853090]
[4036,673845,2857088]
[4037,674012,2861091]
[4038,674179,2865099]
[4039,674346,2869114]
[4040,674513,2873134]
[4041,674680,2877159]
[4042,674847,2881191]
[4043,675014,2885228]
[4044,675181,2889270]
[4045,675348,2893318]
[4046,675515,2897372]
[4047,675682,2901432]
[4048,675849,2905497]
[4049,676016,2909568]
[4050,676183,2913645]
[4051,676350,2917727]
[4052,676517,2921815]
[4053,676684,2925909]
[4054,676851,2930008]
[4055,677018,2934114]
[4056,677185,2938225]
[4057,677352,2942342]
[4058,677519,2946464]
[4059,677686,2950593]
[4060,677853,2954727]
[4061,678020,2958867]
[4062,678187,2963012]
[4063,678354,2967164]
[4064,678521,2971321]
[4065,678688,2975484]
[4066,678855,2979653]
[4067,679022,2983828]
[4068,679189,2988009]
[4069,679356,2992196]
[4070,679523,2996388]
[4071,679690,3000000]
[4072,679857,3004790]
[4073,680024,3009001]
[4074,680191,3013216]
[4075,680358,3017438]
[4076,680525,3021666]
[4077,680692,3025900]
[4078,680859,3030140]
[4079,681026,3034385]
[4080,681193,3038637]
[4081,681360,3042894]
[4082,681527,3047158]
[4083,681694,3051427]
[4084,681861,3055702]
[4085,682028,3059984]
[4086,682195,3064271]
[4087,682362,3068565]
[4088,682529,3072864]
[4089,682696,3077170]
[4090,682863,3081481]
[4091,683030,3085799]
[4092,683197,3090122]
[4093,683364,3094452]
[4094,683531,3098788]
[4095,683698,3103129]
[4096,683865,3107477]
[4097,684032,3111831]
[4098,684199,3116191]
[4099,684366,3120557]
[4100,684533,3124930]
[4101,684700,3129308]
[4102,684867,3133693]
[4103,685034,3138083]
[4104,685201,3142480]
[4105,685368,3146883]
[4106,685535,3151292]
[4107,685702,3155708]
[4108,685869,3160129]
[4109,686036,3164557]
[4110,686203,3168991]
[4111,686370,3173431]
[4112,686537,3177877]
[4113,686704,3182330]
[4114,686871,3186789]
[4115,687038,3191254]
[4116,687205,3195725]
[4117,687372,3200203]
[4118,687539,3204687]
[4119,687706,3209177]
[4120,687873,3213673]
[4121,688040,3218176]
[4122,688207,3222685]
[4123,688374,3227200]
[4124,688541,3231722]
[4125,688708,3236250]
[4126,688875,3240784]
[4127,689042,3245325]
[4128,689209,3249872]
[4129,689376,3254426]
[4130,689543,3258986]
[4131,689710,3263552]
[4132,689877,3268124]
[4133,690044,3272703]
[4134,690211,3277289]
[4135,690378,3281881]
[4136,690545,3286479]
[4137,690712,3291084]
[4138,690879,3295695]
[4139,691046,3300313]
[4140,691213,3304937]
[4141,691380,3309567]
[4142,691547,3314205]
[4143,691714,3318848]
[4144,691881,3323498]
[4145,692048,3328155]
[4146,692215,3332818]
[4147,692382,3337488]
[4148,692549,3342164]
[4149,692716,3346847]
[4150,692883,3351536]
[4151,693050,3356232]
[4152,693217,3360934]
[4153,693384,3365644]
[4154,693551,3370359]
[4155,693718,3375081]
[4156,693885,3379810]
[4157,694052,3384546]
[4158,694219,3389288]
[4159,694386,3394037]
[4160,694553,3398792]
[4161,694720,3403554]
[4162,694887,3408323]
[4163,695054,3413099]
[4164,695221,3417881]
[4165,695388,3422670]
[4166,695555,3427465]
[4167,695722,3432268]
[4168,695889,3437077]
[4169,696056,3441892]
[4170,696223,3446715]
[4171,696390,3451544]
[4172,696557,3456380]
[4173,696724,3461223]
[4174,696891,3466073]
[4175,697058,3470929]
[4176,697225,3475792]
[4177,697392,3480662]
[4178,697559,3485539]
[4179,697726,3490423]
[4180,697893,3495313]
[4181,698060,3500211]
[4182,698227,3505115]
[4183,698394,3510026]
[4184,698561,3514944]
[4185,698728,3519869]
[4186,698895,3524800]
[4187,699062,3529739]
[4188,699229,3534685]
[4189,699396,3539637]
[4190,699563,3544597]
[4191,699730,3549563]
[4192,699897,3554536]
[4193,700064,3559517]
[4194,700231,3564504]
[4195,700398,3569498]
[4196,700565,3574500]
[4197,700732,3579508]
[4198,700899,3584523]
[4199,701066,3589546]
[4200,701233,3594575]
[4201,701400,3599611]
[4202,701567,3604655]
[4203,701734,3609706]
[4204,701901,3614763]
[4205,702068,3619828]
[4206,702235,3624900]
[4207,702402,3629979]
[4208,702569,3635065]
[4209,702736,3640158]
[4210,702903,3645258]
[4211,703070,3650366]
[4212,703237,3655480]
[4213,703404,3660602]
[4214,703571,3665731]
[4215,703738,3670867]
[4216,703905,3676010]
[4217,704072,3681161]
[4218,704239,3686319]
[4219,704406,3691484]
[4220,704573,3696656]
[4221,704740,3701835]
[4222,704907,3707022]
[4223,705074,3712216]
[4224,705241,3717417]
[4225,705408,3722626]
[4226,705575,3727842]
[4227,705742,3733065]
[4228,705909,3738295]
[4229,706076,3743533]
[4230,706243,3748778]
[4231,706410,3754031]
[4232,706577,3759291]
[4233,706744,3764558]
[4234,706911,3769832]
[4235,707078,3775114]
[4236,707245,3780404]
[4237,707412,3785701]
[4238,707579,3791005]
[4239,707746,3796316]
[4240,707913,3801636]
[4241,708080,3806962]
[4242,708247,3812296]
[4243,708414,3817638]
[4244,708581,3822987]
[4245,708748,3828343]
[4246,708915,3833707]
[4247,709082,3839079]
[4248,709249,3844458]
[4249,709416,3849844]
[4250,709583,3855238]
[4251,709750,3860640]
[4252,709917,3866049]
[4253,710084,3871466]
[4254,710251,3876890]
[4255,710418,3882322]
[4256,710585,3887762]
[4257,710752,3893209]
[4258,710919,3898664]
[4259,711086,3904126]
[4260,711253,3909597]
[4261,711420,3915074]
[4262,711587,3920560]
[4263,711754,3926053]
[4264,711921,3931554]
[4265,712088,3937063]
[4266,712255,3942579]
[4267,712422,3948103]
[4268,712589,3953635]
[4269,712756,3959174]
[4270,712923,3964721]
[4271,713090,3970276]
[4272,713257,3975839]
[4273,713424,3981410]
[4274,713591,3986988]
[4275,713758,3992575]
[4276,713925,3998169]
[4277,714092,4000000]
[4278,714259,4009380]
[4279,714426,4014998]
[4280,714593,4020624]
[4281,714760,4026257]
[4282,714927,4031898]
[4283,715094,4037547]
[4284,715261,4043204]
[4285,715428,4048869]
[4286,715595,4054542]
[4287,715762,4060223]
[4288,715929,4065912]
[4289,716096,4071609]
[4290,716263,4077314]
[4291,716430,4083027]
[4292,716597,4088747]
[4293,716764,4094476]
[4294,716931,4100213]
[4295,717098,4105958]
[4296,717265,4111711]
[4297,717432,4117472]
[4298,717599,4123241]
[4299,717766,4129018]
[4300,717933,4134803]
[4301,718100,4140597]
[4302,718267,4146398]
[4303,718434,4152208]
[4304,718601,4158026]
[4305,718768,4163852]
[4306,718935,4169686]
[4307,719102,4175528]
[4308,719269,4181378]
[4309,719436,4187237]
[4310,719603,4193104]
[4311,719770,4198979]
[4312,719937,4204862]
[4313,720104,4210754]
[4314,720271,4216653]
[4315,720438,4222561]
[4316,720605,4228478]
[4317,720772,4234402]
[4318,720939,4240335]
[4319,721106,4246276]
[4320,721273,4252226]
[4321,721440,4258184]
[4322,721607,4264150]
[4323,721774,4270125]
[4324,721941,4276108]
[4325,722108,4282099]
[4326,722275,4288099]
[4327,722442,4294107]
[4328,722609,4300123]
[4329,722776,4306148]
[4330,722943,4312182]
[4331,723110,4318224]
[4332,723277,4324274]
[4333,723444,4330333]
[4334,723611,4336400]
[4335,723778,4342476]
[4336,723945,4348560]
[4337,724112,4354653]
[4338,724279,4360755]
[4339,724446,4366865]
[4340,724613,4372983]
[4341,724780,4379110]
[4342,724947,4385246]
[4343,725114,4391390]
[4344,725281,4397543]
[4345,725448,4403704]
[4346,725615,4409875]
[4347,725782,4416053]
[4348,725949,4422241]
[4349,726116,4428437]
[4350,726283,4434642]
[4351,726450,4440855]
[4352,726617,4447077]
[4353,726784,4453308]
[4354,726951,4459548]
[4355,727118,4465796]
[4356,727285,4472053]
[4357,727452,4478319]
[4358,727619,4484594]
[4359,727786,4490877]
[4360,727953,4497170]
[4361,728120,4503471]
[4362,728287,4509781]
[4363,728454,4516099]
[4364,728621,4522427]
[4365,728788,4528763]
[4366,728955,4535109]
[4367,729122,4541463]
[4368,729289,4547826]
[4369,729456,4554198]
[4370,729623,4560579]
[4371,729790,4566969]
[4372,729957,4573368]
[4373,730124,4579776]
[4374,730291,4586193]
[4375,730458,4592618]
[4376,730625,4599053]
[4377,730792,4605497]
[4378,730959,4611950]
[4379,731126,4618412]
[4380,731293,4624883]
[4381,731460,4631363]
[4382,731627,4637852]
[4383,731794,4644350]
[4384,731961,4650857]
[4385,732128,4657374]
[4386,732295,4663899]
[4387,732462,4670434]
[4388,732629,4676978]
[4389,732796,4683531]
[4390,732963,4690093]
[4391,733130,4696664]
[4392,733297,4703245]
[4393,733464,4709835]
[4394,733631,4716434]
[4395,733798,4723042]
[4396,733965,4729660]
[4397,734132,4736287]
[4398,734299,4742923]
[4399,734466,4749568]
[4400,734633,4756223]
[4401,734800,4762887]
[4402,734967,4769560]
[4403,735134,4776243]
[4404,735301,4782935]
[4405,735468,4789636]
[4406,735635,4796347]
[4407,735802,4803068]
[4408,735969,4809797]
[4409,736136,4816536]
[4410,736303,4823285]
[4411,736470,4830043]
[4412,736637,4836810]
[4413,736804,4843587]
[4414,736971,4850374]
[4415,737138,4857170]
[4416,737305,4863975]
[4417,737472,4870790]
[4418,737639,4877615]
[4419,737806,4884449]
[4420,737973,4891293]
[4421,738140,4898146]
[4422,738307,4905009]
[4423,738474,4911881]
[4424,738641,4918763]
[4425,738808,4925655]
[4426,738975,4932557]
[4427,739142,4939468]
[4428,739309,4946389]
[4429,739476,4953319]
[4430,739643,4960259]
[4431,739810,4967209]
[4432,739977,4974169]
[4433,740144,4981138]
[4434,740311,4988117]
[4435,740478,4995106]
[4436,740645,5000000]
[4437,740812,5009114]
[4438,740979,5016132]
[4439,741146,5023160]
[4440,741313,5030198]
[4441,741480,5037246]
[4442,741647,5044304]
[4443,741814,5051372]
[4444,741981,5058449]
[4445,742148,5065537]
[4446,742315,5072634]
[4447,742482,5079742]
[4448,742649,5086859]
[4449,742816,5093986]
[4450,742983,5101124]
[4451,743150,5108271]
[4452,743317,5115428]
[4453,743484,5122595]
[4454,743651,5129773]
[4455,743818,5136960]
[4456,743985,5144158]
[4457,744152,5151365]
[4458,744319,5158583]
[4459,744486,5165811]
[4460,744653,5173049]
[4461,744820,5180297]
[4462,744987,5187555]
[4463,745154,5194823]
[4464,745321,5202102]
[4465,745488,5209391]
[4466,745655,5216690]
[4467,745822,5223999]
[4468,745989,5231318]
[4469,746156,5238648]
[4470,746323,5245988]
[4471,746490,5253338]
[4472,746657,5260699]
[4473,746824,5268070]
[4474,746991,5275451]
[4475,747158,5282843]
[4476,747325,5290245]
[4477,747492,5297657]
[4478,747659,5305079]
[4479,747826,5312512]
[4480,747993,5319956]
[4481,748160,5327410]
[4482,748327,5334874]
[4483,748494,5342349]
[4484,748661,5349834]
[4485,748828,5357330]
[4486,748995,5364836]
[4487,749162,5372353]
[4488,749329,5379880]
[4489,749496,5387418]
[4490,749663,5394967]
[4491,749830,5402526]
[4492,749997,5410095]
[4493,750164,5417675]
[4494,750331,5425266]
[4495,750498,5432868]
[4496,750665,5440480]
[4497,750832,5448103]
[4498,750999,5455736]
[4499,751166,5463380]
[4500,751333,5471035]
[4501,751500,5478701]
[4502,751667,5486377]
[4503,751834,5494064]
[4504,752001,5501762]
[4505,752168,5509471]
[4506,752335,5517190]
[4507,752502,5524920]
[4508,752669,5532661]
[4509,752836,5540413]
[4510,753003,5548176]
[4511,753170,5555950]
[4512,753337,5563734]
[4513,753504,5571530]
[4514,753671,5579336]
[4515,753838,5587153]
[4516,754005,5594982]
[4517,754172,5602821]
[4518,754339,5610671]
[4519,754506,5618532]
[4520,754673,5626405]
[4521,754840,5634288]
[4522,755007,5642182]
[4523,755174,5650088]
[4524,755341,5658004]
[4525,755508,5665932]
[4526,755675,5673870]
[4527,755842,5681820]
[4528,756009,5689781]
[4529,756176,5697753]
[4530,756343,5705736]
[4531,756510,5713731]
[4532,756677,5721736]
[4533,756844,5729753]
[4534,757011,5737781]
[4535,757178,5745821]
[4536,757345,5753871]
[4537,757512,5761933]
[4538,757679,5770006]
[4539,757846,5778091]
[4540,758013,5786186]
[4541,758180,5794294]
[4542,758347,5802412]
[4543,758514,5810542]
[4544,758681,5818683]
[4545,758848,5826836]
[4546,759015,5835000]
[4547,759182,5843176]
[4548,759349,5851363]
[4549,759516,5859561]
[4550,759683,5867771]
[4551,759850,5875992]
[4552,760017,5884225]
[4553,760184,5892470]
[4554,760351,5900726]
[4555,760518,5908994]
[4556,760685,5917273]
[4557,760852,5925564]
[4558,761019,5933866]
[4559,761186,5942180]
[4560,761353,5950506]
[4561,761520,5958843]
[4562,761687,5967192]
[4563,761854,5975553]
[4564,762021,5983926]
[4565,762188,5992310]
[4566,762355,6000000]
[4567,762522,6009113]
[4568,762689,6017533]
[4569,762856,6025964]
[4570,763023,6034407]
[4571,763190,6042862]
[4572,763357,6051329]
[4573,763524,6059808]
[4574,763691,6068298]
[4575,763858,6076801]
[4576,764025,6085315]
[4577,764192,6093841]
[4578,764359,6102379]
[4579,764526,6110930]
[4580,764693,6119492]
[4581,764860,6128066]
[4582,765027,6136652]
[4583,765194,6145250]
[4584,765361,6153860]
[4585,765528,6162483]
[4586,765695,6171117]
[4587,765862,6179764]
[4588,766029,6188422]
[4589,766196,6197093]
[4590,766363,6205776]
[4591,766530,6214471]
[4592,766697,6223178]
[4593,766864,6231897]
[4594,767031,6240629]
[4595,767198,6249373]
[4596,767365,6258129]
[4597,767532,6266898]
[4598,767699,6275678]
[4599,767866,6284471]
[4600,768033,6293277]
[4601,768200,6302094]
[4602,768367,6310924]
[4603,768534,6319767]
[4604,768701,6328621]
[4605,768868,6337488]
[4606,769035,6346368]
[4607,769202,6355260]
[4608,769369,6364165]
[4609,769536,6373081]
[4610,769703,6382011]
[4611,769870,6390953]
[4612,770037,6399907]
[4613,770204,6408874]
[4614,770371,6417854]
[4615,770538,6426846]
[4616,770705,6435851]
[4617,770872,6444868]
[4618,771039,6453898]
[4619,771206,6462941]
[4620,771373,6471997]
[4621,771540,6481065]
[4622,771707,6490145]
[4623,771874,6499239]
[4624,772041,6508345]
[4625,772208,6517464]
[4626,772375,6526596]
[4627,772542,6535740]
[4628,772709,6544898]
[4629,772876,6554068]
[4630,773043,6563251]
[4631,773210,6572447]
[4632,773377,6581656]
[4633,773544,6590877]
[4634,773711,6600112]
[4635,773878,6609359]
[4636,774045,6618620]
[4637,774212,6627893]
[4638,774379,6637180]
[4639,774546,6646479]
[4640,774713,6655792]
[4641,774880,6665118]
[4642,775047,6674456]
[4643,775214,6683808]
[4644,775381,6693173]
[4645,775548,6702551]
[4646,775715,6711942]
[4647,775882,6721346]
[4648,776049,6730763]
[4649,776216,6740194]
[4650,776383,6749638]
[4651,776550,6759095]
[4652,776717,6768565]
[4653,776884,6778049]
[4654,777051,6787546]
[4655,777218,6797056]
[4656,777385,6806579]
[4657,777552,6816116]
[4658,777719,6825666]
[4659,777886,6835230]
[4660,778053,6844807]
[4661,778220,6854397]
[4662,778387,6864001]
[4663,778554,6873618]
[4664,778721,6883249]
[4665,778888,6892893]
[4666,779055,6902551]
[4667,779222,6912223]
[4668,779389,6921907]
[4669,779556,6931606]
[4670,779723,6941318]
[4671,779890,6951043]
[4672,780057,6960783]
[4673,780224,6970536]
[4674,780391,6980302]
[4675,780558,6990082]
[4676,780725,6999876]
[4677,780892,7000000]
[4678,781059,7019505]
[4679,781226,7029341]
[4680,781393,7039190]
[4681,781560,7049052]
[4682,781727,7058929]
[4683,781894,7068819]
[4684,782061,7078724]
[4685,782228,7088642]
[4686,782395,7098574]
[4687,782562,7108520]
[4688,782729,7118480]
[4689,782896,7128454]
[4690,783063,7138441]
[4691,783230,7148443]
[4692,783397,7158459]
[4693,783564,7168489]
[4694,783731,7178533]
[4695,783898,7188591]
[4696,784065,7198663]
[4697,784232,7208749]
[4698,784399,7218849]
[4699,784566,7228964]
[4700,784733,7239093]
[4701,784900,7249235]
[4702,785067,7259392]
[4703,785234,7269564]
[4704,785401,7279749]
[4705,785568,7289949]
[4706,785735,7300163]
[4707,785902,7310392]
[4708,786069,7320634]
[4709,786236,7330891]
[4710,786403,7341163]
[4711,786570,7351449]
[4712,786737,7361749]
[4713,786904,7372064]
[4714,787071,7382393]
[4715,787238,7392736]
[4716,787405,7403095]
[4717,787572,7413467]
[4718,787739,7423854]
[4719,787906,7434256]
[4720,788073,7444672]
[4721,788240,7455103]
[4722,788407,7465549]
[4723,788574,7476009]
[4724,788741,7486484]
[4725,788908,7496973]
[4726,789075,7507477]
[4727,789242,7517996]
[4728,789409,7528530]
[4729,789576,7539078]
[4730,789743,7549641]
[4731,789910,7560219]
[4732,790077,7570812]
[4733,790244,7581420]
[4734,790411,7592042]
[4735,790578,7602680]
[4736,790745,7613332]
[4737,790912,7623999]
[4738,791079,7634681]
[4739,791246,7645378]
[4740,791413,7656090]
[4741,791580,7666817]
[4742,791747,7677560]
[4743,791914,7688317]
[4744,792081,7699089]
[4745,792248,7709876]
[4746,792415,7720679]
[4747,792582,7731496]
[4748,792749,7742329]
[4749,792916,7753177]
[4750,793083,7764040]
[4751,793250,7774919]
[4752,793417,7785812]
[4753,793584,7796721]
[4754,793751,7807645]
[4755,793918,7818585]
[4756,794085,7829540]
[4757,794252,7840510]
[4758,794419,7851495]
[4759,794586,7862496]
[4760,794753,7873512]
[4761,794920,7884544]
[4762,795087,7895591]
[4763,795254,7906654]
[4764,795421,7917732]
[4765,795588,7928826]
[4766,795755,7939935]
[4767,795922,7951060]
[4768,796089,7962200]
[4769,796256,7973356]
[4770,796423,7984528]
[4771,796590,7995715]
[4772,796757,8000000]
[4773,796924,8018137]
[4774,797091,8029371]
[4775,797258,8040621]
[4776,797425,8051887]
[4777,797592,8063169]
[4778,797759,8074466]
[4779,797926,8085780]
[4780,798093,8097109]
[4781,798260,8108454]
[4782,798427,8119815]
[4783,798594,8131192]
[4784,798761,8142584]
[4785,798928,8153993]
[4786,799095,8165418]
[4787,799262,8176859]
[4788,799429,8188315]
[4789,799596,8199788]
[4790,799763,8211277]
[4791,799930,8222782]
[4792,800097,8234303]
[4793,800264,8245840]
[4794,800431,8257394]
[4795,800598,8268963]
[4796,800765,8280549]
[4797,800932,8292151]
[4798,801099,8303770]
[4799,801266,8315404]
[4800,801433,8327055]
[4801,801600,8338722]
[4802,801767,8350406]
[4803,801934,8362106]
[4804,802101,8373822]
[4805,802268,8385555]
[4806,802435,8397304]
[4807,802602,8409070]
[4808,802769,8420852]
[4809,802936,8432650]
[4810,803103,8444466]
[4811,803270,8456297]
[4812,803437,8468146]
[4813,803604,8480010]
[4814,803771,8491892]
[4815,803938,8503790]
[4816,804105,8515705]
[4817,804272,8527637]
[4818,804439,8539585]
[4819,804606,8551550]
[4820,804773,8563532]
[4821,804940,8575530]
[4822,805107,8587545]
[4823,805274,8599578]
[4824,805441,8611627]
[4825,805608,8623693]
[4826,805775,8635775]
[4827,805942,8647875]
[4828,806109,8659992]
[4829,806276,8672126]
[4830,806443,8684276]
[4831,806610,8696444]
[4832,806777,8708629]
[4833,806944,8720831]
[4834,807111,8733050]
[4835,807278,8745286]
[4836,807445,8757539]
[4837,807612,8769809]
[4838,807779,8782097]
[4839,807946,8794402]
[4840,808113,8806724]
[4841,808280,8819063]
[4842,808447,8831419]
[4843,808614,8843793]
[4844,808781,8856185]
[4845,808948,8868593]
[4846,809115,8881019]
[4847,809282,8893462]
[4848,809449,8905923]
[4849,809616,8918402]
[4850,809783,8930897]
[4851,809950,8943411]
[4852,810117,8955941]
[4853,810284,8968490]
[4854,810451,8981056]
[4855,810618,8993639]
[4856,810785,9000000]
[4857,810952,9018859]
[4858,811119,9031496]
[4859,811286,9044150]
[4860,811453,9056822]
[4861,811620,9069512]
[4862,811787,9082219]
[4863,811954,9094944]
[4864,812121,9107687]
[4865,812288,9120448]
[4866,812455,9133227]
[4867,812622,9146024]
[4868,812789,9158839]
[4869,812956,9171671]
[4870,813123,9184522]
[4871,813290,9197391]
[4872,813457,9210277]
[4873,813624,9223182]
[4874,813791,9236105]
[4875,813958,9249046]
[4876,814125,9262005]
[4877,814292,9274982]
[4878,814459,9287977]
[4879,814626,9300991]
[4880,814793,9314023]
[4881,814960,9327073]
[4882,815127,9340141]
[4883,815294,9353228]
[4884,815461,9366333]
[4885,815628,9379456]
[4886,815795,9392598]
[4887,815962,9405758]
[4888,816129,9418937]
[4889,816296,9432134]
[4890,816463,9445349]
[4891,816630,9458583]
[4892,816797,9471836]
[4893,816964,9485107]
[4894,817131,9498397]
[4895,817298,9511705]
[4896,817465,9525032]
[4897,817632,9538378]
[4898,817799,9551742]
[4899,817966,9565126]
[4900,818133,9578528]
[4901,818300,9591948]
[4902,818467,9605388]
[4903,818634,9618846]
[4904,818801,9632323]
[4905,818968,9645819]
[4906,819135,9659334]
[4907,819302,9672868]
[4908,819469,9686421]
[4909,819636,9699993]
[4910,819803,9713584]
[4911,819970,9727193]
[4912,820137,9740822]
[4913,820304,9754471]
[4914,820471,9768138]
[4915,820638,9781824]
[4916,820805,9795530]
[4917,820972,9809254]
[4918,821139,9822998]
[4919,821306,9836761]
[4920,821473,9850544]
[4921,821640,9864346]
[4922,821807,9878167]
[4923,821974,9892007]
[4924,822141,9905867]
[4925,822308,9919747]
[4926,822475,9933645]
[4927,822642,9947564]
[4928,822809,9961501]
[4929,822976,9975459]
[4930,823143,9989435]
[4931,823310,10000000]
[4932,823477,10017448]
[4933,823644,10031484]
[4934,823811,10045539]
[4935,823978,10059614]
[4936,824145,10073709]
[4937,824312,10087823]
[4938,824479,10101957]
[4939,824646,10116111]
[4940,824813,10130285]
[4941,824980,10144479]
[4942,825147,10158693]
[4943,825314,10172926]
[4944,825481,10187180]
[4945,825648,10201453]
[4946,825815,10215747]
[4947,825982,10230060]
[4948,826149,10244394]
[4949,826316,10258747]
[4950,826483,10273121]
[4951,826650,10287515]
[4952,826817,10301929]
[4953,826984,10316363]
[4954,827151,10330818]
[4955,827318,10345292]
[4956,827485,10359787]
[4957,827652,10374303]
[4958,827819,10388838]
[4959,827986,10403394]
[4960,828153,10417971]
[4961,828320,10432568]
[4962,828487,10447185]
[4963,828654,10461823]
[4964,828821,10476481]
[4965,828988,10491160]
[4966,829155,10505859]
[4967,829322,10520579]
[4968,829489,10535320]
[4969,829656,10550081]
[4970,829823,10564863]
[4971,829990,10579666]
[4972,830157,10594489]
[4973,830324,10609333]
[4974,830491,10624198]
[4975,830658,10639084]
[4976,830825,10653991]
[4977,830992,10668918]
[4978,831159,10683867]
[4979,831326,10698836]
[4980,831493,10713826]
[4981,831660,10728838]
[4982,831827,10743870]
[4983,831994,10758923]
[4984,832161,10773998]
[4985,832328,10789094]
[4986,832495,10804211]
[4987,832662,10819349]
[4988,832829,10834508]
[4989,832996,10849688]
[4990,833163,10864890]
[4991,833330,10880113]
[4992,833497,10895357]
[4993,833664,10910623]
[4994,833831,10925910]
[4995,833998,10941219]
[4996,834165,10956549]
[4997,834332,10971900]
[4998,834499,10987273]
[4999,834666,11002667]
[5000,834833,11018084]

{"sheet":"Sheet2","index":1,"n_rows":5002,"n_cols":5,"rows_kept":5002}
[]
[null,{"$f":"SUM(A:A)","v":0}]
[null,12000,1000,{"$f":"COUNTIF(Sheet1!C:C,B3)","v":1}]
[{"$f":"IF(Sheet1!C4>Sheet1!C3,0,1)","v":0},{"$f":"B3+C3","v":13000},1000,{"$f":"COUNTIF(Sheet1!C:C,B4)","v":1}]
[{"$f":"IF(Sheet1!C5>Sheet1!C4,0,1)","v":0},14000,1000,{"$f":"COUNTIF(Sheet1!C:C,B5)","v":1}]
[{"$f":"IF(Sheet1!C6>Sheet1!C5,0,1)","v":0},15000,1000,{"$f":"COUNTIF(Sheet1!C:C,B6)","v":1}]
[{"$f":"IF(Sheet1!C7>Sheet1!C6,0,1)","v":0},16000,1000,{"$f":"COUNTIF(Sheet1!C:C,B7)","v":1}]
[{"$f":"IF(Sheet1!C8>Sheet1!C7,0,1)","v":0},17000,1000,{"$f":"COUNTIF(Sheet1!C:C,B8)","v":1}]
[{"$f":"IF(Sheet1!C9>Sheet1!C8,0,1)","v":0},18000,1000,{"$f":"COUNTIF(Sheet1!C:C,B9)","v":1}]
[{"$f":"IF(Sheet1!C10>Sheet1!C9,0,1)","v":0},19000,1000,{"$f":"COUNTIF(Sheet1!C:C,B10)","v":1},{"$f":"COUNTIF(Sheet1!C:C,\"<\"&B10)","v":455}]
[{"$f":"IF(Sheet1!C11>Sheet1!C10,0,1)","v":0},20000,10000,{"$f":"COUNTIF(Sheet1!C:C,B11)","v":1},{"$f":"COUNTIF(Sheet1!C:C,\"<\"&B11)","v":492}]
[{"$f":"IF(Sheet1!C12>Sheet1!C11,0,1)","v":0},30000,10000,{"$f":"COUNTIF(Sheet1!C:C,B12)","v":1},{"$f":"COUNTIF(Sheet1!C:C,\"<\"&B12)","v":781}]
[{"$f":"IF(Sheet1!C13>Sheet1!C12,0,1)","v":0},40000,10000,{"$f":"COUNTIF(Sheet1!C:C,B13)","v":1},{"$f":"COUNTIF(Sheet1!C:C,\"<\"&B13)","v":987}]
[{"$f":"IF(Sheet1!C14>Sheet1!C13,0,1)","v":0},50000,10000,{"$f":"COUNTIF(Sheet1!C:C,B14)","v":1},{"$f":"COUNTIF(Sheet1!C:C,\"<\"&B14)","v":1146}]
[{"$f":"IF(Sheet1!C15>Sheet1!C14,0,1)","v":0},60000,10000,{"$f":"COUNTIF(Sheet1!C:C,B15)","v":1},{"$f":"COUNTIF(Sheet1!C:C,\"<\"&B15)","v":1276}]
[{"$f":"IF(Sheet1!C16>Sheet1!C15,0,1)","v":0},70000,10000,{"$f":"COUNTIF(Sheet1!C:C,B16)","v":1},{"$f":"COUNTIF(Sheet1!C:C,\"<\"&B16)","v":1386}]
[{"$f":"IF(Sheet1!C17>Sheet1!C16,0,1)","v":0},80000,10000,{"$f":"COUNTIF(Sheet1!C:C,B17)","v":1},{"$f":"COUNTIF(Sheet1!C:C,\"<\"&B17)","v":1482}]
[{"$f":"IF(Sheet1!C18>Sheet1!C17,0,1)","v":0},90000,10000,{"$f":"COUNTIF(Sheet1!C:C,B18)","v":1},{"$f":"COUNTIF(Sheet1!C:C,\"<\"&B18)","v":1566}]
[{"$f":"IF(Sheet1!C19>Sheet1!C18,0,1)","v":0},100000,100000,{"$f":"COUNTIF(Sheet1!C:C,B19)","v":1},{"$f":"COUNTIF(Sheet1!C:C,\"<\"&B19)","v":1641}]
[{"$f":"IF(Sheet1!C20>Sheet1!C19,0,1)","v":0},200000,100000,{"$f":"COUNTIF(Sheet1!C:C,B20)","v":1},{"$f":"COUNTIF(Sheet1!C:C,\"<\"&B20)","v":2136}]
[{"$f":"IF(Sheet1!C21>Sheet1!C20,0,1)","v":0},300000,100000,{"$f":"COUNTIF(Sheet1!C:C,B21)","v":1},{"$f":"COUNTIF(Sheet1!C:C,\"<\"&B21)","v":2426}]
[{"$f":"IF(Sheet1!C22>Sheet1!C21,0,1)","v":0},400000,100000,{"$f":"COUNTIF(Sheet1!C:C,B22)","v":1},{"$f":"COUNTIF(Sheet1!C:C,\"<\"&B22)","v":2631}]
[{"$f":"IF(Sheet1!C23>Sheet1!C22,0,1)","v":0},500000,100000,{"$f":"COUNTIF(Sheet1!C:C,B23)","v":1},{"$f":"COUNTIF(Sheet1!C:C,\"<\"&B23)","v":2791}]
[{"$f":"IF(Sheet1!C24>Sheet1!C23,0,1)","v":0},600000,100000,{"$f":"COUNTIF(Sheet1!C:C,B24)","v":1},{"$f":"COUNTIF(Sheet1!C:C,\"<\"&B24)","v":2921}]
[{"$f":"IF(Sheet1!C25>Sheet1!C24,0,1)","v":0},700000,100000,{"$f":"COUNTIF(Sheet1!C:C,B25)","v":1},{"$f":"COUNTIF(Sheet1!C:C,\"<\"&B25)","v":3031}]
[{"$f":"IF(Sheet1!C26>Sheet1!C25,0,1)","v":0},800000,100000,{"$f":"COUNTIF(Sheet1!C:C,B26)","v":1},{"$f":"COUNTIF(Sheet1!C:C,\"<\"&B26)","v":3126}]
[{"$f":"IF(Sheet1!C27>Sheet1!C26,0,1)","v":0},900000,100000,{"$f":"COUNTIF(Sheet1!C:C,B27)","v":1},{"$f":"COUNTIF(Sheet1!C:C,\"<\"&B27)","v":3210}]
[{"$f":"IF(Sheet1!C28>Sheet1!C27,0,1)","v":0},1000000,1000000,{"$f":"COUNTIF(Sheet1!C:C,B28)","v":1},{"$f":"COUNTIF(Sheet1!C:C,\"<\"&B28)","v":3286}]
[{"$f":"IF(Sheet1!C29>Sheet1!C28,0,1)","v":0},2000000,1000000,{"$f":"COUNTIF(Sheet1!C:C,B29)","v":1},{"$f":"COUNTIF(Sheet1!C:C,\"<\"&B29)","v":3781}]
[{"$f":"IF(Sheet1!C30>Sheet1!C29,0,1)","v":0},3000000,1000000,{"$f":"COUNTIF(Sheet1!C:C,B30)","v":1},{"$f":"COUNTIF(Sheet1!C:C,\"<\"&B30)","v":4070}]
[{"$f":"IF(Sheet1!C31>Sheet1!C30,0,1)","v":0},4000000,1000000,{"$f":"COUNTIF(Sheet1!C:C,B31)","v":1},{"$f":"COUNTIF(Sheet1!C:C,\"<\"&B31)","v":4276}]
[{"$f":"IF(Sheet1!C32>Sheet1!C31,0,1)","v":0},5000000,1000000,{"$f":"COUNTIF(Sheet1!C:C,B32)","v":1},{"$f":"COUNTIF(Sheet1!C:C,\"<\"&B32)","v":4435}]
[{"$f":"IF(Sheet1!C33>Sheet1!C32,0,1)","v":0},6000000,1000000,{"$f":"COUNTIF(Sheet1!C:C,B33)","v":1},{"$f":"COUNTIF(Sheet1!C:C,\"<\"&B33)","v":4565}]
[{"$f":"IF(Sheet1!C34>Sheet1!C33,0,1)","v":0},7000000,1000000,{"$f":"COUNTIF(Sheet1!C:C,B34)","v":1},{"$f":"COUNTIF(Sheet1!C:C,\"<\"&B34)","v":4676}]
[{"$f":"IF(Sheet1!C35>Sheet1!C34,0,1)","v":0},8000000,1000000,{"$f":"COUNTIF(Sheet1!C:C,B35)","v":1},{"$f":"COUNTIF(Sheet1!C:C,\"<\"&B35)","v":4771}]
[{"$f":"IF(Sheet1!C36>Sheet1!C35,0,1)","v":0},9000000,1000000,{"$f":"COUNTIF(Sheet1!C:C,B36)","v":1},{"$f":"COUNTIF(Sheet1!C:C,\"<\"&B36)","v":4855}]
[{"$f":"IF(Sheet1!C37>Sheet1!C36,0,1)","v":0},10000000,1000000,{"$f":"COUNTIF(Sheet1!C:C,B37)","v":1},{"$f":"COUNTIF(Sheet1!C:C,\"<\"&B37)","v":4930}]
[{"$f":"IF(Sheet1!C38>Sheet1!C37,0,1)","v":0}]
[{"$f":"IF(Sheet1!C39>Sheet1!C38,0,1)","v":0}]
[{"$f":"IF(Sheet1!C40>Sheet1!C39,0,1)","v":0}]
[{"$f":"IF(Sheet1!C41>Sheet1!C40,0,1)","v":0}]
[{"$f":"IF(Sheet1!C42>Sheet1!C41,0,1)","v":0}]
[{"$f":"IF(Sheet1!C43>Sheet1!C42,0,1)","v":0}]
[{"$f":"IF(Sheet1!C44>Sheet1!C43,0,1)","v":0}]
[{"$f":"IF(Sheet1!C45>Sheet1!C44,0,1)","v":0}]
[{"$f":"IF(Sheet1!C46>Sheet1!C45,0,1)","v":0}]
[{"$f":"IF(Sheet1!C47>Sheet1!C46,0,1)","v":0}]
[{"$f":"IF(Sheet1!C48>Sheet1!C47,0,1)","v":0}]
[{"$f":"IF(Sheet1!C49>Sheet1!C48,0,1)","v":0}]
[{"$f":"IF(Sheet1!C50>Sheet1!C49,0,1)","v":0}]
[{"$f":"IF(Sheet1!C51>Sheet1!C50,0,1)","v":0}]
[{"$f":"IF(Sheet1!C52>Sheet1!C51,0,1)","v":0}]
[{"$f":"IF(Sheet1!C53>Sheet1!C52,0,1)","v":0}]
[{"$f":"IF(Sheet1!C54>Sheet1!C53,0,1)","v":0}]
[{"$f":"IF(Sheet1!C55>Sheet1!C54,0,1)","v":0}]
[{"$f":"IF(Sheet1!C56>Sheet1!C55,0,1)","v":0}]
[{"$f":"IF(Sheet1!C57>Sheet1!C56,0,1)","v":0}]
[{"$f":"IF(Sheet1!C58>Sheet1!C57,0,1)","v":0}]
[{"$f":"IF(Sheet1!C59>Sheet1!C58,0,1)","v":0}]
[{"$f":"IF(Sheet1!C60>Sheet1!C59,0,1)","v":0}]
[{"$f":"IF(Sheet1!C61>Sheet1!C60,0,1)","v":0}]
[{"$f":"IF(Sheet1!C62>Sheet1!C61,0,1)","v":0}]
[{"$f":"IF(Sheet1!C63>Sheet1!C62,0,1)","v":0}]
[{"$f":"IF(Sheet1!C64>Sheet1!C63,0,1)","v":0}]
[{"$f":"IF(Sheet1!C65>Sheet1!C64,0,1)","v":0}]
[{"$f":"IF(Sheet1!C66>Sheet1!C65,0,1)","v":0}]
[{"$f":"IF(Sheet1!C67>Sheet1!C66,0,1)","v":0}]
[{"$f":"IF(Sheet1!C68>Sheet1!C67,0,1)","v":0}]
[{"$f":"IF(Sheet1!C69>Sheet1!C68,0,1)","v":0}]
[{"$f":"IF(Sheet1!C70>Sheet1!C69,0,1)","v":0}]
[{"$f":"IF(Sheet1!C71>Sheet1!C70,0,1)","v":0}]
[{"$f":"IF(Sheet1!C72>Sheet1!C71,0,1)","v":0}]
[{"$f":"IF(Sheet1!C73>Sheet1!C72,0,1)","v":0}]
[{"$f":"IF(Sheet1!C74>Sheet1!C73,0,1)","v":0}]
[{"$f":"IF(Sheet1!C75>Sheet1!C74,0,1)","v":0}]
[{"$f":"IF(Sheet1!C76>Sheet1!C75,0,1)","v":0}]
[{"$f":"IF(Sheet1!C77>Sheet1!C76,0,1)","v":0}]
[{"$f":"IF(Sheet1!C78>Sheet1!C77,0,1)","v":0}]
[{"$f":"IF(Sheet1!C79>Sheet1!C78,0,1)","v":0}]
[{"$f":"IF(Sheet1!C80>Sheet1!C79,0,1)","v":0}]
[{"$f":"IF(Sheet1!C81>Sheet1!C80,0,1)","v":0}]
[{"$f":"IF(Sheet1!C82>Sheet1!C81,0,1)","v":0}]
[{"$f":"IF(Sheet1!C83>Sheet1!C82,0,1)","v":0}]
[{"$f":"IF(Sheet1!C84>Sheet1!C83,0,1)","v":0}]
[{"$f":"IF(Sheet1!C85>Sheet1!C84,0,1)","v":0}]
[{"$f":"IF(Sheet1!C86>Sheet1!C85,0,1)","v":0}]
[{"$f":"IF(Sheet1!C87>Sheet1!C86,0,1)","v":0}]
[{"$f":"IF(Sheet1!C88>Sheet1!C87,0,1)","v":0}]
[{"$f":"IF(Sheet1!C89>Sheet1!C88,0,1)","v":0}]
[{"$f":"IF(Sheet1!C90>Sheet1!C89,0,1)","v":0}]
[{"$f":"IF(Sheet1!C91>Sheet1!C90,0,1)","v":0}]
[{"$f":"IF(Sheet1!C92>Sheet1!C91,0,1)","v":0}]
[{"$f":"IF(Sheet1!C93>Sheet1!C92,0,1)","v":0}]
[{"$f":"IF(Sheet1!C94>Sheet1!C93,0,1)","v":0}]
[{"$f":"IF(Sheet1!C95>Sheet1!C94,0,1)","v":0}]
[{"$f":"IF(Sheet1!C96>Sheet1!C95,0,1)","v":0}]
[{"$f":"IF(Sheet1!C97>Sheet1!C96,0,1)","v":0}]
[{"$f":"IF(Sheet1!C98>Sheet1!C97,0,1)","v":0}]
[{"$f":"IF(Sheet1!C99>Sheet1!C98,0,1)","v":0}]
[{"$f":"IF(Sheet1!C100>Sheet1!C99,0,1)","v":0}]
[{"$f":"IF(Sheet1!C101>Sheet1!C100,0,1)","v":0}]
[{"$f":"IF(Sheet1!C102>Sheet1!C101,0,1)","v":0}]
[{"$f":"IF(Sheet1!C103>Sheet1!C102,0,1)","v":0}]
[{"$f":"IF(Sheet1!C104>Sheet1!C103,0,1)","v":0}]
[{"$f":"IF(Sheet1!C105>Sheet1!C104,0,1)","v":0}]
[{"$f":"IF(Sheet1!C106>Sheet1!C105,0,1)","v":0}]
[{"$f":"IF(Sheet1!C107>Sheet1!C106,0,1)","v":0}]
[{"$f":"IF(Sheet1!C108>Sheet1!C107,0,1)","v":0}]
[{"$f":"IF(Sheet1!C109>Sheet1!C108,0,1)","v":0}]
[{"$f":"IF(Sheet1!C110>Sheet1!C109,0,1)","v":0}]
[{"$f":"IF(Sheet1!C111>Sheet1!C110,0,1)","v":0}]
[{"$f":"IF(Sheet1!C112>Sheet1!C111,0,1)","v":0}]
[{"$f":"IF(Sheet1!C113>Sheet1!C112,0,1)","v":0}]
[{"$f":"IF(Sheet1!C114>Sheet1!C113,0,1)","v":0}]
[{"$f":"IF(Sheet1!C115>Sheet1!C114,0,1)","v":0}]
[{"$f":"IF(Sheet1!C116>Sheet1!C115,0,1)","v":0}]
[{"$f":"IF(Sheet1!C117>Sheet1!C116,0,1)","v":0}]
[{"$f":"IF(Sheet1!C118>Sheet1!C117,0,1)","v":0}]
[{"$f":"IF(Sheet1!C119>Sheet1!C118,0,1)","v":0}]
[{"$f":"IF(Sheet1!C120>Sheet1!C119,0,1)","v":0}]
[{"$f":"IF(Sheet1!C121>Sheet1!C120,0,1)","v":0}]
[{"$f":"IF(Sheet1!C122>Sheet1!C121,0,1)","v":0}]
[{"$f":"IF(Sheet1!C123>Sheet1!C122,0,1)","v":0}]
[{"$f":"IF(Sheet1!C124>Sheet1!C123,0,1)","v":0}]
[{"$f":"IF(Sheet1!C125>Sheet1!C124,0,1)","v":0}]
[{"$f":"IF(Sheet1!C126>Sheet1!C125,0,1)","v":0}]
[{"$f":"IF(Sheet1!C127>Sheet1!C126,0,1)","v":0}]
[{"$f":"IF(Sheet1!C128>Sheet1!C127,0,1)","v":0}]
[{"$f":"IF(Sheet1!C129>Sheet1!C128,0,1)","v":0}]
[{"$f":"IF(Sheet1!C130>Sheet1!C129,0,1)","v":0}]
[{"$f":"IF(Sheet1!C131>Sheet1!C130,0,1)","v":0}]
[{"$f":"IF(Sheet1!C132>Sheet1!C131,0,1)","v":0}]
[{"$f":"IF(Sheet1!C133>Sheet1!C132,0,1)","v":0}]
[{"$f":"IF(Sheet1!C134>Sheet1!C133,0,1)","v":0}]
[{"$f":"IF(Sheet1!C135>Sheet1!C134,0,1)","v":0}]
[{"$f":"IF(Sheet1!C136>Sheet1!C135,0,1)","v":0}]
[{"$f":"IF(Sheet1!C137>Sheet1!C136,0,1)","v":0}]
[{"$f":"IF(Sheet1!C138>Sheet1!C137,0,1)","v":0}]
[{"$f":"IF(Sheet1!C139>Sheet1!C138,0,1)","v":0}]
[{"$f":"IF(Sheet1!C140>Sheet1!C139,0,1)","v":0}]
[{"$f":"IF(Sheet1!C141>Sheet1!C140,0,1)","v":0}]
[{"$f":"IF(Sheet1!C142>Sheet1!C141,0,1)","v":0}]
[{"$f":"IF(Sheet1!C143>Sheet1!C142,0,1)","v":0}]
[{"$f":"IF(Sheet1!C144>Sheet1!C143,0,1)","v":0}]
[{"$f":"IF(Sheet1!C145>Sheet1!C144,0,1)","v":0}]
[{"$f":"IF(Sheet1!C146>Sheet1!C145,0,1)","v":0}]
[{"$f":"IF(Sheet1!C147>Sheet1!C146,0,1)","v":0}]
[{"$f":"IF(Sheet1!C148>Sheet1!C147,0,1)","v":0}]
[{"$f":"IF(Sheet1!C149>Sheet1!C148,0,1)","v":0}]
[{"$f":"IF(Sheet1!C150>Sheet1!C149,0,1)","v":0}]
[{"$f":"IF(Sheet1!C151>Sheet1!C150,0,1)","v":0}]
[{"$f":"IF(Sheet1!C152>Sheet1!C151,0,1)","v":0}]
[{"$f":"IF(Sheet1!C153>Sheet1!C152,0,1)","v":0}]
[{"$f":"IF(Sheet1!C154>Sheet1!C153,0,1)","v":0}]
[{"$f":"IF(Sheet1!C155>Sheet1!C154,0,1)","v":0}]
[{"$f":"IF(Sheet1!C156>Sheet1!C155,0,1)","v":0}]
[{"$f":"IF(Sheet1!C157>Sheet1!C156,0,1)","v":0}]
[{"$f":"IF(Sheet1!C158>Sheet1!C157,0,1)","v":0}]
[{"$f":"IF(Sheet1!C159>Sheet1!C158,0,1)","v":0}]
[{"$f":"IF(Sheet1!C160>Sheet1!C159,0,1)","v":0}]
[{"$f":"IF(Sheet1!C161>Sheet1!C160,0,1)","v":0}]
[{"$f":"IF(Sheet1!C162>Sheet1!C161,0,1)","v":0}]
[{"$f":"IF(Sheet1!C163>Sheet1!C162,0,1)","v":0}]
[{"$f":"IF(Sheet1!C164>Sheet1!C163,0,1)","v":0}]
[{"$f":"IF(Sheet1!C165>Sheet1!C164,0,1)","v":0}]
[{"$f":"IF(Sheet1!C166>Sheet1!C165,0,1)","v":0}]
[{"$f":"IF(Sheet1!C167>Sheet1!C166,0,1)","v":0}]
[{"$f":"IF(Sheet1!C168>Sheet1!C167,0,1)","v":0}]
[{"$f":"IF(Sheet1!C169>Sheet1!C168,0,1)","v":0}]
[{"$f":"IF(Sheet1!C170>Sheet1!C169,0,1)","v":0}]
[{"$f":"IF(Sheet1!C171>Sheet1!C170,0,1)","v":0}]
[{"$f":"IF(Sheet1!C172>Sheet1!C171,0,1)","v":0}]
[{"$f":"IF(Sheet1!C173>Sheet1!C172,0,1)","v":0}]
[{"$f":"IF(Sheet1!C174>Sheet1!C173,0,1)","v":0}]
[{"$f":"IF(Sheet1!C175>Sheet1!C174,0,1)","v":0}]
[{"$f":"IF(Sheet1!C176>Sheet1!C175,0,1)","v":0}]
[{"$f":"IF(Sheet1!C177>Sheet1!C176,0,1)","v":0}]
[{"$f":"IF(Sheet1!C178>Sheet1!C177,0,1)","v":0}]
[{"$f":"IF(Sheet1!C179>Sheet1!C178,0,1)","v":0}]
[{"$f":"IF(Sheet1!C180>Sheet1!C179,0,1)","v":0}]
[{"$f":"IF(Sheet1!C181>Sheet1!C180,0,1)","v":0}]
[{"$f":"IF(Sheet1!C182>Sheet1!C181,0,1)","v":0}]
[{"$f":"IF(Sheet1!C183>Sheet1!C182,0,1)","v":0}]
[{"$f":"IF(Sheet1!C184>Sheet1!C183,0,1)","v":0}]
[{"$f":"IF(Sheet1!C185>Sheet1!C184,0,1)","v":0}]
[{"$f":"IF(Sheet1!C186>Sheet1!C185,0,1)","v":0}]
[{"$f":"IF(Sheet1!C187>Sheet1!C186,0,1)","v":0}]
[{"$f":"IF(Sheet1!C188>Sheet1!C187,0,1)","v":0}]
[{"$f":"IF(Sheet1!C189>Sheet1!C188,0,1)","v":0}]
[{"$f":"IF(Sheet1!C190>Sheet1!C189,0,1)","v":0}]
[{"$f":"IF(Sheet1!C191>Sheet1!C190,0,1)","v":0}]
[{"$f":"IF(Sheet1!C192>Sheet1!C191,0,1)","v":0}]
[{"$f":"IF(Sheet1!C193>Sheet1!C192,0,1)","v":0}]
[{"$f":"IF(Sheet1!C194>Sheet1!C193,0,1)","v":0}]
[{"$f":"IF(Sheet1!C195>Sheet1!C194,0,1)","v":0}]
[{"$f":"IF(Sheet1!C196>Sheet1!C195,0,1)","v":0}]
[{"$f":"IF(Sheet1!C197>Sheet1!C196,0,1)","v":0}]
[{"$f":"IF(Sheet1!C198>Sheet1!C197,0,1)","v":0}]
[{"$f":"IF(Sheet1!C199>Sheet1!C198,0,1)","v":0}]
[{"$f":"IF(Sheet1!C200>Sheet1!C199,0,1)","v":0}]
[{"$f":"IF(Sheet1!C201>Sheet1!C200,0,1)","v":0}]
[{"$f":"IF(Sheet1!C202>Sheet1!C201,0,1)","v":0}]
[{"$f":"IF(Sheet1!C203>Sheet1!C202,0,1)","v":0}]
[{"$f":"IF(Sheet1!C204>Sheet1!C203,0,1)","v":0}]
[{"$f":"IF(Sheet1!C205>Sheet1!C204,0,1)","v":0}]
[{"$f":"IF(Sheet1!C206>Sheet1!C205,0,1)","v":0}]
[{"$f":"IF(Sheet1!C207>Sheet1!C206,0,1)","v":0}]
[{"$f":"IF(Sheet1!C208>Sheet1!C207,0,1)","v":0}]
[{"$f":"IF(Sheet1!C209>Sheet1!C208,0,1)","v":0}]
[{"$f":"IF(Sheet1!C210>Sheet1!C209,0,1)","v":0}]
[{"$f":"IF(Sheet1!C211>Sheet1!C210,0,1)","v":0}]
[{"$f":"IF(Sheet1!C212>Sheet1!C211,0,1)","v":0}]
[{"$f":"IF(Sheet1!C213>Sheet1!C212,0,1)","v":0}]
[{"$f":"IF(Sheet1!C214>Sheet1!C213,0,1)","v":0}]
[{"$f":"IF(Sheet1!C215>Sheet1!C214,0,1)","v":0}]
[{"$f":"IF(Sheet1!C216>Sheet1!C215,0,1)","v":0}]
[{"$f":"IF(Sheet1!C217>Sheet1!C216,0,1)","v":0}]
[{"$f":"IF(Sheet1!C218>Sheet1!C217,0,1)","v":0}]
[{"$f":"IF(Sheet1!C219>Sheet1!C218,0,1)","v":0}]
[{"$f":"IF(Sheet1!C220>Sheet1!C219,0,1)","v":0}]
[{"$f":"IF(Sheet1!C221>Sheet1!C220,0,1)","v":0}]
[{"$f":"IF(Sheet1!C222>Sheet1!C221,0,1)","v":0}]
[{"$f":"IF(Sheet1!C223>Sheet1!C222,0,1)","v":0}]
[{"$f":"IF(Sheet1!C224>Sheet1!C223,0,1)","v":0}]
[{"$f":"IF(Sheet1!C225>Sheet1!C224,0,1)","v":0}]
[{"$f":"IF(Sheet1!C226>Sheet1!C225,0,1)","v":0}]
[{"$f":"IF(Sheet1!C227>Sheet1!C226,0,1)","v":0}]
[{"$f":"IF(Sheet1!C228>Sheet1!C227,0,1)","v":0}]
[{"$f":"IF(Sheet1!C229>Sheet1!C228,0,1)","v":0}]
[{"$f":"IF(Sheet1!C230>Sheet1!C229,0,1)","v":0}]
[{"$f":"IF(Sheet1!C231>Sheet1!C230,0,1)","v":0}]
[{"$f":"IF(Sheet1!C232>Sheet1!C231,0,1)","v":0}]
[{"$f":"IF(Sheet1!C233>Sheet1!C232,0,1)","v":0}]
[{"$f":"IF(Sheet1!C234>Sheet1!C233,0,1)","v":0}]
[{"$f":"IF(Sheet1!C235>Sheet1!C234,0,1)","v":0}]
[{"$f":"IF(Sheet1!C236>Sheet1!C235,0,1)","v":0}]
[{"$f":"IF(Sheet1!C237>Sheet1!C236,0,1)","v":0}]
[{"$f":"IF(Sheet1!C238>Sheet1!C237,0,1)","v":0}]
[{"$f":"IF(Sheet1!C239>Sheet1!C238,0,1)","v":0}]
[{"$f":"IF(Sheet1!C240>Sheet1!C239,0,1)","v":0}]
[{"$f":"IF(Sheet1!C241>Sheet1!C240,0,1)","v":0}]
[{"$f":"IF(Sheet1!C242>Sheet1!C241,0,1)","v":0}]
[{"$f":"IF(Sheet1!C243>Sheet1!C242,0,1)","v":0}]
[{"$f":"IF(Sheet1!C244>Sheet1!C243,0,1)","v":0}]
[{"$f":"IF(Sheet1!C245>Sheet1!C244,0,1)","v":0}]
[{"$f":"IF(Sheet1!C246>Sheet1!C245,0,1)","v":0}]
[{"$f":"IF(Sheet1!C247>Sheet1!C246,0,1)","v":0}]
[{"$f":"IF(Sheet1!C248>Sheet1!C247,0,1)","v":0}]
[{"$f":"IF(Sheet1!C249>Sheet1!C248,0,1)","v":0}]
[{"$f":"IF(Sheet1!C250>Sheet1!C249,0,1)","v":0}]
[{"$f":"IF(Sheet1!C251>Sheet1!C250,0,1)","v":0}]
[{"$f":"IF(Sheet1!C252>Sheet1!C251,0,1)","v":0}]
[{"$f":"IF(Sheet1!C253>Sheet1!C252,0,1)","v":0}]
[{"$f":"IF(Sheet1!C254>Sheet1!C253,0,1)","v":0}]
[{"$f":"IF(Sheet1!C255>Sheet1!C254,0,1)","v":0}]
[{"$f":"IF(Sheet1!C256>Sheet1!C255,0,1)","v":0}]
[{"$f":"IF(Sheet1!C257>Sheet1!C256,0,1)","v":0}]
[{"$f":"IF(Sheet1!C258>Sheet1!C257,0,1)","v":0}]
[{"$f":"IF(Sheet1!C259>Sheet1!C258,0,1)","v":0}]
[{"$f":"IF(Sheet1!C260>Sheet1!C259,0,1)","v":0}]
[{"$f":"IF(Sheet1!C261>Sheet1!C260,0,1)","v":0}]
[{"$f":"IF(Sheet1!C262>Sheet1!C261,0,1)","v":0}]
[{"$f":"IF(Sheet1!C263>Sheet1!C262,0,1)","v":0}]
[{"$f":"IF(Sheet1!C264>Sheet1!C263,0,1)","v":0}]
[{"$f":"IF(Sheet1!C265>Sheet1!C264,0,1)","v":0}]
[{"$f":"IF(Sheet1!C266>Sheet1!C265,0,1)","v":0}]
[{"$f":"IF(Sheet1!C267>Sheet1!C266,0,1)","v":0}]
[{"$f":"IF(Sheet1!C268>Sheet1!C267,0,1)","v":0}]
[{"$f":"IF(Sheet1!C269>Sheet1!C268,0,1)","v":0}]
[{"$f":"IF(Sheet1!C270>Sheet1!C269,0,1)","v":0}]
[{"$f":"IF(Sheet1!C271>Sheet1!C270,0,1)","v":0}]
[{"$f":"IF(Sheet1!C272>Sheet1!C271,0,1)","v":0}]
[{"$f":"IF(Sheet1!C273>Sheet1!C272,0,1)","v":0}]
[{"$f":"IF(Sheet1!C274>Sheet1!C273,0,1)","v":0}]
[{"$f":"IF(Sheet1!C275>Sheet1!C274,0,1)","v":0}]
[{"$f":"IF(Sheet1!C276>Sheet1!C275,0,1)","v":0}]
[{"$f":"IF(Sheet1!C277>Sheet1!C276,0,1)","v":0}]
[{"$f":"IF(Sheet1!C278>Sheet1!C277,0,1)","v":0}]
[{"$f":"IF(Sheet1!C279>Sheet1!C278,0,1)","v":0}]
[{"$f":"IF(Sheet1!C280>Sheet1!C279,0,1)","v":0}]
[{"$f":"IF(Sheet1!C281>Sheet1!C280,0,1)","v":0}]
[{"$f":"IF(Sheet1!C282>Sheet1!C281,0,1)","v":0}]
[{"$f":"IF(Sheet1!C283>Sheet1!C282,0,1)","v":0}]
[{"$f":"IF(Sheet1!C284>Sheet1!C283,0,1)","v":0}]
[{"$f":"IF(Sheet1!C285>Sheet1!C284,0,1)","v":0}]
[{"$f":"IF(Sheet1!C286>Sheet1!C285,0,1)","v":0}]
[{"$f":"IF(Sheet1!C287>Sheet1!C286,0,1)","v":0}]
[{"$f":"IF(Sheet1!C288>Sheet1!C287,0,1)","v":0}]
[{"$f":"IF(Sheet1!C289>Sheet1!C288,0,1)","v":0}]
[{"$f":"IF(Sheet1!C290>Sheet1!C289,0,1)","v":0}]
[{"$f":"IF(Sheet1!C291>Sheet1!C290,0,1)","v":0}]
[{"$f":"IF(Sheet1!C292>Sheet1!C291,0,1)","v":0}]
[{"$f":"IF(Sheet1!C293>Sheet1!C292,0,1)","v":0}]
[{"$f":"IF(Sheet1!C294>Sheet1!C293,0,1)","v":0}]
[{"$f":"IF(Sheet1!C295>Sheet1!C294,0,1)","v":0}]
[{"$f":"IF(Sheet1!C296>Sheet1!C295,0,1)","v":0}]
[{"$f":"IF(Sheet1!C297>Sheet1!C296,0,1)","v":0}]
[{"$f":"IF(Sheet1!C298>Sheet1!C297,0,1)","v":0}]
[{"$f":"IF(Sheet1!C299>Sheet1!C298,0,1)","v":0}]
[{"$f":"IF(Sheet1!C300>Sheet1!C299,0,1)","v":0}]
[{"$f":"IF(Sheet1!C301>Sheet1!C300,0,1)","v":0}]
[{"$f":"IF(Sheet1!C302>Sheet1!C301,0,1)","v":0}]
[{"$f":"IF(Sheet1!C303>Sheet1!C302,0,1)","v":0}]
[{"$f":"IF(Sheet1!C304>Sheet1!C303,0,1)","v":0}]
[{"$f":"IF(Sheet1!C305>Sheet1!C304,0,1)","v":0}]
[{"$f":"IF(Sheet1!C306>Sheet1!C305,0,1)","v":0}]
[{"$f":"IF(Sheet1!C307>Sheet1!C306,0,1)","v":0}]
[{"$f":"IF(Sheet1!C308>Sheet1!C307,0,1)","v":0}]
[{"$f":"IF(Sheet1!C309>Sheet1!C308,0,1)","v":0}]
[{"$f":"IF(Sheet1!C310>Sheet1!C309,0,1)","v":0}]
[{"$f":"IF(Sheet1!C311>Sheet1!C310,0,1)","v":0}]
[{"$f":"IF(Sheet1!C312>Sheet1!C311,0,1)","v":0}]
[{"$f":"IF(Sheet1!C313>Sheet1!C312,0,1)","v":0}]
[{"$f":"IF(Sheet1!C314>Sheet1!C313,0,1)","v":0}]
[{"$f":"IF(Sheet1!C315>Sheet1!C314,0,1)","v":0}]
[{"$f":"IF(Sheet1!C316>Sheet1!C315,0,1)","v":0}]
[{"$f":"IF(Sheet1!C317>Sheet1!C316,0,1)","v":0}]
[{"$f":"IF(Sheet1!C318>Sheet1!C317,0,1)","v":0}]
[{"$f":"IF(Sheet1!C319>Sheet1!C318,0,1)","v":0}]
[{"$f":"IF(Sheet1!C320>Sheet1!C319,0,1)","v":0}]
[{"$f":"IF(Sheet1!C321>Sheet1!C320,0,1)","v":0}]
[{"$f":"IF(Sheet1!C322>Sheet1!C321,0,1)","v":0}]
[{"$f":"IF(Sheet1!C323>Sheet1!C322,0,1)","v":0}]
[{"$f":"IF(Sheet1!C324>Sheet1!C323,0,1)","v":0}]
[{"$f":"IF(Sheet1!C325>Sheet1!C324,0,1)","v":0}]
[{"$f":"IF(Sheet1!C326>Sheet1!C325,0,1)","v":0}]
[{"$f":"IF(Sheet1!C327>Sheet1!C326,0,1)","v":0}]
[{"$f":"IF(Sheet1!C328>Sheet1!C327,0,1)","v":0}]
[{"$f":"IF(Sheet1!C329>Sheet1!C328,0,1)","v":0}]
[{"$f":"IF(Sheet1!C330>Sheet1!C329,0,1)","v":0}]
[{"$f":"IF(Sheet1!C331>Sheet1!C330,0,1)","v":0}]
[{"$f":"IF(Sheet1!C332>Sheet1!C331,0,1)","v":0}]
[{"$f":"IF(Sheet1!C333>Sheet1!C332,0,1)","v":0}]
[{"$f":"IF(Sheet1!C334>Sheet1!C333,0,1)","v":0}]
[{"$f":"IF(Sheet1!C335>Sheet1!C334,0,1)","v":0}]
[{"$f":"IF(Sheet1!C336>Sheet1!C335,0,1)","v":0}]
[{"$f":"IF(Sheet1!C337>Sheet1!C336,0,1)","v":0}]
[{"$f":"IF(Sheet1!C338>Sheet1!C337,0,1)","v":0}]
[{"$f":"IF(Sheet1!C339>Sheet1!C338,0,1)","v":0}]
[{"$f":"IF(Sheet1!C340>Sheet1!C339,0,1)","v":0}]
[{"$f":"IF(Sheet1!C341>Sheet1!C340,0,1)","v":0}]
[{"$f":"IF(Sheet1!C342>Sheet1!C341,0,1)","v":0}]
[{"$f":"IF(Sheet1!C343>Sheet1!C342,0,1)","v":0}]
[{"$f":"IF(Sheet1!C344>Sheet1!C343,0,1)","v":0}]
[{"$f":"IF(Sheet1!C345>Sheet1!C344,0,1)","v":0}]
[{"$f":"IF(Sheet1!C346>Sheet1!C345,0,1)","v":0}]
[{"$f":"IF(Sheet1!C347>Sheet1!C346,0,1)","v":0}]
[{"$f":"IF(Sheet1!C348>Sheet1!C347,0,1)","v":0}]
[{"$f":"IF(Sheet1!C349>Sheet1!C348,0,1)","v":0}]
[{"$f":"IF(Sheet1!C350>Sheet1!C349,0,1)","v":0}]
[{"$f":"IF(Sheet1!C351>Sheet1!C350,0,1)","v":0}]
[{"$f":"IF(Sheet1!C352>Sheet1!C351,0,1)","v":0}]
[{"$f":"IF(Sheet1!C353>Sheet1!C352,0,1)","v":0}]
[{"$f":"IF(Sheet1!C354>Sheet1!C353,0,1)","v":0}]
[{"$f":"IF(Sheet1!C355>Sheet1!C354,0,1)","v":0}]
[{"$f":"IF(Sheet1!C356>Sheet1!C355,0,1)","v":0}]
[{"$f":"IF(Sheet1!C357>Sheet1!C356,0,1)","v":0}]
[{"$f":"IF(Sheet1!C358>Sheet1!C357,0,1)","v":0}]
[{"$f":"IF(Sheet1!C359>Sheet1!C358,0,1)","v":0}]
[{"$f":"IF(Sheet1!C360>Sheet1!C359,0,1)","v":0}]
[{"$f":"IF(Sheet1!C361>Sheet1!C360,0,1)","v":0}]
[{"$f":"IF(Sheet1!C362>Sheet1!C361,0,1)","v":0}]
[{"$f":"IF(Sheet1!C363>Sheet1!C362,0,1)","v":0}]
[{"$f":"IF(Sheet1!C364>Sheet1!C363,0,1)","v":0}]
[{"$f":"IF(Sheet1!C365>Sheet1!C364,0,1)","v":0}]
[{"$f":"IF(Sheet1!C366>Sheet1!C365,0,1)","v":0}]
[{"$f":"IF(Sheet1!C367>Sheet1!C366,0,1)","v":0}]
[{"$f":"IF(Sheet1!C368>Sheet1!C367,0,1)","v":0}]
[{"$f":"IF(Sheet1!C369>Sheet1!C368,0,1)","v":0}]
[{"$f":"IF(Sheet1!C370>Sheet1!C369,0,1)","v":0}]
[{"$f":"IF(Sheet1!C371>Sheet1!C370,0,1)","v":0}]
[{"$f":"IF(Sheet1!C372>Sheet1!C371,0,1)","v":0}]
[{"$f":"IF(Sheet1!C373>Sheet1!C372,0,1)","v":0}]
[{"$f":"IF(Sheet1!C374>Sheet1!C373,0,1)","v":0}]
[{"$f":"IF(Sheet1!C375>Sheet1!C374,0,1)","v":0}]
[{"$f":"IF(Sheet1!C376>Sheet1!C375,0,1)","v":0}]
[{"$f":"IF(Sheet1!C377>Sheet1!C376,0,1)","v":0}]
[{"$f":"IF(Sheet1!C378>Sheet1!C377,0,1)","v":0}]
[{"$f":"IF(Sheet1!C379>Sheet1!C378,0,1)","v":0}]
[{"$f":"IF(Sheet1!C380>Sheet1!C379,0,1)","v":0}]
[{"$f":"IF(Sheet1!C381>Sheet1!C380,0,1)","v":0}]
[{"$f":"IF(Sheet1!C382>Sheet1!C381,0,1)","v":0}]
[{"$f":"IF(Sheet1!C383>Sheet1!C382,0,1)","v":0}]
[{"$f":"IF(Sheet1!C384>Sheet1!C383,0,1)","v":0}]
[{"$f":"IF(Sheet1!C385>Sheet1!C384,0,1)","v":0}]
[{"$f":"IF(Sheet1!C386>Sheet1!C385,0,1)","v":0}]
[{"$f":"IF(Sheet1!C387>Sheet1!C386,0,1)","v":0}]
[{"$f":"IF(Sheet1!C388>Sheet1!C387,0,1)","v":0}]
[{"$f":"IF(Sheet1!C389>Sheet1!C388,0,1)","v":0}]
[{"$f":"IF(Sheet1!C390>Sheet1!C389,0,1)","v":0}]
[{"$f":"IF(Sheet1!C391>Sheet1!C390,0,1)","v":0}]
[{"$f":"IF(Sheet1!C392>Sheet1!C391,0,1)","v":0}]
[{"$f":"IF(Sheet1!C393>Sheet1!C392,0,1)","v":0}]
[{"$f":"IF(Sheet1!C394>Sheet1!C393,0,1)","v":0}]
[{"$f":"IF(Sheet1!C395>Sheet1!C394,0,1)","v":0}]
[{"$f":"IF(Sheet1!C396>Sheet1!C395,0,1)","v":0}]
[{"$f":"IF(Sheet1!C397>Sheet1!C396,0,1)","v":0}]
[{"$f":"IF(Sheet1!C398>Sheet1!C397,0,1)","v":0}]
[{"$f":"IF(Sheet1!C399>Sheet1!C398,0,1)","v":0}]
[{"$f":"IF(Sheet1!C400>Sheet1!C399,0,1)","v":0}]
[{"$f":"IF(Sheet1!C401>Sheet1!C400,0,1)","v":0}]
[{"$f":"IF(Sheet1!C402>Sheet1!C401,0,1)","v":0}]
[{"$f":"IF(Sheet1!C403>Sheet1!C402,0,1)","v":0}]
[{"$f":"IF(Sheet1!C404>Sheet1!C403,0,1)","v":0}]
[{"$f":"IF(Sheet1!C405>Sheet1!C404,0,1)","v":0}]
[{"$f":"IF(Sheet1!C406>Sheet1!C405,0,1)","v":0}]
[{"$f":"IF(Sheet1!C407>Sheet1!C406,0,1)","v":0}]
[{"$f":"IF(Sheet1!C408>Sheet1!C407,0,1)","v":0}]
[{"$f":"IF(Sheet1!C409>Sheet1!C408,0,1)","v":0}]
[{"$f":"IF(Sheet1!C410>Sheet1!C409,0,1)","v":0}]
[{"$f":"IF(Sheet1!C411>Sheet1!C410,0,1)","v":0}]
[{"$f":"IF(Sheet1!C412>Sheet1!C411,0,1)","v":0}]
[{"$f":"IF(Sheet1!C413>Sheet1!C412,0,1)","v":0}]
[{"$f":"IF(Sheet1!C414>Sheet1!C413,0,1)","v":0}]
[{"$f":"IF(Sheet1!C415>Sheet1!C414,0,1)","v":0}]
[{"$f":"IF(Sheet1!C416>Sheet1!C415,0,1)","v":0}]
[{"$f":"IF(Sheet1!C417>Sheet1!C416,0,1)","v":0}]
[{"$f":"IF(Sheet1!C418>Sheet1!C417,0,1)","v":0}]
[{"$f":"IF(Sheet1!C419>Sheet1!C418,0,1)","v":0}]
[{"$f":"IF(Sheet1!C420>Sheet1!C419,0,1)","v":0}]
[{"$f":"IF(Sheet1!C421>Sheet1!C420,0,1)","v":0}]
[{"$f":"IF(Sheet1!C422>Sheet1!C421,0,1)","v":0}]
[{"$f":"IF(Sheet1!C423>Sheet1!C422,0,1)","v":0}]
[{"$f":"IF(Sheet1!C424>Sheet1!C423,0,1)","v":0}]
[{"$f":"IF(Sheet1!C425>Sheet1!C424,0,1)","v":0}]
[{"$f":"IF(Sheet1!C426>Sheet1!C425,0,1)","v":0}]
[{"$f":"IF(Sheet1!C427>Sheet1!C426,0,1)","v":0}]
[{"$f":"IF(Sheet1!C428>Sheet1!C427,0,1)","v":0}]
[{"$f":"IF(Sheet1!C429>Sheet1!C428,0,1)","v":0}]
[{"$f":"IF(Sheet1!C430>Sheet1!C429,0,1)","v":0}]
[{"$f":"IF(Sheet1!C431>Sheet1!C430,0,1)","v":0}]
[{"$f":"IF(Sheet1!C432>Sheet1!C431,0,1)","v":0}]
[{"$f":"IF(Sheet1!C433>Sheet1!C432,0,1)","v":0}]
[{"$f":"IF(Sheet1!C434>Sheet1!C433,0,1)","v":0}]
[{"$f":"IF(Sheet1!C435>Sheet1!C434,0,1)","v":0}]
[{"$f":"IF(Sheet1!C436>Sheet1!C435,0,1)","v":0}]
[{"$f":"IF(Sheet1!C437>Sheet1!C436,0,1)","v":0}]
[{"$f":"IF(Sheet1!C438>Sheet1!C437,0,1)","v":0}]
[{"$f":"IF(Sheet1!C439>Sheet1!C438,0,1)","v":0}]
[{"$f":"IF(Sheet1!C440>Sheet1!C439,0,1)","v":0}]
[{"$f":"IF(Sheet1!C441>Sheet1!C440,0,1)","v":0}]
[{"$f":"IF(Sheet1!C442>Sheet1!C441,0,1)","v":0}]
[{"$f":"IF(Sheet1!C443>Sheet1!C442,0,1)","v":0}]
[{"$f":"IF(Sheet1!C444>Sheet1!C443,0,1)","v":0}]
[{"$f":"IF(Sheet1!C445>Sheet1!C444,0,1)","v":0}]
[{"$f":"IF(Sheet1!C446>Sheet1!C445,0,1)","v":0}]
[{"$f":"IF(Sheet1!C447>Sheet1!C446,0,1)","v":0}]
[{"$f":"IF(Sheet1!C448>Sheet1!C447,0,1)","v":0}]
[{"$f":"IF(Sheet1!C449>Sheet1!C448,0,1)","v":0}]
[{"$f":"IF(Sheet1!C450>Sheet1!C449,0,1)","v":0}]
[{"$f":"IF(Sheet1!C451>Sheet1!C450,0,1)","v":0}]
[{"$f":"IF(Sheet1!C452>Sheet1!C451,0,1)","v":0}]
[{"$f":"IF(Sheet1!C453>Sheet1!C452,0,1)","v":0}]
[{"$f":"IF(Sheet1!C454>Sheet1!C453,0,1)","v":0}]
[{"$f":"IF(Sheet1!C455>Sheet1!C454,0,1)","v":0}]
[{"$f":"IF(Sheet1!C456>Sheet1!C455,0,1)","v":0}]
[{"$f":"IF(Sheet1!C457>Sheet1!C456,0,1)","v":0}]
[{"$f":"IF(Sheet1!C458>Sheet1!C457,0,1)","v":0}]
[{"$f":"IF(Sheet1!C459>Sheet1!C458,0,1)","v":0}]
[{"$f":"IF(Sheet1!C460>Sheet1!C459,0,1)","v":0}]
[{"$f":"IF(Sheet1!C461>Sheet1!C460,0,1)","v":0}]
[{"$f":"IF(Sheet1!C462>Sheet1!C461,0,1)","v":0}]
[{"$f":"IF(Sheet1!C463>Sheet1!C462,0,1)","v":0}]
[{"$f":"IF(Sheet1!C464>Sheet1!C463,0,1)","v":0}]
[{"$f":"IF(Sheet1!C465>Sheet1!C464,0,1)","v":0}]
[{"$f":"IF(Sheet1!C466>Sheet1!C465,0,1)","v":0}]
[{"$f":"IF(Sheet1!C467>Sheet1!C466,0,1)","v":0}]
[{"$f":"IF(Sheet1!C468>Sheet1!C467,0,1)","v":0}]
[{"$f":"IF(Sheet1!C469>Sheet1!C468,0,1)","v":0}]
[{"$f":"IF(Sheet1!C470>Sheet1!C469,0,1)","v":0}]
[{"$f":"IF(Sheet1!C471>Sheet1!C470,0,1)","v":0}]
[{"$f":"IF(Sheet1!C472>Sheet1!C471,0,1)","v":0}]
[{"$f":"IF(Sheet1!C473>Sheet1!C472,0,1)","v":0}]
[{"$f":"IF(Sheet1!C474>Sheet1!C473,0,1)","v":0}]
[{"$f":"IF(Sheet1!C475>Sheet1!C474,0,1)","v":0}]
[{"$f":"IF(Sheet1!C476>Sheet1!C475,0,1)","v":0}]
[{"$f":"IF(Sheet1!C477>Sheet1!C476,0,1)","v":0}]
[{"$f":"IF(Sheet1!C478>Sheet1!C477,0,1)","v":0}]
[{"$f":"IF(Sheet1!C479>Sheet1!C478,0,1)","v":0}]
[{"$f":"IF(Sheet1!C480>Sheet1!C479,0,1)","v":0}]
[{"$f":"IF(Sheet1!C481>Sheet1!C480,0,1)","v":0}]
[{"$f":"IF(Sheet1!C482>Sheet1!C481,0,1)","v":0}]
[{"$f":"IF(Sheet1!C483>Sheet1!C482,0,1)","v":0}]
[{"$f":"IF(Sheet1!C484>Sheet1!C483,0,1)","v":0}]
[{"$f":"IF(Sheet1!C485>Sheet1!C484,0,1)","v":0}]
[{"$f":"IF(Sheet1!C486>Sheet1!C485,0,1)","v":0}]
[{"$f":"IF(Sheet1!C487>Sheet1!C486,0,1)","v":0}]
[{"$f":"IF(Sheet1!C488>Sheet1!C487,0,1)","v":0}]
[{"$f":"IF(Sheet1!C489>Sheet1!C488,0,1)","v":0}]
[{"$f":"IF(Sheet1!C490>Sheet1!C489,0,1)","v":0}]
[{"$f":"IF(Sheet1!C491>Sheet1!C490,0,1)","v":0}]
[{"$f":"IF(Sheet1!C492>Sheet1!C491,0,1)","v":0}]
[{"$f":"IF(Sheet1!C493>Sheet1!C492,0,1)","v":0}]
[{"$f":"IF(Sheet1!C494>Sheet1!C493,0,1)","v":0}]
[{"$f":"IF(Sheet1!C495>Sheet1!C494,0,1)","v":0}]
[{"$f":"IF(Sheet1!C496>Sheet1!C495,0,1)","v":0}]
[{"$f":"IF(Sheet1!C497>Sheet1!C496,0,1)","v":0}]
[{"$f":"IF(Sheet1!C498>Sheet1!C497,0,1)","v":0}]
[{"$f":"IF(Sheet1!C499>Sheet1!C498,0,1)","v":0}]
[{"$f":"IF(Sheet1!C500>Sheet1!C499,0,1)","v":0}]
[{"$f":"IF(Sheet1!C501>Sheet1!C500,0,1)","v":0}]
[{"$f":"IF(Sheet1!C502>Sheet1!C501,0,1)","v":0}]
[{"$f":"IF(Sheet1!C503>Sheet1!C502,0,1)","v":0}]
[{"$f":"IF(Sheet1!C504>Sheet1!C503,0,1)","v":0}]
[{"$f":"IF(Sheet1!C505>Sheet1!C504,0,1)","v":0}]
[{"$f":"IF(Sheet1!C506>Sheet1!C505,0,1)","v":0}]
[{"$f":"IF(Sheet1!C507>Sheet1!C506,0,1)","v":0}]
[{"$f":"IF(Sheet1!C508>Sheet1!C507,0,1)","v":0}]
[{"$f":"IF(Sheet1!C509>Sheet1!C508,0,1)","v":0}]
[{"$f":"IF(Sheet1!C510>Sheet1!C509,0,1)","v":0}]
[{"$f":"IF(Sheet1!C511>Sheet1!C510,0,1)","v":0}]
[{"$f":"IF(Sheet1!C512>Sheet1!C511,0,1)","v":0}]
[{"$f":"IF(Sheet1!C513>Sheet1!C512,0,1)","v":0}]
[{"$f":"IF(Sheet1!C514>Sheet1!C513,0,1)","v":0}]
[{"$f":"IF(Sheet1!C515>Sheet1!C514,0,1)","v":0}]
[{"$f":"IF(Sheet1!C516>Sheet1!C515,0,1)","v":0}]
[{"$f":"IF(Sheet1!C517>Sheet1!C516,0,1)","v":0}]
[{"$f":"IF(Sheet1!C518>Sheet1!C517,0,1)","v":0}]
[{"$f":"IF(Sheet1!C519>Sheet1!C518,0,1)","v":0}]
[{"$f":"IF(Sheet1!C520>Sheet1!C519,0,1)","v":0}]
[{"$f":"IF(Sheet1!C521>Sheet1!C520,0,1)","v":0}]
[{"$f":"IF(Sheet1!C522>Sheet1!C521,0,1)","v":0}]
[{"$f":"IF(Sheet1!C523>Sheet1!C522,0,1)","v":0}]
[{"$f":"IF(Sheet1!C524>Sheet1!C523,0,1)","v":0}]
[{"$f":"IF(Sheet1!C525>Sheet1!C524,0,1)","v":0}]
[{"$f":"IF(Sheet1!C526>Sheet1!C525,0,1)","v":0}]
[{"$f":"IF(Sheet1!C527>Sheet1!C526,0,1)","v":0}]
[{"$f":"IF(Sheet1!C528>Sheet1!C527,0,1)","v":0}]
[{"$f":"IF(Sheet1!C529>Sheet1!C528,0,1)","v":0}]
[{"$f":"IF(Sheet1!C530>Sheet1!C529,0,1)","v":0}]
[{"$f":"IF(Sheet1!C531>Sheet1!C530,0,1)","v":0}]
[{"$f":"IF(Sheet1!C532>Sheet1!C531,0,1)","v":0}]
[{"$f":"IF(Sheet1!C533>Sheet1!C532,0,1)","v":0}]
[{"$f":"IF(Sheet1!C534>Sheet1!C533,0,1)","v":0}]
[{"$f":"IF(Sheet1!C535>Sheet1!C534,0,1)","v":0}]
[{"$f":"IF(Sheet1!C536>Sheet1!C535,0,1)","v":0}]
[{"$f":"IF(Sheet1!C537>Sheet1!C536,0,1)","v":0}]
[{"$f":"IF(Sheet1!C538>Sheet1!C537,0,1)","v":0}]
[{"$f":"IF(Sheet1!C539>Sheet1!C538,0,1)","v":0}]
[{"$f":"IF(Sheet1!C540>Sheet1!C539,0,1)","v":0}]
[{"$f":"IF(Sheet1!C541>Sheet1!C540,0,1)","v":0}]
[{"$f":"IF(Sheet1!C542>Sheet1!C541,0,1)","v":0}]
[{"$f":"IF(Sheet1!C543>Sheet1!C542,0,1)","v":0}]
[{"$f":"IF(Sheet1!C544>Sheet1!C543,0,1)","v":0}]
[{"$f":"IF(Sheet1!C545>Sheet1!C544,0,1)","v":0}]
[{"$f":"IF(Sheet1!C546>Sheet1!C545,0,1)","v":0}]
[{"$f":"IF(Sheet1!C547>Sheet1!C546,0,1)","v":0}]
[{"$f":"IF(Sheet1!C548>Sheet1!C547,0,1)","v":0}]
[{"$f":"IF(Sheet1!C549>Sheet1!C548,0,1)","v":0}]
[{"$f":"IF(Sheet1!C550>Sheet1!C549,0,1)","v":0}]
[{"$f":"IF(Sheet1!C551>Sheet1!C550,0,1)","v":0}]
[{"$f":"IF(Sheet1!C552>Sheet1!C551,0,1)","v":0}]
[{"$f":"IF(Sheet1!C553>Sheet1!C552,0,1)","v":0}]
[{"$f":"IF(Sheet1!C554>Sheet1!C553,0,1)","v":0}]
[{"$f":"IF(Sheet1!C555>Sheet1!C554,0,1)","v":0}]
[{"$f":"IF(Sheet1!C556>Sheet1!C555,0,1)","v":0}]
[{"$f":"IF(Sheet1!C557>Sheet1!C556,0,1)","v":0}]
[{"$f":"IF(Sheet1!C558>Sheet1!C557,0,1)","v":0}]
[{"$f":"IF(Sheet1!C559>Sheet1!C558,0,1)","v":0}]
[{"$f":"IF(Sheet1!C560>Sheet1!C559,0,1)","v":0}]
[{"$f":"IF(Sheet1!C561>Sheet1!C560,0,1)","v":0}]
[{"$f":"IF(Sheet1!C562>Sheet1!C561,0,1)","v":0}]
[{"$f":"IF(Sheet1!C563>Sheet1!C562,0,1)","v":0}]
[{"$f":"IF(Sheet1!C564>Sheet1!C563,0,1)","v":0}]
[{"$f":"IF(Sheet1!C565>Sheet1!C564,0,1)","v":0}]
[{"$f":"IF(Sheet1!C566>Sheet1!C565,0,1)","v":0}]
[{"$f":"IF(Sheet1!C567>Sheet1!C566,0,1)","v":0}]
[{"$f":"IF(Sheet1!C568>Sheet1!C567,0,1)","v":0}]
[{"$f":"IF(Sheet1!C569>Sheet1!C568,0,1)","v":0}]
[{"$f":"IF(Sheet1!C570>Sheet1!C569,0,1)","v":0}]
[{"$f":"IF(Sheet1!C571>Sheet1!C570,0,1)","v":0}]
[{"$f":"IF(Sheet1!C572>Sheet1!C571,0,1)","v":0}]
[{"$f":"IF(Sheet1!C573>Sheet1!C572,0,1)","v":0}]
[{"$f":"IF(Sheet1!C574>Sheet1!C573,0,1)","v":0}]
[{"$f":"IF(Sheet1!C575>Sheet1!C574,0,1)","v":0}]
[{"$f":"IF(Sheet1!C576>Sheet1!C575,0,1)","v":0}]
[{"$f":"IF(Sheet1!C577>Sheet1!C576,0,1)","v":0}]
[{"$f":"IF(Sheet1!C578>Sheet1!C577,0,1)","v":0}]
[{"$f":"IF(Sheet1!C579>Sheet1!C578,0,1)","v":0}]
[{"$f":"IF(Sheet1!C580>Sheet1!C579,0,1)","v":0}]
[{"$f":"IF(Sheet1!C581>Sheet1!C580,0,1)","v":0}]
[{"$f":"IF(Sheet1!C582>Sheet1!C581,0,1)","v":0}]
[{"$f":"IF(Sheet1!C583>Sheet1!C582,0,1)","v":0}]
[{"$f":"IF(Sheet1!C584>Sheet1!C583,0,1)","v":0}]
[{"$f":"IF(Sheet1!C585>Sheet1!C584,0,1)","v":0}]
[{"$f":"IF(Sheet1!C586>Sheet1!C585,0,1)","v":0}]
[{"$f":"IF(Sheet1!C587>Sheet1!C586,0,1)","v":0}]
[{"$f":"IF(Sheet1!C588>Sheet1!C587,0,1)","v":0}]
[{"$f":"IF(Sheet1!C589>Sheet1!C588,0,1)","v":0}]
[{"$f":"IF(Sheet1!C590>Sheet1!C589,0,1)","v":0}]
[{"$f":"IF(Sheet1!C591>Sheet1!C590,0,1)","v":0}]
[{"$f":"IF(Sheet1!C592>Sheet1!C591,0,1)","v":0}]
[{"$f":"IF(Sheet1!C593>Sheet1!C592,0,1)","v":0}]
[{"$f":"IF(Sheet1!C594>Sheet1!C593,0,1)","v":0}]
[{"$f":"IF(Sheet1!C595>Sheet1!C594,0,1)","v":0}]
[{"$f":"IF(Sheet1!C596>Sheet1!C595,0,1)","v":0}]
[{"$f":"IF(Sheet1!C597>Sheet1!C596,0,1)","v":0}]
[{"$f":"IF(Sheet1!C598>Sheet1!C597,0,1)","v":0}]
[{"$f":"IF(Sheet1!C599>Sheet1!C598,0,1)","v":0}]
[{"$f":"IF(Sheet1!C600>Sheet1!C599,0,1)","v":0}]
[{"$f":"IF(Sheet1!C601>Sheet1!C600,0,1)","v":0}]
[{"$f":"IF(Sheet1!C602>Sheet1!C601,0,1)","v":0}]
[{"$f":"IF(Sheet1!C603>Sheet1!C602,0,1)","v":0}]
[{"$f":"IF(Sheet1!C604>Sheet1!C603,0,1)","v":0}]
[{"$f":"IF(Sheet1!C605>Sheet1!C604,0,1)","v":0}]
[{"$f":"IF(Sheet1!C606>Sheet1!C605,0,1)","v":0}]
[{"$f":"IF(Sheet1!C607>Sheet1!C606,0,1)","v":0}]
[{"$f":"IF(Sheet1!C608>Sheet1!C607,0,1)","v":0}]
[{"$f":"IF(Sheet1!C609>Sheet1!C608,0,1)","v":0}]
[{"$f":"IF(Sheet1!C610>Sheet1!C609,0,1)","v":0}]
[{"$f":"IF(Sheet1!C611>Sheet1!C610,0,1)","v":0}]
[{"$f":"IF(Sheet1!C612>Sheet1!C611,0,1)","v":0}]
[{"$f":"IF(Sheet1!C613>Sheet1!C612,0,1)","v":0}]
[{"$f":"IF(Sheet1!C614>Sheet1!C613,0,1)","v":0}]
[{"$f":"IF(Sheet1!C615>Sheet1!C614,0,1)","v":0}]
[{"$f":"IF(Sheet1!C616>Sheet1!C615,0,1)","v":0}]
[{"$f":"IF(Sheet1!C617>Sheet1!C616,0,1)","v":0}]
[{"$f":"IF(Sheet1!C618>Sheet1!C617,0,1)","v":0}]
[{"$f":"IF(Sheet1!C619>Sheet1!C618,0,1)","v":0}]
[{"$f":"IF(Sheet1!C620>Sheet1!C619,0,1)","v":0}]
[{"$f":"IF(Sheet1!C621>Sheet1!C620,0,1)","v":0}]
[{"$f":"IF(Sheet1!C622>Sheet1!C621,0,1)","v":0}]
[{"$f":"IF(Sheet1!C623>Sheet1!C622,0,1)","v":0}]
[{"$f":"IF(Sheet1!C624>Sheet1!C623,0,1)","v":0}]
[{"$f":"IF(Sheet1!C625>Sheet1!C624,0,1)","v":0}]
[{"$f":"IF(Sheet1!C626>Sheet1!C625,0,1)","v":0}]
[{"$f":"IF(Sheet1!C627>Sheet1!C626,0,1)","v":0}]
[{"$f":"IF(Sheet1!C628>Sheet1!C627,0,1)","v":0}]
[{"$f":"IF(Sheet1!C629>Sheet1!C628,0,1)","v":0}]
[{"$f":"IF(Sheet1!C630>Sheet1!C629,0,1)","v":0}]
[{"$f":"IF(Sheet1!C631>Sheet1!C630,0,1)","v":0}]
[{"$f":"IF(Sheet1!C632>Sheet1!C631,0,1)","v":0}]
[{"$f":"IF(Sheet1!C633>Sheet1!C632,0,1)","v":0}]
[{"$f":"IF(Sheet1!C634>Sheet1!C633,0,1)","v":0}]
[{"$f":"IF(Sheet1!C635>Sheet1!C634,0,1)","v":0}]
[{"$f":"IF(Sheet1!C636>Sheet1!C635,0,1)","v":0}]
[{"$f":"IF(Sheet1!C637>Sheet1!C636,0,1)","v":0}]
[{"$f":"IF(Sheet1!C638>Sheet1!C637,0,1)","v":0}]
[{"$f":"IF(Sheet1!C639>Sheet1!C638,0,1)","v":0}]
[{"$f":"IF(Sheet1!C640>Sheet1!C639,0,1)","v":0}]
[{"$f":"IF(Sheet1!C641>Sheet1!C640,0,1)","v":0}]
[{"$f":"IF(Sheet1!C642>Sheet1!C641,0,1)","v":0}]
[{"$f":"IF(Sheet1!C643>Sheet1!C642,0,1)","v":0}]
[{"$f":"IF(Sheet1!C644>Sheet1!C643,0,1)","v":0}]
[{"$f":"IF(Sheet1!C645>Sheet1!C644,0,1)","v":0}]
[{"$f":"IF(Sheet1!C646>Sheet1!C645,0,1)","v":0}]
[{"$f":"IF(Sheet1!C647>Sheet1!C646,0,1)","v":0}]
[{"$f":"IF(Sheet1!C648>Sheet1!C647,0,1)","v":0}]
[{"$f":"IF(Sheet1!C649>Sheet1!C648,0,1)","v":0}]
[{"$f":"IF(Sheet1!C650>Sheet1!C649,0,1)","v":0}]
[{"$f":"IF(Sheet1!C651>Sheet1!C650,0,1)","v":0}]
[{"$f":"IF(Sheet1!C652>Sheet1!C651,0,1)","v":0}]
[{"$f":"IF(Sheet1!C653>Sheet1!C652,0,1)","v":0}]
[{"$f":"IF(Sheet1!C654>Sheet1!C653,0,1)","v":0}]
[{"$f":"IF(Sheet1!C655>Sheet1!C654,0,1)","v":0}]
[{"$f":"IF(Sheet1!C656>Sheet1!C655,0,1)","v":0}]
[{"$f":"IF(Sheet1!C657>Sheet1!C656,0,1)","v":0}]
[{"$f":"IF(Sheet1!C658>Sheet1!C657,0,1)","v":0}]
[{"$f":"IF(Sheet1!C659>Sheet1!C658,0,1)","v":0}]
[{"$f":"IF(Sheet1!C660>Sheet1!C659,0,1)","v":0}]
[{"$f":"IF(Sheet1!C661>Sheet1!C660,0,1)","v":0}]
[{"$f":"IF(Sheet1!C662>Sheet1!C661,0,1)","v":0}]
[{"$f":"IF(Sheet1!C663>Sheet1!C662,0,1)","v":0}]
[{"$f":"IF(Sheet1!C664>Sheet1!C663,0,1)","v":0}]
[{"$f":"IF(Sheet1!C665>Sheet1!C664,0,1)","v":0}]
[{"$f":"IF(Sheet1!C666>Sheet1!C665,0,1)","v":0}]
[{"$f":"IF(Sheet1!C667>Sheet1!C666,0,1)","v":0}]
[{"$f":"IF(Sheet1!C668>Sheet1!C667,0,1)","v":0}]
[{"$f":"IF(Sheet1!C669>Sheet1!C668,0,1)","v":0}]
[{"$f":"IF(Sheet1!C670>Sheet1!C669,0,1)","v":0}]
[{"$f":"IF(Sheet1!C671>Sheet1!C670,0,1)","v":0}]
[{"$f":"IF(Sheet1!C672>Sheet1!C671,0,1)","v":0}]
[{"$f":"IF(Sheet1!C673>Sheet1!C672,0,1)","v":0}]
[{"$f":"IF(Sheet1!C674>Sheet1!C673,0,1)","v":0}]
[{"$f":"IF(Sheet1!C675>Sheet1!C674,0,1)","v":0}]
[{"$f":"IF(Sheet1!C676>Sheet1!C675,0,1)","v":0}]
[{"$f":"IF(Sheet1!C677>Sheet1!C676,0,1)","v":0}]
[{"$f":"IF(Sheet1!C678>Sheet1!C677,0,1)","v":0}]
[{"$f":"IF(Sheet1!C679>Sheet1!C678,0,1)","v":0}]
[{"$f":"IF(Sheet1!C680>Sheet1!C679,0,1)","v":0}]
[{"$f":"IF(Sheet1!C681>Sheet1!C680,0,1)","v":0}]
[{"$f":"IF(Sheet1!C682>Sheet1!C681,0,1)","v":0}]
[{"$f":"IF(Sheet1!C683>Sheet1!C682,0,1)","v":0}]
[{"$f":"IF(Sheet1!C684>Sheet1!C683,0,1)","v":0}]
[{"$f":"IF(Sheet1!C685>Sheet1!C684,0,1)","v":0}]
[{"$f":"IF(Sheet1!C686>Sheet1!C685,0,1)","v":0}]
[{"$f":"IF(Sheet1!C687>Sheet1!C686,0,1)","v":0}]
[{"$f":"IF(Sheet1!C688>Sheet1!C687,0,1)","v":0}]
[{"$f":"IF(Sheet1!C689>Sheet1!C688,0,1)","v":0}]
[{"$f":"IF(Sheet1!C690>Sheet1!C689,0,1)","v":0}]
[{"$f":"IF(Sheet1!C691>Sheet1!C690,0,1)","v":0}]
[{"$f":"IF(Sheet1!C692>Sheet1!C691,0,1)","v":0}]
[{"$f":"IF(Sheet1!C693>Sheet1!C692,0,1)","v":0}]
[{"$f":"IF(Sheet1!C694>Sheet1!C693,0,1)","v":0}]
[{"$f":"IF(Sheet1!C695>Sheet1!C694,0,1)","v":0}]
[{"$f":"IF(Sheet1!C696>Sheet1!C695,0,1)","v":0}]
[{"$f":"IF(Sheet1!C697>Sheet1!C696,0,1)","v":0}]
[{"$f":"IF(Sheet1!C698>Sheet1!C697,0,1)","v":0}]
[{"$f":"IF(Sheet1!C699>Sheet1!C698,0,1)","v":0}]
[{"$f":"IF(Sheet1!C700>Sheet1!C699,0,1)","v":0}]
[{"$f":"IF(Sheet1!C701>Sheet1!C700,0,1)","v":0}]
[{"$f":"IF(Sheet1!C702>Sheet1!C701,0,1)","v":0}]
[{"$f":"IF(Sheet1!C703>Sheet1!C702,0,1)","v":0}]
[{"$f":"IF(Sheet1!C704>Sheet1!C703,0,1)","v":0}]
[{"$f":"IF(Sheet1!C705>Sheet1!C704,0,1)","v":0}]
[{"$f":"IF(Sheet1!C706>Sheet1!C705,0,1)","v":0}]
[{"$f":"IF(Sheet1!C707>Sheet1!C706,0,1)","v":0}]
[{"$f":"IF(Sheet1!C708>Sheet1!C707,0,1)","v":0}]
[{"$f":"IF(Sheet1!C709>Sheet1!C708,0,1)","v":0}]
[{"$f":"IF(Sheet1!C710>Sheet1!C709,0,1)","v":0}]
[{"$f":"IF(Sheet1!C711>Sheet1!C710,0,1)","v":0}]
[{"$f":"IF(Sheet1!C712>Sheet1!C711,0,1)","v":0}]
[{"$f":"IF(Sheet1!C713>Sheet1!C712,0,1)","v":0}]
[{"$f":"IF(Sheet1!C714>Sheet1!C713,0,1)","v":0}]
[{"$f":"IF(Sheet1!C715>Sheet1!C714,0,1)","v":0}]
[{"$f":"IF(Sheet1!C716>Sheet1!C715,0,1)","v":0}]
[{"$f":"IF(Sheet1!C717>Sheet1!C716,0,1)","v":0}]
[{"$f":"IF(Sheet1!C718>Sheet1!C717,0,1)","v":0}]
[{"$f":"IF(Sheet1!C719>Sheet1!C718,0,1)","v":0}]
[{"$f":"IF(Sheet1!C720>Sheet1!C719,0,1)","v":0}]
[{"$f":"IF(Sheet1!C721>Sheet1!C720,0,1)","v":0}]
[{"$f":"IF(Sheet1!C722>Sheet1!C721,0,1)","v":0}]
[{"$f":"IF(Sheet1!C723>Sheet1!C722,0,1)","v":0}]
[{"$f":"IF(Sheet1!C724>Sheet1!C723,0,1)","v":0}]
[{"$f":"IF(Sheet1!C725>Sheet1!C724,0,1)","v":0}]
[{"$f":"IF(Sheet1!C726>Sheet1!C725,0,1)","v":0}]
[{"$f":"IF(Sheet1!C727>Sheet1!C726,0,1)","v":0}]
[{"$f":"IF(Sheet1!C728>Sheet1!C727,0,1)","v":0}]
[{"$f":"IF(Sheet1!C729>Sheet1!C728,0,1)","v":0}]
[{"$f":"IF(Sheet1!C730>Sheet1!C729,0,1)","v":0}]
[{"$f":"IF(Sheet1!C731>Sheet1!C730,0,1)","v":0}]
[{"$f":"IF(Sheet1!C732>Sheet1!C731,0,1)","v":0}]
[{"$f":"IF(Sheet1!C733>Sheet1!C732,0,1)","v":0}]
[{"$f":"IF(Sheet1!C734>Sheet1!C733,0,1)","v":0}]
[{"$f":"IF(Sheet1!C735>Sheet1!C734,0,1)","v":0}]
[{"$f":"IF(Sheet1!C736>Sheet1!C735,0,1)","v":0}]
[{"$f":"IF(Sheet1!C737>Sheet1!C736,0,1)","v":0}]
[{"$f":"IF(Sheet1!C738>Sheet1!C737,0,1)","v":0}]
[{"$f":"IF(Sheet1!C739>Sheet1!C738,0,1)","v":0}]
[{"$f":"IF(Sheet1!C740>Sheet1!C739,0,1)","v":0}]
[{"$f":"IF(Sheet1!C741>Sheet1!C740,0,1)","v":0}]
[{"$f":"IF(Sheet1!C742>Sheet1!C741,0,1)","v":0}]
[{"$f":"IF(Sheet1!C743>Sheet1!C742,0,1)","v":0}]
[{"$f":"IF(Sheet1!C744>Sheet1!C743,0,1)","v":0}]
[{"$f":"IF(Sheet1!C745>Sheet1!C744,0,1)","v":0}]
[{"$f":"IF(Sheet1!C746>Sheet1!C745,0,1)","v":0}]
[{"$f":"IF(Sheet1!C747>Sheet1!C746,0,1)","v":0}]
[{"$f":"IF(Sheet1!C748>Sheet1!C747,0,1)","v":0}]
[{"$f":"IF(Sheet1!C749>Sheet1!C748,0,1)","v":0}]
[{"$f":"IF(Sheet1!C750>Sheet1!C749,0,1)","v":0}]
[{"$f":"IF(Sheet1!C751>Sheet1!C750,0,1)","v":0}]
[{"$f":"IF(Sheet1!C752>Sheet1!C751,0,1)","v":0}]
[{"$f":"IF(Sheet1!C753>Sheet1!C752,0,1)","v":0}]
[{"$f":"IF(Sheet1!C754>Sheet1!C753,0,1)","v":0}]
[{"$f":"IF(Sheet1!C755>Sheet1!C754,0,1)","v":0}]
[{"$f":"IF(Sheet1!C756>Sheet1!C755,0,1)","v":0}]
[{"$f":"IF(Sheet1!C757>Sheet1!C756,0,1)","v":0}]
[{"$f":"IF(Sheet1!C758>Sheet1!C757,0,1)","v":0}]
[{"$f":"IF(Sheet1!C759>Sheet1!C758,0,1)","v":0}]
[{"$f":"IF(Sheet1!C760>Sheet1!C759,0,1)","v":0}]
[{"$f":"IF(Sheet1!C761>Sheet1!C760,0,1)","v":0}]
[{"$f":"IF(Sheet1!C762>Sheet1!C761,0,1)","v":0}]
[{"$f":"IF(Sheet1!C763>Sheet1!C762,0,1)","v":0}]
[{"$f":"IF(Sheet1!C764>Sheet1!C763,0,1)","v":0}]
[{"$f":"IF(Sheet1!C765>Sheet1!C764,0,1)","v":0}]
[{"$f":"IF(Sheet1!C766>Sheet1!C765,0,1)","v":0}]
[{"$f":"IF(Sheet1!C767>Sheet1!C766,0,1)","v":0}]
[{"$f":"IF(Sheet1!C768>Sheet1!C767,0,1)","v":0}]
[{"$f":"IF(Sheet1!C769>Sheet1!C768,0,1)","v":0}]
[{"$f":"IF(Sheet1!C770>Sheet1!C769,0,1)","v":0}]
[{"$f":"IF(Sheet1!C771>Sheet1!C770,0,1)","v":0}]
[{"$f":"IF(Sheet1!C772>Sheet1!C771,0,1)","v":0}]
[{"$f":"IF(Sheet1!C773>Sheet1!C772,0,1)","v":0}]
[{"$f":"IF(Sheet1!C774>Sheet1!C773,0,1)","v":0}]
[{"$f":"IF(Sheet1!C775>Sheet1!C774,0,1)","v":0}]
[{"$f":"IF(Sheet1!C776>Sheet1!C775,0,1)","v":0}]
[{"$f":"IF(Sheet1!C777>Sheet1!C776,0,1)","v":0}]
[{"$f":"IF(Sheet1!C778>Sheet1!C777,0,1)","v":0}]
[{"$f":"IF(Sheet1!C779>Sheet1!C778,0,1)","v":0}]
[{"$f":"IF(Sheet1!C780>Sheet1!C779,0,1)","v":0}]
[{"$f":"IF(Sheet1!C781>Sheet1!C780,0,1)","v":0}]
[{"$f":"IF(Sheet1!C782>Sheet1!C781,0,1)","v":0}]
[{"$f":"IF(Sheet1!C783>Sheet1!C782,0,1)","v":0}]
[{"$f":"IF(Sheet1!C784>Sheet1!C783,0,1)","v":0}]
[{"$f":"IF(Sheet1!C785>Sheet1!C784,0,1)","v":0}]
[{"$f":"IF(Sheet1!C786>Sheet1!C785,0,1)","v":0}]
[{"$f":"IF(Sheet1!C787>Sheet1!C786,0,1)","v":0}]
[{"$f":"IF(Sheet1!C788>Sheet1!C787,0,1)","v":0}]
[{"$f":"IF(Sheet1!C789>Sheet1!C788,0,1)","v":0}]
[{"$f":"IF(Sheet1!C790>Sheet1!C789,0,1)","v":0}]
[{"$f":"IF(Sheet1!C791>Sheet1!C790,0,1)","v":0}]
[{"$f":"IF(Sheet1!C792>Sheet1!C791,0,1)","v":0}]
[{"$f":"IF(Sheet1!C793>Sheet1!C792,0,1)","v":0}]
[{"$f":"IF(Sheet1!C794>Sheet1!C793,0,1)","v":0}]
[{"$f":"IF(Sheet1!C795>Sheet1!C794,0,1)","v":0}]
[{"$f":"IF(Sheet1!C796>Sheet1!C795,0,1)","v":0}]
[{"$f":"IF(Sheet1!C797>Sheet1!C796,0,1)","v":0}]
[{"$f":"IF(Sheet1!C798>Sheet1!C797,0,1)","v":0}]
[{"$f":"IF(Sheet1!C799>Sheet1!C798,0,1)","v":0}]
[{"$f":"IF(Sheet1!C800>Sheet1!C799,0,1)","v":0}]
[{"$f":"IF(Sheet1!C801>Sheet1!C800,0,1)","v":0}]
[{"$f":"IF(Sheet1!C802>Sheet1!C801,0,1)","v":0}]
[{"$f":"IF(Sheet1!C803>Sheet1!C802,0,1)","v":0}]
[{"$f":"IF(Sheet1!C804>Sheet1!C803,0,1)","v":0}]
[{"$f":"IF(Sheet1!C805>Sheet1!C804,0,1)","v":0}]
[{"$f":"IF(Sheet1!C806>Sheet1!C805,0,1)","v":0}]
[{"$f":"IF(Sheet1!C807>Sheet1!C806,0,1)","v":0}]
[{"$f":"IF(Sheet1!C808>Sheet1!C807,0,1)","v":0}]
[{"$f":"IF(Sheet1!C809>Sheet1!C808,0,1)","v":0}]
[{"$f":"IF(Sheet1!C810>Sheet1!C809,0,1)","v":0}]
[{"$f":"IF(Sheet1!C811>Sheet1!C810,0,1)","v":0}]
[{"$f":"IF(Sheet1!C812>Sheet1!C811,0,1)","v":0}]
[{"$f":"IF(Sheet1!C813>Sheet1!C812,0,1)","v":0}]
[{"$f":"IF(Sheet1!C814>Sheet1!C813,0,1)","v":0}]
[{"$f":"IF(Sheet1!C815>Sheet1!C814,0,1)","v":0}]
[{"$f":"IF(Sheet1!C816>Sheet1!C815,0,1)","v":0}]
[{"$f":"IF(Sheet1!C817>Sheet1!C816,0,1)","v":0}]
[{"$f":"IF(Sheet1!C818>Sheet1!C817,0,1)","v":0}]
[{"$f":"IF(Sheet1!C819>Sheet1!C818,0,1)","v":0}]
[{"$f":"IF(Sheet1!C820>Sheet1!C819,0,1)","v":0}]
[{"$f":"IF(Sheet1!C821>Sheet1!C820,0,1)","v":0}]
[{"$f":"IF(Sheet1!C822>Sheet1!C821,0,1)","v":0}]
[{"$f":"IF(Sheet1!C823>Sheet1!C822,0,1)","v":0}]
[{"$f":"IF(Sheet1!C824>Sheet1!C823,0,1)","v":0}]
[{"$f":"IF(Sheet1!C825>Sheet1!C824,0,1)","v":0}]
[{"$f":"IF(Sheet1!C826>Sheet1!C825,0,1)","v":0}]
[{"$f":"IF(Sheet1!C827>Sheet1!C826,0,1)","v":0}]
[{"$f":"IF(Sheet1!C828>Sheet1!C827,0,1)","v":0}]
[{"$f":"IF(Sheet1!C829>Sheet1!C828,0,1)","v":0}]
[{"$f":"IF(Sheet1!C830>Sheet1!C829,0,1)","v":0}]
[{"$f":"IF(Sheet1!C831>Sheet1!C830,0,1)","v":0}]
[{"$f":"IF(Sheet1!C832>Sheet1!C831,0,1)","v":0}]
[{"$f":"IF(Sheet1!C833>Sheet1!C832,0,1)","v":0}]
[{"$f":"IF(Sheet1!C834>Sheet1!C833,0,1)","v":0}]
[{"$f":"IF(Sheet1!C835>Sheet1!C834,0,1)","v":0}]
[{"$f":"IF(Sheet1!C836>Sheet1!C835,0,1)","v":0}]
[{"$f":"IF(Sheet1!C837>Sheet1!C836,0,1)","v":0}]
[{"$f":"IF(Sheet1!C838>Sheet1!C837,0,1)","v":0}]
[{"$f":"IF(Sheet1!C839>Sheet1!C838,0,1)","v":0}]
[{"$f":"IF(Sheet1!C840>Sheet1!C839,0,1)","v":0}]
[{"$f":"IF(Sheet1!C841>Sheet1!C840,0,1)","v":0}]
[{"$f":"IF(Sheet1!C842>Sheet1!C841,0,1)","v":0}]
[{"$f":"IF(Sheet1!C843>Sheet1!C842,0,1)","v":0}]
[{"$f":"IF(Sheet1!C844>Sheet1!C843,0,1)","v":0}]
[{"$f":"IF(Sheet1!C845>Sheet1!C844,0,1)","v":0}]
[{"$f":"IF(Sheet1!C846>Sheet1!C845,0,1)","v":0}]
[{"$f":"IF(Sheet1!C847>Sheet1!C846,0,1)","v":0}]
[{"$f":"IF(Sheet1!C848>Sheet1!C847,0,1)","v":0}]
[{"$f":"IF(Sheet1!C849>Sheet1!C848,0,1)","v":0}]
[{"$f":"IF(Sheet1!C850>Sheet1!C849,0,1)","v":0}]
[{"$f":"IF(Sheet1!C851>Sheet1!C850,0,1)","v":0}]
[{"$f":"IF(Sheet1!C852>Sheet1!C851,0,1)","v":0}]
[{"$f":"IF(Sheet1!C853>Sheet1!C852,0,1)","v":0}]
[{"$f":"IF(Sheet1!C854>Sheet1!C853,0,1)","v":0}]
[{"$f":"IF(Sheet1!C855>Sheet1!C854,0,1)","v":0}]
[{"$f":"IF(Sheet1!C856>Sheet1!C855,0,1)","v":0}]
[{"$f":"IF(Sheet1!C857>Sheet1!C856,0,1)","v":0}]
[{"$f":"IF(Sheet1!C858>Sheet1!C857,0,1)","v":0}]
[{"$f":"IF(Sheet1!C859>Sheet1!C858,0,1)","v":0}]
[{"$f":"IF(Sheet1!C860>Sheet1!C859,0,1)","v":0}]
[{"$f":"IF(Sheet1!C861>Sheet1!C860,0,1)","v":0}]
[{"$f":"IF(Sheet1!C862>Sheet1!C861,0,1)","v":0}]
[{"$f":"IF(Sheet1!C863>Sheet1!C862,0,1)","v":0}]
[{"$f":"IF(Sheet1!C864>Sheet1!C863,0,1)","v":0}]
[{"$f":"IF(Sheet1!C865>Sheet1!C864,0,1)","v":0}]
[{"$f":"IF(Sheet1!C866>Sheet1!C865,0,1)","v":0}]
[{"$f":"IF(Sheet1!C867>Sheet1!C866,0,1)","v":0}]
[{"$f":"IF(Sheet1!C868>Sheet1!C867,0,1)","v":0}]
[{"$f":"IF(Sheet1!C869>Sheet1!C868,0,1)","v":0}]
[{"$f":"IF(Sheet1!C870>Sheet1!C869,0,1)","v":0}]
[{"$f":"IF(Sheet1!C871>Sheet1!C870,0,1)","v":0}]
[{"$f":"IF(Sheet1!C872>Sheet1!C871,0,1)","v":0}]
[{"$f":"IF(Sheet1!C873>Sheet1!C872,0,1)","v":0}]
[{"$f":"IF(Sheet1!C874>Sheet1!C873,0,1)","v":0}]
[{"$f":"IF(Sheet1!C875>Sheet1!C874,0,1)","v":0}]
[{"$f":"IF(Sheet1!C876>Sheet1!C875,0,1)","v":0}]
[{"$f":"IF(Sheet1!C877>Sheet1!C876,0,1)","v":0}]
[{"$f":"IF(Sheet1!C878>Sheet1!C877,0,1)","v":0}]
[{"$f":"IF(Sheet1!C879>Sheet1!C878,0,1)","v":0}]
[{"$f":"IF(Sheet1!C880>Sheet1!C879,0,1)","v":0}]
[{"$f":"IF(Sheet1!C881>Sheet1!C880,0,1)","v":0}]
[{"$f":"IF(Sheet1!C882>Sheet1!C881,0,1)","v":0}]
[{"$f":"IF(Sheet1!C883>Sheet1!C882,0,1)","v":0}]
[{"$f":"IF(Sheet1!C884>Sheet1!C883,0,1)","v":0}]
[{"$f":"IF(Sheet1!C885>Sheet1!C884,0,1)","v":0}]
[{"$f":"IF(Sheet1!C886>Sheet1!C885,0,1)","v":0}]
[{"$f":"IF(Sheet1!C887>Sheet1!C886,0,1)","v":0}]
[{"$f":"IF(Sheet1!C888>Sheet1!C887,0,1)","v":0}]
[{"$f":"IF(Sheet1!C889>Sheet1!C888,0,1)","v":0}]
[{"$f":"IF(Sheet1!C890>Sheet1!C889,0,1)","v":0}]
[{"$f":"IF(Sheet1!C891>Sheet1!C890,0,1)","v":0}]
[{"$f":"IF(Sheet1!C892>Sheet1!C891,0,1)","v":0}]
[{"$f":"IF(Sheet1!C893>Sheet1!C892,0,1)","v":0}]
[{"$f":"IF(Sheet1!C894>Sheet1!C893,0,1)","v":0}]
[{"$f":"IF(Sheet1!C895>Sheet1!C894,0,1)","v":0}]
[{"$f":"IF(Sheet1!C896>Sheet1!C895,0,1)","v":0}]
[{"$f":"IF(Sheet1!C897>Sheet1!C896,0,1)","v":0}]
[{"$f":"IF(Sheet1!C898>Sheet1!C897,0,1)","v":0}]
[{"$f":"IF(Sheet1!C899>Sheet1!C898,0,1)","v":0}]
[{"$f":"IF(Sheet1!C900>Sheet1!C899,0,1)","v":0}]
[{"$f":"IF(Sheet1!C901>Sheet1!C900,0,1)","v":0}]
[{"$f":"IF(Sheet1!C902>Sheet1!C901,0,1)","v":0}]
[{"$f":"IF(Sheet1!C903>Sheet1!C902,0,1)","v":0}]
[{"$f":"IF(Sheet1!C904>Sheet1!C903,0,1)","v":0}]
[{"$f":"IF(Sheet1!C905>Sheet1!C904,0,1)","v":0}]
[{"$f":"IF(Sheet1!C906>Sheet1!C905,0,1)","v":0}]
[{"$f":"IF(Sheet1!C907>Sheet1!C906,0,1)","v":0}]
[{"$f":"IF(Sheet1!C908>Sheet1!C907,0,1)","v":0}]
[{"$f":"IF(Sheet1!C909>Sheet1!C908,0,1)","v":0}]
[{"$f":"IF(Sheet1!C910>Sheet1!C909,0,1)","v":0}]
[{"$f":"IF(Sheet1!C911>Sheet1!C910,0,1)","v":0}]
[{"$f":"IF(Sheet1!C912>Sheet1!C911,0,1)","v":0}]
[{"$f":"IF(Sheet1!C913>Sheet1!C912,0,1)","v":0}]
[{"$f":"IF(Sheet1!C914>Sheet1!C913,0,1)","v":0}]
[{"$f":"IF(Sheet1!C915>Sheet1!C914,0,1)","v":0}]
[{"$f":"IF(Sheet1!C916>Sheet1!C915,0,1)","v":0}]
[{"$f":"IF(Sheet1!C917>Sheet1!C916,0,1)","v":0}]
[{"$f":"IF(Sheet1!C918>Sheet1!C917,0,1)","v":0}]
[{"$f":"IF(Sheet1!C919>Sheet1!C918,0,1)","v":0}]
[{"$f":"IF(Sheet1!C920>Sheet1!C919,0,1)","v":0}]
[{"$f":"IF(Sheet1!C921>Sheet1!C920,0,1)","v":0}]
[{"$f":"IF(Sheet1!C922>Sheet1!C921,0,1)","v":0}]
[{"$f":"IF(Sheet1!C923>Sheet1!C922,0,1)","v":0}]
[{"$f":"IF(Sheet1!C924>Sheet1!C923,0,1)","v":0}]
[{"$f":"IF(Sheet1!C925>Sheet1!C924,0,1)","v":0}]
[{"$f":"IF(Sheet1!C926>Sheet1!C925,0,1)","v":0}]
[{"$f":"IF(Sheet1!C927>Sheet1!C926,0,1)","v":0}]
[{"$f":"IF(Sheet1!C928>Sheet1!C927,0,1)","v":0}]
[{"$f":"IF(Sheet1!C929>Sheet1!C928,0,1)","v":0}]
[{"$f":"IF(Sheet1!C930>Sheet1!C929,0,1)","v":0}]
[{"$f":"IF(Sheet1!C931>Sheet1!C930,0,1)","v":0}]
[{"$f":"IF(Sheet1!C932>Sheet1!C931,0,1)","v":0}]
[{"$f":"IF(Sheet1!C933>Sheet1!C932,0,1)","v":0}]
[{"$f":"IF(Sheet1!C934>Sheet1!C933,0,1)","v":0}]
[{"$f":"IF(Sheet1!C935>Sheet1!C934,0,1)","v":0}]
[{"$f":"IF(Sheet1!C936>Sheet1!C935,0,1)","v":0}]
[{"$f":"IF(Sheet1!C937>Sheet1!C936,0,1)","v":0}]
[{"$f":"IF(Sheet1!C938>Sheet1!C937,0,1)","v":0}]
[{"$f":"IF(Sheet1!C939>Sheet1!C938,0,1)","v":0}]
[{"$f":"IF(Sheet1!C940>Sheet1!C939,0,1)","v":0}]
[{"$f":"IF(Sheet1!C941>Sheet1!C940,0,1)","v":0}]
[{"$f":"IF(Sheet1!C942>Sheet1!C941,0,1)","v":0}]
[{"$f":"IF(Sheet1!C943>Sheet1!C942,0,1)","v":0}]
[{"$f":"IF(Sheet1!C944>Sheet1!C943,0,1)","v":0}]
[{"$f":"IF(Sheet1!C945>Sheet1!C944,0,1)","v":0}]
[{"$f":"IF(Sheet1!C946>Sheet1!C945,0,1)","v":0}]
[{"$f":"IF(Sheet1!C947>Sheet1!C946,0,1)","v":0}]
[{"$f":"IF(Sheet1!C948>Sheet1!C947,0,1)","v":0}]
[{"$f":"IF(Sheet1!C949>Sheet1!C948,0,1)","v":0}]
[{"$f":"IF(Sheet1!C950>Sheet1!C949,0,1)","v":0}]
[{"$f":"IF(Sheet1!C951>Sheet1!C950,0,1)","v":0}]
[{"$f":"IF(Sheet1!C952>Sheet1!C951,0,1)","v":0}]
[{"$f":"IF(Sheet1!C953>Sheet1!C952,0,1)","v":0}]
[{"$f":"IF(Sheet1!C954>Sheet1!C953,0,1)","v":0}]
[{"$f":"IF(Sheet1!C955>Sheet1!C954,0,1)","v":0}]
[{"$f":"IF(Sheet1!C956>Sheet1!C955,0,1)","v":0}]
[{"$f":"IF(Sheet1!C957>Sheet1!C956,0,1)","v":0}]
[{"$f":"IF(Sheet1!C958>Sheet1!C957,0,1)","v":0}]
[{"$f":"IF(Sheet1!C959>Sheet1!C958,0,1)","v":0}]
[{"$f":"IF(Sheet1!C960>Sheet1!C959,0,1)","v":0}]
[{"$f":"IF(Sheet1!C961>Sheet1!C960,0,1)","v":0}]
[{"$f":"IF(Sheet1!C962>Sheet1!C961,0,1)","v":0}]
[{"$f":"IF(Sheet1!C963>Sheet1!C962,0,1)","v":0}]
[{"$f":"IF(Sheet1!C964>Sheet1!C963,0,1)","v":0}]
[{"$f":"IF(Sheet1!C965>Sheet1!C964,0,1)","v":0}]
[{"$f":"IF(Sheet1!C966>Sheet1!C965,0,1)","v":0}]
[{"$f":"IF(Sheet1!C967>Sheet1!C966,0,1)","v":0}]
[{"$f":"IF(Sheet1!C968>Sheet1!C967,0,1)","v":0}]
[{"$f":"IF(Sheet1!C969>Sheet1!C968,0,1)","v":0}]
[{"$f":"IF(Sheet1!C970>Sheet1!C969,0,1)","v":0}]
[{"$f":"IF(Sheet1!C971>Sheet1!C970,0,1)","v":0}]
[{"$f":"IF(Sheet1!C972>Sheet1!C971,0,1)","v":0}]
[{"$f":"IF(Sheet1!C973>Sheet1!C972,0,1)","v":0}]
[{"$f":"IF(Sheet1!C974>Sheet1!C973,0,1)","v":0}]
[{"$f":"IF(Sheet1!C975>Sheet1!C974,0,1)","v":0}]
[{"$f":"IF(Sheet1!C976>Sheet1!C975,0,1)","v":0}]
[{"$f":"IF(Sheet1!C977>Sheet1!C976,0,1)","v":0}]
[{"$f":"IF(Sheet1!C978>Sheet1!C977,0,1)","v":0}]
[{"$f":"IF(Sheet1!C979>Sheet1!C978,0,1)","v":0}]
[{"$f":"IF(Sheet1!C980>Sheet1!C979,0,1)","v":0}]
[{"$f":"IF(Sheet1!C981>Sheet1!C980,0,1)","v":0}]
[{"$f":"IF(Sheet1!C982>Sheet1!C981,0,1)","v":0}]
[{"$f":"IF(Sheet1!C983>Sheet1!C982,0,1)","v":0}]
[{"$f":"IF(Sheet1!C984>Sheet1!C983,0,1)","v":0}]
[{"$f":"IF(Sheet1!C985>Sheet1!C984,0,1)","v":0}]
[{"$f":"IF(Sheet1!C986>Sheet1!C985,0,1)","v":0}]
[{"$f":"IF(Sheet1!C987>Sheet1!C986,0,1)","v":0}]
[{"$f":"IF(Sheet1!C988>Sheet1!C987,0,1)","v":0}]
[{"$f":"IF(Sheet1!C989>Sheet1!C988,0,1)","v":0}]
[{"$f":"IF(Sheet1!C990>Sheet1!C989,0,1)","v":0}]
[{"$f":"IF(Sheet1!C991>Sheet1!C990,0,1)","v":0}]
[{"$f":"IF(Sheet1!C992>Sheet1!C991,0,1)","v":0}]
[{"$f":"IF(Sheet1!C993>Sheet1!C992,0,1)","v":0}]
[{"$f":"IF(Sheet1!C994>Sheet1!C993,0,1)","v":0}]
[{"$f":"IF(Sheet1!C995>Sheet1!C994,0,1)","v":0}]
[{"$f":"IF(Sheet1!C996>Sheet1!C995,0,1)","v":0}]
[{"$f":"IF(Sheet1!C997>Sheet1!C996,0,1)","v":0}]
[{"$f":"IF(Sheet1!C998>Sheet1!C997,0,1)","v":0}]
[{"$f":"IF(Sheet1!C999>Sheet1!C998,0,1)","v":0}]
[{"$f":"IF(Sheet1!C1000>Sheet1!C999,0,1)","v":0}]
[{"$f":"IF(Sheet1!C1001>Sheet1!C1000,0,1)","v":0}]
[{"$f":"IF(Sheet1!C1002>Sheet1!C1001,0,1)","v":0}]
[{"$f":"IF(Sheet1!C1003>Sheet1!C1002,0,1)","v":0}]
[{"$f":"IF(Sheet1!C1004>Sheet1!C1003,0,1)","v":0}]
[{"$f":"IF(Sheet1!C1005>Sheet1!C1004,0,1)","v":0}]
[{"$f":"IF(Sheet1!C1006>Sheet1!C1005,0,1)","v":0}]
[{"$f":"IF(Sheet1!C1007>Sheet1!C1006,0,1)","v":0}]
[{"$f":"IF(Sheet1!C1008>Sheet1!C1007,0,1)","v":0}]
[{"$f":"IF(Sheet1!C1009>Sheet1!C1008,0,1)","v":0}]
[{"$f":"IF(Sheet1!C1010>Sheet1!C1009,0,1)","v":0}]
[{"$f":"IF(Sheet1!C1011>Sheet1!C1010,0,1)","v":0}]
[{"$f":"IF(Sheet1!C1012>Sheet1!C1011,0,1)","v":0}]
[{"$f":"IF(Sheet1!C1013>Sheet1!C1012,0,1)","v":0}]
[{"$f":"IF(Sheet1!C1014>Sheet1!C1013,0,1)","v":0}]
[{"$f":"IF(Sheet1!C1015>Sheet1!C1014,0,1)","v":0}]
[{"$f":"IF(Sheet1!C1016>Sheet1!C1015,0,1)","v":0}]
[{"$f":"IF(Sheet1!C1017>Sheet1!C1016,0,1)","v":0}]
[{"$f":"IF(Sheet1!C1018>Sheet1!C1017,0,1)","v":0}]
[{"$f":"IF(Sheet1!C1019>Sheet1!C1018,0,1)","v":0}]
[{"$f":"IF(Sheet1!C1020>Sheet1!C1019,0,1)","v":0}]
[{"$f":"IF(Sheet1!C1021>Sheet1!C1020,0,1)","v":0}]
[{"$f":"IF(Sheet1!C1022>Sheet1!C1021,0,1)","v":0}]
[{"$f":"IF(Sheet1!C1023>Sheet1!C1022,0,1)","v":0}]
[{"$f":"IF(Sheet1!C1024>Sheet1!C1023,0,1)","v":0}]
[{"$f":"IF(Sheet1!C1025>Sheet1!C1024,0,1)","v":0}]
[{"$f":"IF(Sheet1!C1026>Sheet1!C1025,0,1)","v":0}]
[{"$f":"IF(Sheet1!C1027>Sheet1!C1026,0,1)","v":0}]
[{"$f":"IF(Sheet1!C1028>Sheet1!C1027,0,1)","v":0}]
[{"$f":"IF(Sheet1!C1029>Sheet1!C1028,0,1)","v":0}]
[{"$f":"IF(Sheet1!C1030>Sheet1!C1029,0,1)","v":0}]
[{"$f":"IF(Sheet1!C1031>Sheet1!C1030,0,1)","v":0}]
[{"$f":"IF(Sheet1!C1032>Sheet1!C1031,0,1)","v":0}]
[{"$f":"IF(Sheet1!C1033>Sheet1!C1032,0,1)","v":0}]
[{"$f":"IF(Sheet1!C1034>Sheet1!C1033,0,1)","v":0}]
[{"$f":"IF(Sheet1!C1035>Sheet1!C1034,0,1)","v":0}]
[{"$f":"IF(Sheet1!C1036>Sheet1!C1035,0,1)","v":0}]
[{"$f":"IF(Sheet1!C1037>Sheet1!C1036,0,1)","v":0}]
[{"$f":"IF(Sheet1!C1038>Sheet1!C1037,0,1)","v":0}]
[{"$f":"IF(Sheet1!C1039>Sheet1!C1038,0,1)","v":0}]
[{"$f":"IF(Sheet1!C1040>Sheet1!C1039,0,1)","v":0}]
[{"$f":"IF(Sheet1!C1041>Sheet1!C1040,0,1)","v":0}]
[{"$f":"IF(Sheet1!C1042>Sheet1!C1041,0,1)","v":0}]
[{"$f":"IF(Sheet1!C1043>Sheet1!C1042,0,1)","v":0}]
[{"$f":"IF(Sheet1!C1044>Sheet1!C1043,0,1)","v":0}]
[{"$f":"IF(Sheet1!C1045>Sheet1!C1044,0,1)","v":0}]
[{"$f":"IF(Sheet1!C1046>Sheet1!C1045,0,1)","v":0}]
[{"$f":"IF(Sheet1!C1047>Sheet1!C1046,0,1)","v":0}]
[{"$f":"IF(Sheet1!C1048>Sheet1!C1047,0,1)","v":0}]
[{"$f":"IF(Sheet1!C1049>Sheet1!C1048,0,1)","v":0}]
[{"$f":"IF(Sheet1!C1050>Sheet1!C1049,0,1)","v":0}]
[{"$f":"IF(Sheet1!C1051>Sheet1!C1050,0,1)","v":0}]
[{"$f":"IF(Sheet1!C1052>Sheet1!C1051,0,1)","v":0}]
[{"$f":"IF(Sheet1!C1053>Sheet1!C1052,0,1)","v":0}]
[{"$f":"IF(Sheet1!C1054>Sheet1!C1053,0,1)","v":0}]
[{"$f":"IF(Sheet1!C1055>Sheet1!C1054,0,1)","v":0}]
[{"$f":"IF(Sheet1!C1056>Sheet1!C1055,0,1)","v":0}]
[{"$f":"IF(Sheet1!C1057>Sheet1!C1056,0,1)","v":0}]
[{"$f":"IF(Sheet1!C1058>Sheet1!C1057,0,1)","v":0}]
[{"$f":"IF(Sheet1!C1059>Sheet1!C1058,0,1)","v":0}]
[{"$f":"IF(Sheet1!C1060>Sheet1!C1059,0,1)","v":0}]
[{"$f":"IF(Sheet1!C1061>Sheet1!C1060,0,1)","v":0}]
[{"$f":"IF(Sheet1!C1062>Sheet1!C1061,0,1)","v":0}]
[{"$f":"IF(Sheet1!C1063>Sheet1!C1062,0,1)","v":0}]
[{"$f":"IF(Sheet1!C1064>Sheet1!C1063,0,1)","v":0}]
[{"$f":"IF(Sheet1!C1065>Sheet1!C1064,0,1)","v":0}]
[{"$f":"IF(Sheet1!C1066>Sheet1!C1065,0,1)","v":0}]
[{"$f":"IF(Sheet1!C1067>Sheet1!C1066,0,1)","v":0}]
[{"$f":"IF(Sheet1!C1068>Sheet1!C1067,0,1)","v":0}]
[{"$f":"IF(Sheet1!C1069>Sheet1!C1068,0,1)","v":0}]
[{"$f":"IF(Sheet1!C1070>Sheet1!C1069,0,1)","v":0}]
[{"$f":"IF(Sheet1!C1071>Sheet1!C1070,0,1)","v":0}]
[{"$f":"IF(Sheet1!C1072>Sheet1!C1071,0,1)","v":0}]
[{"$f":"IF(Sheet1!C1073>Sheet1!C1072,0,1)","v":0}]
[{"$f":"IF(Sheet1!C1074>Sheet1!C1073,0,1)","v":0}]
[{"$f":"IF(Sheet1!C1075>Sheet1!C1074,0,1)","v":0}]
[{"$f":"IF(Sheet1!C1076>Sheet1!C1075,0,1)","v":0}]
[{"$f":"IF(Sheet1!C1077>Sheet1!C1076,0,1)","v":0}]
[{"$f":"IF(Sheet1!C1078>Sheet1!C1077,0,1)","v":0}]
[{"$f":"IF(Sheet1!C1079>Sheet1!C1078,0,1)","v":0}]
[{"$f":"IF(Sheet1!C1080>Sheet1!C1079,0,1)","v":0}]
[{"$f":"IF(Sheet1!C1081>Sheet1!C1080,0,1)","v":0}]
[{"$f":"IF(Sheet1!C1082>Sheet1!C1081,0,1)","v":0}]
[{"$f":"IF(Sheet1!C1083>Sheet1!C1082,0,1)","v":0}]
[{"$f":"IF(Sheet1!C1084>Sheet1!C1083,0,1)","v":0}]
[{"$f":"IF(Sheet1!C1085>Sheet1!C1084,0,1)","v":0}]
[{"$f":"IF(Sheet1!C1086>Sheet1!C1085,0,1)","v":0}]
[{"$f":"IF(Sheet1!C1087>Sheet1!C1086,0,1)","v":0}]
[{"$f":"IF(Sheet1!C1088>Sheet1!C1087,0,1)","v":0}]
[{"$f":"IF(Sheet1!C1089>Sheet1!C1088,0,1)","v":0}]
[{"$f":"IF(Sheet1!C1090>Sheet1!C1089,0,1)","v":0}]
[{"$f":"IF(Sheet1!C1091>Sheet1!C1090,0,1)","v":0}]
[{"$f":"IF(Sheet1!C1092>Sheet1!C1091,0,1)","v":0}]
[{"$f":"IF(Sheet1!C1093>Sheet1!C1092,0,1)","v":0}]
[{"$f":"IF(Sheet1!C1094>Sheet1!C1093,0,1)","v":0}]
[{"$f":"IF(Sheet1!C1095>Sheet1!C1094,0,1)","v":0}]
[{"$f":"IF(Sheet1!C1096>Sheet1!C1095,0,1)","v":0}]
[{"$f":"IF(Sheet1!C1097>Sheet1!C1096,0,1)","v":0}]
[{"$f":"IF(Sheet1!C1098>Sheet1!C1097,0,1)","v":0}]
[{"$f":"IF(Sheet1!C1099>Sheet1!C1098,0,1)","v":0}]
[{"$f":"IF(Sheet1!C1100>Sheet1!C1099,0,1)","v":0}]
[{"$f":"IF(Sheet1!C1101>Sheet1!C1100,0,1)","v":0}]
[{"$f":"IF(Sheet1!C1102>Sheet1!C1101,0,1)","v":0}]
[{"$f":"IF(Sheet1!C1103>Sheet1!C1102,0,1)","v":0}]
[{"$f":"IF(Sheet1!C1104>Sheet1!C1103,0,1)","v":0}]
[{"$f":"IF(Sheet1!C1105>Sheet1!C1104,0,1)","v":0}]
[{"$f":"IF(Sheet1!C1106>Sheet1!C1105,0,1)","v":0}]
[{"$f":"IF(Sheet1!C1107>Sheet1!C1106,0,1)","v":0}]
[{"$f":"IF(Sheet1!C1108>Sheet1!C1107,0,1)","v":0}]
[{"$f":"IF(Sheet1!C1109>Sheet1!C1108,0,1)","v":0}]
[{"$f":"IF(Sheet1!C1110>Sheet1!C1109,0,1)","v":0}]
[{"$f":"IF(Sheet1!C1111>Sheet1!C1110,0,1)","v":0}]
[{"$f":"IF(Sheet1!C1112>Sheet1!C1111,0,1)","v":0}]
[{"$f":"IF(Sheet1!C1113>Sheet1!C1112,0,1)","v":0}]
[{"$f":"IF(Sheet1!C1114>Sheet1!C1113,0,1)","v":0}]
[{"$f":"IF(Sheet1!C1115>Sheet1!C1114,0,1)","v":0}]
[{"$f":"IF(Sheet1!C1116>Sheet1!C1115,0,1)","v":0}]
[{"$f":"IF(Sheet1!C1117>Sheet1!C1116,0,1)","v":0}]
[{"$f":"IF(Sheet1!C1118>Sheet1!C1117,0,1)","v":0}]
[{"$f":"IF(Sheet1!C1119>Sheet1!C1118,0,1)","v":0}]
[{"$f":"IF(Sheet1!C1120>Sheet1!C1119,0,1)","v":0}]
[{"$f":"IF(Sheet1!C1121>Sheet1!C1120,0,1)","v":0}]
[{"$f":"IF(Sheet1!C1122>Sheet1!C1121,0,1)","v":0}]
[{"$f":"IF(Sheet1!C1123>Sheet1!C1122,0,1)","v":0}]
[{"$f":"IF(Sheet1!C1124>Sheet1!C1123,0,1)","v":0}]
[{"$f":"IF(Sheet1!C1125>Sheet1!C1124,0,1)","v":0}]
[{"$f":"IF(Sheet1!C1126>Sheet1!C1125,0,1)","v":0}]
[{"$f":"IF(Sheet1!C1127>Sheet1!C1126,0,1)","v":0}]
[{"$f":"IF(Sheet1!C1128>Sheet1!C1127,0,1)","v":0}]
[{"$f":"IF(Sheet1!C1129>Sheet1!C1128,0,1)","v":0}]
[{"$f":"IF(Sheet1!C1130>Sheet1!C1129,0,1)","v":0}]
[{"$f":"IF(Sheet1!C1131>Sheet1!C1130,0,1)","v":0}]
[{"$f":"IF(Sheet1!C1132>Sheet1!C1131,0,1)","v":0}]
[{"$f":"IF(Sheet1!C1133>Sheet1!C1132,0,1)","v":0}]
[{"$f":"IF(Sheet1!C1134>Sheet1!C1133,0,1)","v":0}]
[{"$f":"IF(Sheet1!C1135>Sheet1!C1134,0,1)","v":0}]
[{"$f":"IF(Sheet1!C1136>Sheet1!C1135,0,1)","v":0}]
[{"$f":"IF(Sheet1!C1137>Sheet1!C1136,0,1)","v":0}]
[{"$f":"IF(Sheet1!C1138>Sheet1!C1137,0,1)","v":0}]
[{"$f":"IF(Sheet1!C1139>Sheet1!C1138,0,1)","v":0}]
[{"$f":"IF(Sheet1!C1140>Sheet1!C1139,0,1)","v":0}]
[{"$f":"IF(Sheet1!C1141>Sheet1!C1140,0,1)","v":0}]
[{"$f":"IF(Sheet1!C1142>Sheet1!C1141,0,1)","v":0}]
[{"$f":"IF(Sheet1!C1143>Sheet1!C1142,0,1)","v":0}]
[{"$f":"IF(Sheet1!C1144>Sheet1!C1143,0,1)","v":0}]
[{"$f":"IF(Sheet1!C1145>Sheet1!C1144,0,1)","v":0}]
[{"$f":"IF(Sheet1!C1146>Sheet1!C1145,0,1)","v":0}]
[{"$f":"IF(Sheet1!C1147>Sheet1!C1146,0,1)","v":0}]
[{"$f":"IF(Sheet1!C1148>Sheet1!C1147,0,1)","v":0}]
[{"$f":"IF(Sheet1!C1149>Sheet1!C1148,0,1)","v":0}]
[{"$f":"IF(Sheet1!C1150>Sheet1!C1149,0,1)","v":0}]
[{"$f":"IF(Sheet1!C1151>Sheet1!C1150,0,1)","v":0}]
[{"$f":"IF(Sheet1!C1152>Sheet1!C1151,0,1)","v":0}]
[{"$f":"IF(Sheet1!C1153>Sheet1!C1152,0,1)","v":0}]
[{"$f":"IF(Sheet1!C1154>Sheet1!C1153,0,1)","v":0}]
[{"$f":"IF(Sheet1!C1155>Sheet1!C1154,0,1)","v":0}]
[{"$f":"IF(Sheet1!C1156>Sheet1!C1155,0,1)","v":0}]
[{"$f":"IF(Sheet1!C1157>Sheet1!C1156,0,1)","v":0}]
[{"$f":"IF(Sheet1!C1158>Sheet1!C1157,0,1)","v":0}]
[{"$f":"IF(Sheet1!C1159>Sheet1!C1158,0,1)","v":0}]
[{"$f":"IF(Sheet1!C1160>Sheet1!C1159,0,1)","v":0}]
[{"$f":"IF(Sheet1!C1161>Sheet1!C1160,0,1)","v":0}]
[{"$f":"IF(Sheet1!C1162>Sheet1!C1161,0,1)","v":0}]
[{"$f":"IF(Sheet1!C1163>Sheet1!C1162,0,1)","v":0}]
[{"$f":"IF(Sheet1!C1164>Sheet1!C1163,0,1)","v":0}]
[{"$f":"IF(Sheet1!C1165>Sheet1!C1164,0,1)","v":0}]
[{"$f":"IF(Sheet1!C1166>Sheet1!C1165,0,1)","v":0}]
[{"$f":"IF(Sheet1!C1167>Sheet1!C1166,0,1)","v":0}]
[{"$f":"IF(Sheet1!C1168>Sheet1!C1167,0,1)","v":0}]
[{"$f":"IF(Sheet1!C1169>Sheet1!C1168,0,1)","v":0}]
[{"$f":"IF(Sheet1!C1170>Sheet1!C1169,0,1)","v":0}]
[{"$f":"IF(Sheet1!C1171>Sheet1!C1170,0,1)","v":0}]
[{"$f":"IF(Sheet1!C1172>Sheet1!C1171,0,1)","v":0}]
[{"$f":"IF(Sheet1!C1173>Sheet1!C1172,0,1)","v":0}]
[{"$f":"IF(Sheet1!C1174>Sheet1!C1173,0,1)","v":0}]
[{"$f":"IF(Sheet1!C1175>Sheet1!C1174,0,1)","v":0}]
[{"$f":"IF(Sheet1!C1176>Sheet1!C1175,0,1)","v":0}]
[{"$f":"IF(Sheet1!C1177>Sheet1!C1176,0,1)","v":0}]
[{"$f":"IF(Sheet1!C1178>Sheet1!C1177,0,1)","v":0}]
[{"$f":"IF(Sheet1!C1179>Sheet1!C1178,0,1)","v":0}]
[{"$f":"IF(Sheet1!C1180>Sheet1!C1179,0,1)","v":0}]
[{"$f":"IF(Sheet1!C1181>Sheet1!C1180,0,1)","v":0}]
[{"$f":"IF(Sheet1!C1182>Sheet1!C1181,0,1)","v":0}]
[{"$f":"IF(Sheet1!C1183>Sheet1!C1182,0,1)","v":0}]
[{"$f":"IF(Sheet1!C1184>Sheet1!C1183,0,1)","v":0}]
[{"$f":"IF(Sheet1!C1185>Sheet1!C1184,0,1)","v":0}]
[{"$f":"IF(Sheet1!C1186>Sheet1!C1185,0,1)","v":0}]
[{"$f":"IF(Sheet1!C1187>Sheet1!C1186,0,1)","v":0}]
[{"$f":"IF(Sheet1!C1188>Sheet1!C1187,0,1)","v":0}]
[{"$f":"IF(Sheet1!C1189>Sheet1!C1188,0,1)","v":0}]
[{"$f":"IF(Sheet1!C1190>Sheet1!C1189,0,1)","v":0}]
[{"$f":"IF(Sheet1!C1191>Sheet1!C1190,0,1)","v":0}]
[{"$f":"IF(Sheet1!C1192>Sheet1!C1191,0,1)","v":0}]
[{"$f":"IF(Sheet1!C1193>Sheet1!C1192,0,1)","v":0}]
[{"$f":"IF(Sheet1!C1194>Sheet1!C1193,0,1)","v":0}]
[{"$f":"IF(Sheet1!C1195>Sheet1!C1194,0,1)","v":0}]
[{"$f":"IF(Sheet1!C1196>Sheet1!C1195,0,1)","v":0}]
[{"$f":"IF(Sheet1!C1197>Sheet1!C1196,0,1)","v":0}]
[{"$f":"IF(Sheet1!C1198>Sheet1!C1197,0,1)","v":0}]
[{"$f":"IF(Sheet1!C1199>Sheet1!C1198,0,1)","v":0}]
[{"$f":"IF(Sheet1!C1200>Sheet1!C1199,0,1)","v":0}]
[{"$f":"IF(Sheet1!C1201>Sheet1!C1200,0,1)","v":0}]
[{"$f":"IF(Sheet1!C1202>Sheet1!C1201,0,1)","v":0}]
[{"$f":"IF(Sheet1!C1203>Sheet1!C1202,0,1)","v":0}]
[{"$f":"IF(Sheet1!C1204>Sheet1!C1203,0,1)","v":0}]
[{"$f":"IF(Sheet1!C1205>Sheet1!C1204,0,1)","v":0}]
[{"$f":"IF(Sheet1!C1206>Sheet1!C1205,0,1)","v":0}]
[{"$f":"IF(Sheet1!C1207>Sheet1!C1206,0,1)","v":0}]
[{"$f":"IF(Sheet1!C1208>Sheet1!C1207,0,1)","v":0}]
[{"$f":"IF(Sheet1!C1209>Sheet1!C1208,0,1)","v":0}]
[{"$f":"IF(Sheet1!C1210>Sheet1!C1209,0,1)","v":0}]
[{"$f":"IF(Sheet1!C1211>Sheet1!C1210,0,1)","v":0}]
[{"$f":"IF(Sheet1!C1212>Sheet1!C1211,0,1)","v":0}]
[{"$f":"IF(Sheet1!C1213>Sheet1!C1212,0,1)","v":0}]
[{"$f":"IF(Sheet1!C1214>Sheet1!C1213,0,1)","v":0}]
[{"$f":"IF(Sheet1!C1215>Sheet1!C1214,0,1)","v":0}]
[{"$f":"IF(Sheet1!C1216>Sheet1!C1215,0,1)","v":0}]
[{"$f":"IF(Sheet1!C1217>Sheet1!C1216,0,1)","v":0}]
[{"$f":"IF(Sheet1!C1218>Sheet1!C1217,0,1)","v":0}]
[{"$f":"IF(Sheet1!C1219>Sheet1!C1218,0,1)","v":0}]
[{"$f":"IF(Sheet1!C1220>Sheet1!C1219,0,1)","v":0}]
[{"$f":"IF(Sheet1!C1221>Sheet1!C1220,0,1)","v":0}]
[{"$f":"IF(Sheet1!C1222>Sheet1!C1221,0,1)","v":0}]
[{"$f":"IF(Sheet1!C1223>Sheet1!C1222,0,1)","v":0}]
[{"$f":"IF(Sheet1!C1224>Sheet1!C1223,0,1)","v":0}]
[{"$f":"IF(Sheet1!C1225>Sheet1!C1224,0,1)","v":0}]
[{"$f":"IF(Sheet1!C1226>Sheet1!C1225,0,1)","v":0}]
[{"$f":"IF(Sheet1!C1227>Sheet1!C1226,0,1)","v":0}]
[{"$f":"IF(Sheet1!C1228>Sheet1!C1227,0,1)","v":0}]
[{"$f":"IF(Sheet1!C1229>Sheet1!C1228,0,1)","v":0}]
[{"$f":"IF(Sheet1!C1230>Sheet1!C1229,0,1)","v":0}]
[{"$f":"IF(Sheet1!C1231>Sheet1!C1230,0,1)","v":0}]
[{"$f":"IF(Sheet1!C1232>Sheet1!C1231,0,1)","v":0}]
[{"$f":"IF(Sheet1!C1233>Sheet1!C1232,0,1)","v":0}]
[{"$f":"IF(Sheet1!C1234>Sheet1!C1233,0,1)","v":0}]
[{"$f":"IF(Sheet1!C1235>Sheet1!C1234,0,1)","v":0}]
[{"$f":"IF(Sheet1!C1236>Sheet1!C1235,0,1)","v":0}]
[{"$f":"IF(Sheet1!C1237>Sheet1!C1236,0,1)","v":0}]
[{"$f":"IF(Sheet1!C1238>Sheet1!C1237,0,1)","v":0}]
[{"$f":"IF(Sheet1!C1239>Sheet1!C1238,0,1)","v":0}]
[{"$f":"IF(Sheet1!C1240>Sheet1!C1239,0,1)","v":0}]
[{"$f":"IF(Sheet1!C1241>Sheet1!C1240,0,1)","v":0}]
[{"$f":"IF(Sheet1!C1242>Sheet1!C1241,0,1)","v":0}]
[{"$f":"IF(Sheet1!C1243>Sheet1!C1242,0,1)","v":0}]
[{"$f":"IF(Sheet1!C1244>Sheet1!C1243,0,1)","v":0}]
[{"$f":"IF(Sheet1!C1245>Sheet1!C1244,0,1)","v":0}]
[{"$f":"IF(Sheet1!C1246>Sheet1!C1245,0,1)","v":0}]
[{"$f":"IF(Sheet1!C1247>Sheet1!C1246,0,1)","v":0}]
[{"$f":"IF(Sheet1!C1248>Sheet1!C1247,0,1)","v":0}]
[{"$f":"IF(Sheet1!C1249>Sheet1!C1248,0,1)","v":0}]
[{"$f":"IF(Sheet1!C1250>Sheet1!C1249,0,1)","v":0}]
[{"$f":"IF(Sheet1!C1251>Sheet1!C1250,0,1)","v":0}]
[{"$f":"IF(Sheet1!C1252>Sheet1!C1251,0,1)","v":0}]
[{"$f":"IF(Sheet1!C1253>Sheet1!C1252,0,1)","v":0}]
[{"$f":"IF(Sheet1!C1254>Sheet1!C1253,0,1)","v":0}]
[{"$f":"IF(Sheet1!C1255>Sheet1!C1254,0,1)","v":0}]
[{"$f":"IF(Sheet1!C1256>Sheet1!C1255,0,1)","v":0}]
[{"$f":"IF(Sheet1!C1257>Sheet1!C1256,0,1)","v":0}]
[{"$f":"IF(Sheet1!C1258>Sheet1!C1257,0,1)","v":0}]
[{"$f":"IF(Sheet1!C1259>Sheet1!C1258,0,1)","v":0}]
[{"$f":"IF(Sheet1!C1260>Sheet1!C1259,0,1)","v":0}]
[{"$f":"IF(Sheet1!C1261>Sheet1!C1260,0,1)","v":0}]
[{"$f":"IF(Sheet1!C1262>Sheet1!C1261,0,1)","v":0}]
[{"$f":"IF(Sheet1!C1263>Sheet1!C1262,0,1)","v":0}]
[{"$f":"IF(Sheet1!C1264>Sheet1!C1263,0,1)","v":0}]
[{"$f":"IF(Sheet1!C1265>Sheet1!C1264,0,1)","v":0}]
[{"$f":"IF(Sheet1!C1266>Sheet1!C1265,0,1)","v":0}]
[{"$f":"IF(Sheet1!C1267>Sheet1!C1266,0,1)","v":0}]
[{"$f":"IF(Sheet1!C1268>Sheet1!C1267,0,1)","v":0}]
[{"$f":"IF(Sheet1!C1269>Sheet1!C1268,0,1)","v":0}]
[{"$f":"IF(Sheet1!C1270>Sheet1!C1269,0,1)","v":0}]
[{"$f":"IF(Sheet1!C1271>Sheet1!C1270,0,1)","v":0}]
[{"$f":"IF(Sheet1!C1272>Sheet1!C1271,0,1)","v":0}]
[{"$f":"IF(Sheet1!C1273>Sheet1!C1272,0,1)","v":0}]
[{"$f":"IF(Sheet1!C1274>Sheet1!C1273,0,1)","v":0}]
[{"$f":"IF(Sheet1!C1275>Sheet1!C1274,0,1)","v":0}]
[{"$f":"IF(Sheet1!C1276>Sheet1!C1275,0,1)","v":0}]
[{"$f":"IF(Sheet1!C1277>Sheet1!C1276,0,1)","v":0}]
[{"$f":"IF(Sheet1!C1278>Sheet1!C1277,0,1)","v":0}]
[{"$f":"IF(Sheet1!C1279>Sheet1!C1278,0,1)","v":0}]
[{"$f":"IF(Sheet1!C1280>Sheet1!C1279,0,1)","v":0}]
[{"$f":"IF(Sheet1!C1281>Sheet1!C1280,0,1)","v":0}]
[{"$f":"IF(Sheet1!C1282>Sheet1!C1281,0,1)","v":0}]
[{"$f":"IF(Sheet1!C1283>Sheet1!C1282,0,1)","v":0}]
[{"$f":"IF(Sheet1!C1284>Sheet1!C1283,0,1)","v":0}]
[{"$f":"IF(Sheet1!C1285>Sheet1!C1284,0,1)","v":0}]
[{"$f":"IF(Sheet1!C1286>Sheet1!C1285,0,1)","v":0}]
[{"$f":"IF(Sheet1!C1287>Sheet1!C1286,0,1)","v":0}]
[{"$f":"IF(Sheet1!C1288>Sheet1!C1287,0,1)","v":0}]
[{"$f":"IF(Sheet1!C1289>Sheet1!C1288,0,1)","v":0}]
[{"$f":"IF(Sheet1!C1290>Sheet1!C1289,0,1)","v":0}]
[{"$f":"IF(Sheet1!C1291>Sheet1!C1290,0,1)","v":0}]
[{"$f":"IF(Sheet1!C1292>Sheet1!C1291,0,1)","v":0}]
[{"$f":"IF(Sheet1!C1293>Sheet1!C1292,0,1)","v":0}]
[{"$f":"IF(Sheet1!C1294>Sheet1!C1293,0,1)","v":0}]
[{"$f":"IF(Sheet1!C1295>Sheet1!C1294,0,1)","v":0}]
[{"$f":"IF(Sheet1!C1296>Sheet1!C1295,0,1)","v":0}]
[{"$f":"IF(Sheet1!C1297>Sheet1!C1296,0,1)","v":0}]
[{"$f":"IF(Sheet1!C1298>Sheet1!C1297,0,1)","v":0}]
[{"$f":"IF(Sheet1!C1299>Sheet1!C1298,0,1)","v":0}]
[{"$f":"IF(Sheet1!C1300>Sheet1!C1299,0,1)","v":0}]
[{"$f":"IF(Sheet1!C1301>Sheet1!C1300,0,1)","v":0}]
[{"$f":"IF(Sheet1!C1302>Sheet1!C1301,0,1)","v":0}]
[{"$f":"IF(Sheet1!C1303>Sheet1!C1302,0,1)","v":0}]
[{"$f":"IF(Sheet1!C1304>Sheet1!C1303,0,1)","v":0}]
[{"$f":"IF(Sheet1!C1305>Sheet1!C1304,0,1)","v":0}]
[{"$f":"IF(Sheet1!C1306>Sheet1!C1305,0,1)","v":0}]
[{"$f":"IF(Sheet1!C1307>Sheet1!C1306,0,1)","v":0}]
[{"$f":"IF(Sheet1!C1308>Sheet1!C1307,0,1)","v":0}]
[{"$f":"IF(Sheet1!C1309>Sheet1!C1308,0,1)","v":0}]
[{"$f":"IF(Sheet1!C1310>Sheet1!C1309,0,1)","v":0}]
[{"$f":"IF(Sheet1!C1311>Sheet1!C1310,0,1)","v":0}]
[{"$f":"IF(Sheet1!C1312>Sheet1!C1311,0,1)","v":0}]
[{"$f":"IF(Sheet1!C1313>Sheet1!C1312,0,1)","v":0}]
[{"$f":"IF(Sheet1!C1314>Sheet1!C1313,0,1)","v":0}]
[{"$f":"IF(Sheet1!C1315>Sheet1!C1314,0,1)","v":0}]
[{"$f":"IF(Sheet1!C1316>Sheet1!C1315,0,1)","v":0}]
[{"$f":"IF(Sheet1!C1317>Sheet1!C1316,0,1)","v":0}]
[{"$f":"IF(Sheet1!C1318>Sheet1!C1317,0,1)","v":0}]
[{"$f":"IF(Sheet1!C1319>Sheet1!C1318,0,1)","v":0}]
[{"$f":"IF(Sheet1!C1320>Sheet1!C1319,0,1)","v":0}]
[{"$f":"IF(Sheet1!C1321>Sheet1!C1320,0,1)","v":0}]
[{"$f":"IF(Sheet1!C1322>Sheet1!C1321,0,1)","v":0}]
[{"$f":"IF(Sheet1!C1323>Sheet1!C1322,0,1)","v":0}]
[{"$f":"IF(Sheet1!C1324>Sheet1!C1323,0,1)","v":0}]
[{"$f":"IF(Sheet1!C1325>Sheet1!C1324,0,1)","v":0}]
[{"$f":"IF(Sheet1!C1326>Sheet1!C1325,0,1)","v":0}]
[{"$f":"IF(Sheet1!C1327>Sheet1!C1326,0,1)","v":0}]
[{"$f":"IF(Sheet1!C1328>Sheet1!C1327,0,1)","v":0}]
[{"$f":"IF(Sheet1!C1329>Sheet1!C1328,0,1)","v":0}]
[{"$f":"IF(Sheet1!C1330>Sheet1!C1329,0,1)","v":0}]
[{"$f":"IF(Sheet1!C1331>Sheet1!C1330,0,1)","v":0}]
[{"$f":"IF(Sheet1!C1332>Sheet1!C1331,0,1)","v":0}]
[{"$f":"IF(Sheet1!C1333>Sheet1!C1332,0,1)","v":0}]
[{"$f":"IF(Sheet1!C1334>Sheet1!C1333,0,1)","v":0}]
[{"$f":"IF(Sheet1!C1335>Sheet1!C1334,0,1)","v":0}]
[{"$f":"IF(Sheet1!C1336>Sheet1!C1335,0,1)","v":0}]
[{"$f":"IF(Sheet1!C1337>Sheet1!C1336,0,1)","v":0}]
[{"$f":"IF(Sheet1!C1338>Sheet1!C1337,0,1)","v":0}]
[{"$f":"IF(Sheet1!C1339>Sheet1!C1338,0,1)","v":0}]
[{"$f":"IF(Sheet1!C1340>Sheet1!C1339,0,1)","v":0}]
[{"$f":"IF(Sheet1!C1341>Sheet1!C1340,0,1)","v":0}]
[{"$f":"IF(Sheet1!C1342>Sheet1!C1341,0,1)","v":0}]
[{"$f":"IF(Sheet1!C1343>Sheet1!C1342,0,1)","v":0}]
[{"$f":"IF(Sheet1!C1344>Sheet1!C1343,0,1)","v":0}]
[{"$f":"IF(Sheet1!C1345>Sheet1!C1344,0,1)","v":0}]
[{"$f":"IF(Sheet1!C1346>Sheet1!C1345,0,1)","v":0}]
[{"$f":"IF(Sheet1!C1347>Sheet1!C1346,0,1)","v":0}]
[{"$f":"IF(Sheet1!C1348>Sheet1!C1347,0,1)","v":0}]
[{"$f":"IF(Sheet1!C1349>Sheet1!C1348,0,1)","v":0}]
[{"$f":"IF(Sheet1!C1350>Sheet1!C1349,0,1)","v":0}]
[{"$f":"IF(Sheet1!C1351>Sheet1!C1350,0,1)","v":0}]
[{"$f":"IF(Sheet1!C1352>Sheet1!C1351,0,1)","v":0}]
[{"$f":"IF(Sheet1!C1353>Sheet1!C1352,0,1)","v":0}]
[{"$f":"IF(Sheet1!C1354>Sheet1!C1353,0,1)","v":0}]
[{"$f":"IF(Sheet1!C1355>Sheet1!C1354,0,1)","v":0}]
[{"$f":"IF(Sheet1!C1356>Sheet1!C1355,0,1)","v":0}]
[{"$f":"IF(Sheet1!C1357>Sheet1!C1356,0,1)","v":0}]
[{"$f":"IF(Sheet1!C1358>Sheet1!C1357,0,1)","v":0}]
[{"$f":"IF(Sheet1!C1359>Sheet1!C1358,0,1)","v":0}]
[{"$f":"IF(Sheet1!C1360>Sheet1!C1359,0,1)","v":0}]
[{"$f":"IF(Sheet1!C1361>Sheet1!C1360,0,1)","v":0}]
[{"$f":"IF(Sheet1!C1362>Sheet1!C1361,0,1)","v":0}]
[{"$f":"IF(Sheet1!C1363>Sheet1!C1362,0,1)","v":0}]
[{"$f":"IF(Sheet1!C1364>Sheet1!C1363,0,1)","v":0}]
[{"$f":"IF(Sheet1!C1365>Sheet1!C1364,0,1)","v":0}]
[{"$f":"IF(Sheet1!C1366>Sheet1!C1365,0,1)","v":0}]
[{"$f":"IF(Sheet1!C1367>Sheet1!C1366,0,1)","v":0}]
[{"$f":"IF(Sheet1!C1368>Sheet1!C1367,0,1)","v":0}]
[{"$f":"IF(Sheet1!C1369>Sheet1!C1368,0,1)","v":0}]
[{"$f":"IF(Sheet1!C1370>Sheet1!C1369,0,1)","v":0}]
[{"$f":"IF(Sheet1!C1371>Sheet1!C1370,0,1)","v":0}]
[{"$f":"IF(Sheet1!C1372>Sheet1!C1371,0,1)","v":0}]
[{"$f":"IF(Sheet1!C1373>Sheet1!C1372,0,1)","v":0}]
[{"$f":"IF(Sheet1!C1374>Sheet1!C1373,0,1)","v":0}]
[{"$f":"IF(Sheet1!C1375>Sheet1!C1374,0,1)","v":0}]
[{"$f":"IF(Sheet1!C1376>Sheet1!C1375,0,1)","v":0}]
[{"$f":"IF(Sheet1!C1377>Sheet1!C1376,0,1)","v":0}]
[{"$f":"IF(Sheet1!C1378>Sheet1!C1377,0,1)","v":0}]
[{"$f":"IF(Sheet1!C1379>Sheet1!C1378,0,1)","v":0}]
[{"$f":"IF(Sheet1!C1380>Sheet1!C1379,0,1)","v":0}]
[{"$f":"IF(Sheet1!C1381>Sheet1!C1380,0,1)","v":0}]
[{"$f":"IF(Sheet1!C1382>Sheet1!C1381,0,1)","v":0}]
[{"$f":"IF(Sheet1!C1383>Sheet1!C1382,0,1)","v":0}]
[{"$f":"IF(Sheet1!C1384>Sheet1!C1383,0,1)","v":0}]
[{"$f":"IF(Sheet1!C1385>Sheet1!C1384,0,1)","v":0}]
[{"$f":"IF(Sheet1!C1386>Sheet1!C1385,0,1)","v":0}]
[{"$f":"IF(Sheet1!C1387>Sheet1!C1386,0,1)","v":0}]
[{"$f":"IF(Sheet1!C1388>Sheet1!C1387,0,1)","v":0}]
[{"$f":"IF(Sheet1!C1389>Sheet1!C1388,0,1)","v":0}]
[{"$f":"IF(Sheet1!C1390>Sheet1!C1389,0,1)","v":0}]
[{"$f":"IF(Sheet1!C1391>Sheet1!C1390,0,1)","v":0}]
[{"$f":"IF(Sheet1!C1392>Sheet1!C1391,0,1)","v":0}]
[{"$f":"IF(Sheet1!C1393>Sheet1!C1392,0,1)","v":0}]
[{"$f":"IF(Sheet1!C1394>Sheet1!C1393,0,1)","v":0}]
[{"$f":"IF(Sheet1!C1395>Sheet1!C1394,0,1)","v":0}]
[{"$f":"IF(Sheet1!C1396>Sheet1!C1395,0,1)","v":0}]
[{"$f":"IF(Sheet1!C1397>Sheet1!C1396,0,1)","v":0}]
[{"$f":"IF(Sheet1!C1398>Sheet1!C1397,0,1)","v":0}]
[{"$f":"IF(Sheet1!C1399>Sheet1!C1398,0,1)","v":0}]
[{"$f":"IF(Sheet1!C1400>Sheet1!C1399,0,1)","v":0}]
[{"$f":"IF(Sheet1!C1401>Sheet1!C1400,0,1)","v":0}]
[{"$f":"IF(Sheet1!C1402>Sheet1!C1401,0,1)","v":0}]
[{"$f":"IF(Sheet1!C1403>Sheet1!C1402,0,1)","v":0}]
[{"$f":"IF(Sheet1!C1404>Sheet1!C1403,0,1)","v":0}]
[{"$f":"IF(Sheet1!C1405>Sheet1!C1404,0,1)","v":0}]
[{"$f":"IF(Sheet1!C1406>Sheet1!C1405,0,1)","v":0}]
[{"$f":"IF(Sheet1!C1407>Sheet1!C1406,0,1)","v":0}]
[{"$f":"IF(Sheet1!C1408>Sheet1!C1407,0,1)","v":0}]
[{"$f":"IF(Sheet1!C1409>Sheet1!C1408,0,1)","v":0}]
[{"$f":"IF(Sheet1!C1410>Sheet1!C1409,0,1)","v":0}]
[{"$f":"IF(Sheet1!C1411>Sheet1!C1410,0,1)","v":0}]
[{"$f":"IF(Sheet1!C1412>Sheet1!C1411,0,1)","v":0}]
[{"$f":"IF(Sheet1!C1413>Sheet1!C1412,0,1)","v":0}]
[{"$f":"IF(Sheet1!C1414>Sheet1!C1413,0,1)","v":0}]
[{"$f":"IF(Sheet1!C1415>Sheet1!C1414,0,1)","v":0}]
[{"$f":"IF(Sheet1!C1416>Sheet1!C1415,0,1)","v":0}]
[{"$f":"IF(Sheet1!C1417>Sheet1!C1416,0,1)","v":0}]
[{"$f":"IF(Sheet1!C1418>Sheet1!C1417,0,1)","v":0}]
[{"$f":"IF(Sheet1!C1419>Sheet1!C1418,0,1)","v":0}]
[{"$f":"IF(Sheet1!C1420>Sheet1!C1419,0,1)","v":0}]
[{"$f":"IF(Sheet1!C1421>Sheet1!C1420,0,1)","v":0}]
[{"$f":"IF(Sheet1!C1422>Sheet1!C1421,0,1)","v":0}]
[{"$f":"IF(Sheet1!C1423>Sheet1!C1422,0,1)","v":0}]
[{"$f":"IF(Sheet1!C1424>Sheet1!C1423,0,1)","v":0}]
[{"$f":"IF(Sheet1!C1425>Sheet1!C1424,0,1)","v":0}]
[{"$f":"IF(Sheet1!C1426>Sheet1!C1425,0,1)","v":0}]
[{"$f":"IF(Sheet1!C1427>Sheet1!C1426,0,1)","v":0}]
[{"$f":"IF(Sheet1!C1428>Sheet1!C1427,0,1)","v":0}]
[{"$f":"IF(Sheet1!C1429>Sheet1!C1428,0,1)","v":0}]
[{"$f":"IF(Sheet1!C1430>Sheet1!C1429,0,1)","v":0}]
[{"$f":"IF(Sheet1!C1431>Sheet1!C1430,0,1)","v":0}]
[{"$f":"IF(Sheet1!C1432>Sheet1!C1431,0,1)","v":0}]
[{"$f":"IF(Sheet1!C1433>Sheet1!C1432,0,1)","v":0}]
[{"$f":"IF(Sheet1!C1434>Sheet1!C1433,0,1)","v":0}]
[{"$f":"IF(Sheet1!C1435>Sheet1!C1434,0,1)","v":0}]
[{"$f":"IF(Sheet1!C1436>Sheet1!C1435,0,1)","v":0}]
[{"$f":"IF(Sheet1!C1437>Sheet1!C1436,0,1)","v":0}]
[{"$f":"IF(Sheet1!C1438>Sheet1!C1437,0,1)","v":0}]
[{"$f":"IF(Sheet1!C1439>Sheet1!C1438,0,1)","v":0}]
[{"$f":"IF(Sheet1!C1440>Sheet1!C1439,0,1)","v":0}]
[{"$f":"IF(Sheet1!C1441>Sheet1!C1440,0,1)","v":0}]
[{"$f":"IF(Sheet1!C1442>Sheet1!C1441,0,1)","v":0}]
[{"$f":"IF(Sheet1!C1443>Sheet1!C1442,0,1)","v":0}]
[{"$f":"IF(Sheet1!C1444>Sheet1!C1443,0,1)","v":0}]
[{"$f":"IF(Sheet1!C1445>Sheet1!C1444,0,1)","v":0}]
[{"$f":"IF(Sheet1!C1446>Sheet1!C1445,0,1)","v":0}]
[{"$f":"IF(Sheet1!C1447>Sheet1!C1446,0,1)","v":0}]
[{"$f":"IF(Sheet1!C1448>Sheet1!C1447,0,1)","v":0}]
[{"$f":"IF(Sheet1!C1449>Sheet1!C1448,0,1)","v":0}]
[{"$f":"IF(Sheet1!C1450>Sheet1!C1449,0,1)","v":0}]
[{"$f":"IF(Sheet1!C1451>Sheet1!C1450,0,1)","v":0}]
[{"$f":"IF(Sheet1!C1452>Sheet1!C1451,0,1)","v":0}]
[{"$f":"IF(Sheet1!C1453>Sheet1!C1452,0,1)","v":0}]
[{"$f":"IF(Sheet1!C1454>Sheet1!C1453,0,1)","v":0}]
[{"$f":"IF(Sheet1!C1455>Sheet1!C1454,0,1)","v":0}]
[{"$f":"IF(Sheet1!C1456>Sheet1!C1455,0,1)","v":0}]
[{"$f":"IF(Sheet1!C1457>Sheet1!C1456,0,1)","v":0}]
[{"$f":"IF(Sheet1!C1458>Sheet1!C1457,0,1)","v":0}]
[{"$f":"IF(Sheet1!C1459>Sheet1!C1458,0,1)","v":0}]
[{"$f":"IF(Sheet1!C1460>Sheet1!C1459,0,1)","v":0}]
[{"$f":"IF(Sheet1!C1461>Sheet1!C1460,0,1)","v":0}]
[{"$f":"IF(Sheet1!C1462>Sheet1!C1461,0,1)","v":0}]
[{"$f":"IF(Sheet1!C1463>Sheet1!C1462,0,1)","v":0}]
[{"$f":"IF(Sheet1!C1464>Sheet1!C1463,0,1)","v":0}]
[{"$f":"IF(Sheet1!C1465>Sheet1!C1464,0,1)","v":0}]
[{"$f":"IF(Sheet1!C1466>Sheet1!C1465,0,1)","v":0}]
[{"$f":"IF(Sheet1!C1467>Sheet1!C1466,0,1)","v":0}]
[{"$f":"IF(Sheet1!C1468>Sheet1!C1467,0,1)","v":0}]
[{"$f":"IF(Sheet1!C1469>Sheet1!C1468,0,1)","v":0}]
[{"$f":"IF(Sheet1!C1470>Sheet1!C1469,0,1)","v":0}]
[{"$f":"IF(Sheet1!C1471>Sheet1!C1470,0,1)","v":0}]
[{"$f":"IF(Sheet1!C1472>Sheet1!C1471,0,1)","v":0}]
[{"$f":"IF(Sheet1!C1473>Sheet1!C1472,0,1)","v":0}]
[{"$f":"IF(Sheet1!C1474>Sheet1!C1473,0,1)","v":0}]
[{"$f":"IF(Sheet1!C1475>Sheet1!C1474,0,1)","v":0}]
[{"$f":"IF(Sheet1!C1476>Sheet1!C1475,0,1)","v":0}]
[{"$f":"IF(Sheet1!C1477>Sheet1!C1476,0,1)","v":0}]
[{"$f":"IF(Sheet1!C1478>Sheet1!C1477,0,1)","v":0}]
[{"$f":"IF(Sheet1!C1479>Sheet1!C1478,0,1)","v":0}]
[{"$f":"IF(Sheet1!C1480>Sheet1!C1479,0,1)","v":0}]
[{"$f":"IF(Sheet1!C1481>Sheet1!C1480,0,1)","v":0}]
[{"$f":"IF(Sheet1!C1482>Sheet1!C1481,0,1)","v":0}]
[{"$f":"IF(Sheet1!C1483>Sheet1!C1482,0,1)","v":0}]
[{"$f":"IF(Sheet1!C1484>Sheet1!C1483,0,1)","v":0}]
[{"$f":"IF(Sheet1!C1485>Sheet1!C1484,0,1)","v":0}]
[{"$f":"IF(Sheet1!C1486>Sheet1!C1485,0,1)","v":0}]
[{"$f":"IF(Sheet1!C1487>Sheet1!C1486,0,1)","v":0}]
[{"$f":"IF(Sheet1!C1488>Sheet1!C1487,0,1)","v":0}]
[{"$f":"IF(Sheet1!C1489>Sheet1!C1488,0,1)","v":0}]
[{"$f":"IF(Sheet1!C1490>Sheet1!C1489,0,1)","v":0}]
[{"$f":"IF(Sheet1!C1491>Sheet1!C1490,0,1)","v":0}]
[{"$f":"IF(Sheet1!C1492>Sheet1!C1491,0,1)","v":0}]
[{"$f":"IF(Sheet1!C1493>Sheet1!C1492,0,1)","v":0}]
[{"$f":"IF(Sheet1!C1494>Sheet1!C1493,0,1)","v":0}]
[{"$f":"IF(Sheet1!C1495>Sheet1!C1494,0,1)","v":0}]
[{"$f":"IF(Sheet1!C1496>Sheet1!C1495,0,1)","v":0}]
[{"$f":"IF(Sheet1!C1497>Sheet1!C1496,0,1)","v":0}]
[{"$f":"IF(Sheet1!C1498>Sheet1!C1497,0,1)","v":0}]
[{"$f":"IF(Sheet1!C1499>Sheet1!C1498,0,1)","v":0}]
[{"$f":"IF(Sheet1!C1500>Sheet1!C1499,0,1)","v":0}]
[{"$f":"IF(Sheet1!C1501>Sheet1!C1500,0,1)","v":0}]
[{"$f":"IF(Sheet1!C1502>Sheet1!C1501,0,1)","v":0}]
[{"$f":"IF(Sheet1!C1503>Sheet1!C1502,0,1)","v":0}]
[{"$f":"IF(Sheet1!C1504>Sheet1!C1503,0,1)","v":0}]
[{"$f":"IF(Sheet1!C1505>Sheet1!C1504,0,1)","v":0}]
[{"$f":"IF(Sheet1!C1506>Sheet1!C1505,0,1)","v":0}]
[{"$f":"IF(Sheet1!C1507>Sheet1!C1506,0,1)","v":0}]
[{"$f":"IF(Sheet1!C1508>Sheet1!C1507,0,1)","v":0}]
[{"$f":"IF(Sheet1!C1509>Sheet1!C1508,0,1)","v":0}]
[{"$f":"IF(Sheet1!C1510>Sheet1!C1509,0,1)","v":0}]
[{"$f":"IF(Sheet1!C1511>Sheet1!C1510,0,1)","v":0}]
[{"$f":"IF(Sheet1!C1512>Sheet1!C1511,0,1)","v":0}]
[{"$f":"IF(Sheet1!C1513>Sheet1!C1512,0,1)","v":0}]
[{"$f":"IF(Sheet1!C1514>Sheet1!C1513,0,1)","v":0}]
[{"$f":"IF(Sheet1!C1515>Sheet1!C1514,0,1)","v":0}]
[{"$f":"IF(Sheet1!C1516>Sheet1!C1515,0,1)","v":0}]
[{"$f":"IF(Sheet1!C1517>Sheet1!C1516,0,1)","v":0}]
[{"$f":"IF(Sheet1!C1518>Sheet1!C1517,0,1)","v":0}]
[{"$f":"IF(Sheet1!C1519>Sheet1!C1518,0,1)","v":0}]
[{"$f":"IF(Sheet1!C1520>Sheet1!C1519,0,1)","v":0}]
[{"$f":"IF(Sheet1!C1521>Sheet1!C1520,0,1)","v":0}]
[{"$f":"IF(Sheet1!C1522>Sheet1!C1521,0,1)","v":0}]
[{"$f":"IF(Sheet1!C1523>Sheet1!C1522,0,1)","v":0}]
[{"$f":"IF(Sheet1!C1524>Sheet1!C1523,0,1)","v":0}]
[{"$f":"IF(Sheet1!C1525>Sheet1!C1524,0,1)","v":0}]
[{"$f":"IF(Sheet1!C1526>Sheet1!C1525,0,1)","v":0}]
[{"$f":"IF(Sheet1!C1527>Sheet1!C1526,0,1)","v":0}]
[{"$f":"IF(Sheet1!C1528>Sheet1!C1527,0,1)","v":0}]
[{"$f":"IF(Sheet1!C1529>Sheet1!C1528,0,1)","v":0}]
[{"$f":"IF(Sheet1!C1530>Sheet1!C1529,0,1)","v":0}]
[{"$f":"IF(Sheet1!C1531>Sheet1!C1530,0,1)","v":0}]
[{"$f":"IF(Sheet1!C1532>Sheet1!C1531,0,1)","v":0}]
[{"$f":"IF(Sheet1!C1533>Sheet1!C1532,0,1)","v":0}]
[{"$f":"IF(Sheet1!C1534>Sheet1!C1533,0,1)","v":0}]
[{"$f":"IF(Sheet1!C1535>Sheet1!C1534,0,1)","v":0}]
[{"$f":"IF(Sheet1!C1536>Sheet1!C1535,0,1)","v":0}]
[{"$f":"IF(Sheet1!C1537>Sheet1!C1536,0,1)","v":0}]
[{"$f":"IF(Sheet1!C1538>Sheet1!C1537,0,1)","v":0}]
[{"$f":"IF(Sheet1!C1539>Sheet1!C1538,0,1)","v":0}]
[{"$f":"IF(Sheet1!C1540>Sheet1!C1539,0,1)","v":0}]
[{"$f":"IF(Sheet1!C1541>Sheet1!C1540,0,1)","v":0}]
[{"$f":"IF(Sheet1!C1542>Sheet1!C1541,0,1)","v":0}]
[{"$f":"IF(Sheet1!C1543>Sheet1!C1542,0,1)","v":0}]
[{"$f":"IF(Sheet1!C1544>Sheet1!C1543,0,1)","v":0}]
[{"$f":"IF(Sheet1!C1545>Sheet1!C1544,0,1)","v":0}]
[{"$f":"IF(Sheet1!C1546>Sheet1!C1545,0,1)","v":0}]
[{"$f":"IF(Sheet1!C1547>Sheet1!C1546,0,1)","v":0}]
[{"$f":"IF(Sheet1!C1548>Sheet1!C1547,0,1)","v":0}]
[{"$f":"IF(Sheet1!C1549>Sheet1!C1548,0,1)","v":0}]
[{"$f":"IF(Sheet1!C1550>Sheet1!C1549,0,1)","v":0}]
[{"$f":"IF(Sheet1!C1551>Sheet1!C1550,0,1)","v":0}]
[{"$f":"IF(Sheet1!C1552>Sheet1!C1551,0,1)","v":0}]
[{"$f":"IF(Sheet1!C1553>Sheet1!C1552,0,1)","v":0}]
[{"$f":"IF(Sheet1!C1554>Sheet1!C1553,0,1)","v":0}]
[{"$f":"IF(Sheet1!C1555>Sheet1!C1554,0,1)","v":0}]
[{"$f":"IF(Sheet1!C1556>Sheet1!C1555,0,1)","v":0}]
[{"$f":"IF(Sheet1!C1557>Sheet1!C1556,0,1)","v":0}]
[{"$f":"IF(Sheet1!C1558>Sheet1!C1557,0,1)","v":0}]
[{"$f":"IF(Sheet1!C1559>Sheet1!C1558,0,1)","v":0}]
[{"$f":"IF(Sheet1!C1560>Sheet1!C1559,0,1)","v":0}]
[{"$f":"IF(Sheet1!C1561>Sheet1!C1560,0,1)","v":0}]
[{"$f":"IF(Sheet1!C1562>Sheet1!C1561,0,1)","v":0}]
[{"$f":"IF(Sheet1!C1563>Sheet1!C1562,0,1)","v":0}]
[{"$f":"IF(Sheet1!C1564>Sheet1!C1563,0,1)","v":0}]
[{"$f":"IF(Sheet1!C1565>Sheet1!C1564,0,1)","v":0}]
[{"$f":"IF(Sheet1!C1566>Sheet1!C1565,0,1)","v":0}]
[{"$f":"IF(Sheet1!C1567>Sheet1!C1566,0,1)","v":0}]
[{"$f":"IF(Sheet1!C1568>Sheet1!C1567,0,1)","v":0}]
[{"$f":"IF(Sheet1!C1569>Sheet1!C1568,0,1)","v":0}]
[{"$f":"IF(Sheet1!C1570>Sheet1!C1569,0,1)","v":0}]
[{"$f":"IF(Sheet1!C1571>Sheet1!C1570,0,1)","v":0}]
[{"$f":"IF(Sheet1!C1572>Sheet1!C1571,0,1)","v":0}]
[{"$f":"IF(Sheet1!C1573>Sheet1!C1572,0,1)","v":0}]
[{"$f":"IF(Sheet1!C1574>Sheet1!C1573,0,1)","v":0}]
[{"$f":"IF(Sheet1!C1575>Sheet1!C1574,0,1)","v":0}]
[{"$f":"IF(Sheet1!C1576>Sheet1!C1575,0,1)","v":0}]
[{"$f":"IF(Sheet1!C1577>Sheet1!C1576,0,1)","v":0}]
[{"$f":"IF(Sheet1!C1578>Sheet1!C1577,0,1)","v":0}]
[{"$f":"IF(Sheet1!C1579>Sheet1!C1578,0,1)","v":0}]
[{"$f":"IF(Sheet1!C1580>Sheet1!C1579,0,1)","v":0}]
[{"$f":"IF(Sheet1!C1581>Sheet1!C1580,0,1)","v":0}]
[{"$f":"IF(Sheet1!C1582>Sheet1!C1581,0,1)","v":0}]
[{"$f":"IF(Sheet1!C1583>Sheet1!C1582,0,1)","v":0}]
[{"$f":"IF(Sheet1!C1584>Sheet1!C1583,0,1)","v":0}]
[{"$f":"IF(Sheet1!C1585>Sheet1!C1584,0,1)","v":0}]
[{"$f":"IF(Sheet1!C1586>Sheet1!C1585,0,1)","v":0}]
[{"$f":"IF(Sheet1!C1587>Sheet1!C1586,0,1)","v":0}]
[{"$f":"IF(Sheet1!C1588>Sheet1!C1587,0,1)","v":0}]
[{"$f":"IF(Sheet1!C1589>Sheet1!C1588,0,1)","v":0}]
[{"$f":"IF(Sheet1!C1590>Sheet1!C1589,0,1)","v":0}]
[{"$f":"IF(Sheet1!C1591>Sheet1!C1590,0,1)","v":0}]
[{"$f":"IF(Sheet1!C1592>Sheet1!C1591,0,1)","v":0}]
[{"$f":"IF(Sheet1!C1593>Sheet1!C1592,0,1)","v":0}]
[{"$f":"IF(Sheet1!C1594>Sheet1!C1593,0,1)","v":0}]
[{"$f":"IF(Sheet1!C1595>Sheet1!C1594,0,1)","v":0}]
[{"$f":"IF(Sheet1!C1596>Sheet1!C1595,0,1)","v":0}]
[{"$f":"IF(Sheet1!C1597>Sheet1!C1596,0,1)","v":0}]
[{"$f":"IF(Sheet1!C1598>Sheet1!C1597,0,1)","v":0}]
[{"$f":"IF(Sheet1!C1599>Sheet1!C1598,0,1)","v":0}]
[{"$f":"IF(Sheet1!C1600>Sheet1!C1599,0,1)","v":0}]
[{"$f":"IF(Sheet1!C1601>Sheet1!C1600,0,1)","v":0}]
[{"$f":"IF(Sheet1!C1602>Sheet1!C1601,0,1)","v":0}]
[{"$f":"IF(Sheet1!C1603>Sheet1!C1602,0,1)","v":0}]
[{"$f":"IF(Sheet1!C1604>Sheet1!C1603,0,1)","v":0}]
[{"$f":"IF(Sheet1!C1605>Sheet1!C1604,0,1)","v":0}]
[{"$f":"IF(Sheet1!C1606>Sheet1!C1605,0,1)","v":0}]
[{"$f":"IF(Sheet1!C1607>Sheet1!C1606,0,1)","v":0}]
[{"$f":"IF(Sheet1!C1608>Sheet1!C1607,0,1)","v":0}]
[{"$f":"IF(Sheet1!C1609>Sheet1!C1608,0,1)","v":0}]
[{"$f":"IF(Sheet1!C1610>Sheet1!C1609,0,1)","v":0}]
[{"$f":"IF(Sheet1!C1611>Sheet1!C1610,0,1)","v":0}]
[{"$f":"IF(Sheet1!C1612>Sheet1!C1611,0,1)","v":0}]
[{"$f":"IF(Sheet1!C1613>Sheet1!C1612,0,1)","v":0}]
[{"$f":"IF(Sheet1!C1614>Sheet1!C1613,0,1)","v":0}]
[{"$f":"IF(Sheet1!C1615>Sheet1!C1614,0,1)","v":0}]
[{"$f":"IF(Sheet1!C1616>Sheet1!C1615,0,1)","v":0}]
[{"$f":"IF(Sheet1!C1617>Sheet1!C1616,0,1)","v":0}]
[{"$f":"IF(Sheet1!C1618>Sheet1!C1617,0,1)","v":0}]
[{"$f":"IF(Sheet1!C1619>Sheet1!C1618,0,1)","v":0}]
[{"$f":"IF(Sheet1!C1620>Sheet1!C1619,0,1)","v":0}]
[{"$f":"IF(Sheet1!C1621>Sheet1!C1620,0,1)","v":0}]
[{"$f":"IF(Sheet1!C1622>Sheet1!C1621,0,1)","v":0}]
[{"$f":"IF(Sheet1!C1623>Sheet1!C1622,0,1)","v":0}]
[{"$f":"IF(Sheet1!C1624>Sheet1!C1623,0,1)","v":0}]
[{"$f":"IF(Sheet1!C1625>Sheet1!C1624,0,1)","v":0}]
[{"$f":"IF(Sheet1!C1626>Sheet1!C1625,0,1)","v":0}]
[{"$f":"IF(Sheet1!C1627>Sheet1!C1626,0,1)","v":0}]
[{"$f":"IF(Sheet1!C1628>Sheet1!C1627,0,1)","v":0}]
[{"$f":"IF(Sheet1!C1629>Sheet1!C1628,0,1)","v":0}]
[{"$f":"IF(Sheet1!C1630>Sheet1!C1629,0,1)","v":0}]
[{"$f":"IF(Sheet1!C1631>Sheet1!C1630,0,1)","v":0}]
[{"$f":"IF(Sheet1!C1632>Sheet1!C1631,0,1)","v":0}]
[{"$f":"IF(Sheet1!C1633>Sheet1!C1632,0,1)","v":0}]
[{"$f":"IF(Sheet1!C1634>Sheet1!C1633,0,1)","v":0}]
[{"$f":"IF(Sheet1!C1635>Sheet1!C1634,0,1)","v":0}]
[{"$f":"IF(Sheet1!C1636>Sheet1!C1635,0,1)","v":0}]
[{"$f":"IF(Sheet1!C1637>Sheet1!C1636,0,1)","v":0}]
[{"$f":"IF(Sheet1!C1638>Sheet1!C1637,0,1)","v":0}]
[{"$f":"IF(Sheet1!C1639>Sheet1!C1638,0,1)","v":0}]
[{"$f":"IF(Sheet1!C1640>Sheet1!C1639,0,1)","v":0}]
[{"$f":"IF(Sheet1!C1641>Sheet1!C1640,0,1)","v":0}]
[{"$f":"IF(Sheet1!C1642>Sheet1!C1641,0,1)","v":0}]
[{"$f":"IF(Sheet1!C1643>Sheet1!C1642,0,1)","v":0}]
[{"$f":"IF(Sheet1!C1644>Sheet1!C1643,0,1)","v":0}]
[{"$f":"IF(Sheet1!C1645>Sheet1!C1644,0,1)","v":0}]
[{"$f":"IF(Sheet1!C1646>Sheet1!C1645,0,1)","v":0}]
[{"$f":"IF(Sheet1!C1647>Sheet1!C1646,0,1)","v":0}]
[{"$f":"IF(Sheet1!C1648>Sheet1!C1647,0,1)","v":0}]
[{"$f":"IF(Sheet1!C1649>Sheet1!C1648,0,1)","v":0}]
[{"$f":"IF(Sheet1!C1650>Sheet1!C1649,0,1)","v":0}]
[{"$f":"IF(Sheet1!C1651>Sheet1!C1650,0,1)","v":0}]
[{"$f":"IF(Sheet1!C1652>Sheet1!C1651,0,1)","v":0}]
[{"$f":"IF(Sheet1!C1653>Sheet1!C1652,0,1)","v":0}]
[{"$f":"IF(Sheet1!C1654>Sheet1!C1653,0,1)","v":0}]
[{"$f":"IF(Sheet1!C1655>Sheet1!C1654,0,1)","v":0}]
[{"$f":"IF(Sheet1!C1656>Sheet1!C1655,0,1)","v":0}]
[{"$f":"IF(Sheet1!C1657>Sheet1!C1656,0,1)","v":0}]
[{"$f":"IF(Sheet1!C1658>Sheet1!C1657,0,1)","v":0}]
[{"$f":"IF(Sheet1!C1659>Sheet1!C1658,0,1)","v":0}]
[{"$f":"IF(Sheet1!C1660>Sheet1!C1659,0,1)","v":0}]
[{"$f":"IF(Sheet1!C1661>Sheet1!C1660,0,1)","v":0}]
[{"$f":"IF(Sheet1!C1662>Sheet1!C1661,0,1)","v":0}]
[{"$f":"IF(Sheet1!C1663>Sheet1!C1662,0,1)","v":0}]
[{"$f":"IF(Sheet1!C1664>Sheet1!C1663,0,1)","v":0}]
[{"$f":"IF(Sheet1!C1665>Sheet1!C1664,0,1)","v":0}]
[{"$f":"IF(Sheet1!C1666>Sheet1!C1665,0,1)","v":0}]
[{"$f":"IF(Sheet1!C1667>Sheet1!C1666,0,1)","v":0}]
[{"$f":"IF(Sheet1!C1668>Sheet1!C1667,0,1)","v":0}]
[{"$f":"IF(Sheet1!C1669>Sheet1!C1668,0,1)","v":0}]
[{"$f":"IF(Sheet1!C1670>Sheet1!C1669,0,1)","v":0}]
[{"$f":"IF(Sheet1!C1671>Sheet1!C1670,0,1)","v":0}]
[{"$f":"IF(Sheet1!C1672>Sheet1!C1671,0,1)","v":0}]
[{"$f":"IF(Sheet1!C1673>Sheet1!C1672,0,1)","v":0}]
[{"$f":"IF(Sheet1!C1674>Sheet1!C1673,0,1)","v":0}]
[{"$f":"IF(Sheet1!C1675>Sheet1!C1674,0,1)","v":0}]
[{"$f":"IF(Sheet1!C1676>Sheet1!C1675,0,1)","v":0}]
[{"$f":"IF(Sheet1!C1677>Sheet1!C1676,0,1)","v":0}]
[{"$f":"IF(Sheet1!C1678>Sheet1!C1677,0,1)","v":0}]
[{"$f":"IF(Sheet1!C1679>Sheet1!C1678,0,1)","v":0}]
[{"$f":"IF(Sheet1!C1680>Sheet1!C1679,0,1)","v":0}]
[{"$f":"IF(Sheet1!C1681>Sheet1!C1680,0,1)","v":0}]
[{"$f":"IF(Sheet1!C1682>Sheet1!C1681,0,1)","v":0}]
[{"$f":"IF(Sheet1!C1683>Sheet1!C1682,0,1)","v":0}]
[{"$f":"IF(Sheet1!C1684>Sheet1!C1683,0,1)","v":0}]
[{"$f":"IF(Sheet1!C1685>Sheet1!C1684,0,1)","v":0}]
[{"$f":"IF(Sheet1!C1686>Sheet1!C1685,0,1)","v":0}]
[{"$f":"IF(Sheet1!C1687>Sheet1!C1686,0,1)","v":0}]
[{"$f":"IF(Sheet1!C1688>Sheet1!C1687,0,1)","v":0}]
[{"$f":"IF(Sheet1!C1689>Sheet1!C1688,0,1)","v":0}]
[{"$f":"IF(Sheet1!C1690>Sheet1!C1689,0,1)","v":0}]
[{"$f":"IF(Sheet1!C1691>Sheet1!C1690,0,1)","v":0}]
[{"$f":"IF(Sheet1!C1692>Sheet1!C1691,0,1)","v":0}]
[{"$f":"IF(Sheet1!C1693>Sheet1!C1692,0,1)","v":0}]
[{"$f":"IF(Sheet1!C1694>Sheet1!C1693,0,1)","v":0}]
[{"$f":"IF(Sheet1!C1695>Sheet1!C1694,0,1)","v":0}]
[{"$f":"IF(Sheet1!C1696>Sheet1!C1695,0,1)","v":0}]
[{"$f":"IF(Sheet1!C1697>Sheet1!C1696,0,1)","v":0}]
[{"$f":"IF(Sheet1!C1698>Sheet1!C1697,0,1)","v":0}]
[{"$f":"IF(Sheet1!C1699>Sheet1!C1698,0,1)","v":0}]
[{"$f":"IF(Sheet1!C1700>Sheet1!C1699,0,1)","v":0}]
[{"$f":"IF(Sheet1!C1701>Sheet1!C1700,0,1)","v":0}]
[{"$f":"IF(Sheet1!C1702>Sheet1!C1701,0,1)","v":0}]
[{"$f":"IF(Sheet1!C1703>Sheet1!C1702,0,1)","v":0}]
[{"$f":"IF(Sheet1!C1704>Sheet1!C1703,0,1)","v":0}]
[{"$f":"IF(Sheet1!C1705>Sheet1!C1704,0,1)","v":0}]
[{"$f":"IF(Sheet1!C1706>Sheet1!C1705,0,1)","v":0}]
[{"$f":"IF(Sheet1!C1707>Sheet1!C1706,0,1)","v":0}]
[{"$f":"IF(Sheet1!C1708>Sheet1!C1707,0,1)","v":0}]
[{"$f":"IF(Sheet1!C1709>Sheet1!C1708,0,1)","v":0}]
[{"$f":"IF(Sheet1!C1710>Sheet1!C1709,0,1)","v":0}]
[{"$f":"IF(Sheet1!C1711>Sheet1!C1710,0,1)","v":0}]
[{"$f":"IF(Sheet1!C1712>Sheet1!C1711,0,1)","v":0}]
[{"$f":"IF(Sheet1!C1713>Sheet1!C1712,0,1)","v":0}]
[{"$f":"IF(Sheet1!C1714>Sheet1!C1713,0,1)","v":0}]
[{"$f":"IF(Sheet1!C1715>Sheet1!C1714,0,1)","v":0}]
[{"$f":"IF(Sheet1!C1716>Sheet1!C1715,0,1)","v":0}]
[{"$f":"IF(Sheet1!C1717>Sheet1!C1716,0,1)","v":0}]
[{"$f":"IF(Sheet1!C1718>Sheet1!C1717,0,1)","v":0}]
[{"$f":"IF(Sheet1!C1719>Sheet1!C1718,0,1)","v":0}]
[{"$f":"IF(Sheet1!C1720>Sheet1!C1719,0,1)","v":0}]
[{"$f":"IF(Sheet1!C1721>Sheet1!C1720,0,1)","v":0}]
[{"$f":"IF(Sheet1!C1722>Sheet1!C1721,0,1)","v":0}]
[{"$f":"IF(Sheet1!C1723>Sheet1!C1722,0,1)","v":0}]
[{"$f":"IF(Sheet1!C1724>Sheet1!C1723,0,1)","v":0}]
[{"$f":"IF(Sheet1!C1725>Sheet1!C1724,0,1)","v":0}]
[{"$f":"IF(Sheet1!C1726>Sheet1!C1725,0,1)","v":0}]
[{"$f":"IF(Sheet1!C1727>Sheet1!C1726,0,1)","v":0}]
[{"$f":"IF(Sheet1!C1728>Sheet1!C1727,0,1)","v":0}]
[{"$f":"IF(Sheet1!C1729>Sheet1!C1728,0,1)","v":0}]
[{"$f":"IF(Sheet1!C1730>Sheet1!C1729,0,1)","v":0}]
[{"$f":"IF(Sheet1!C1731>Sheet1!C1730,0,1)","v":0}]
[{"$f":"IF(Sheet1!C1732>Sheet1!C1731,0,1)","v":0}]
[{"$f":"IF(Sheet1!C1733>Sheet1!C1732,0,1)","v":0}]
[{"$f":"IF(Sheet1!C1734>Sheet1!C1733,0,1)","v":0}]
[{"$f":"IF(Sheet1!C1735>Sheet1!C1734,0,1)","v":0}]
[{"$f":"IF(Sheet1!C1736>Sheet1!C1735,0,1)","v":0}]
[{"$f":"IF(Sheet1!C1737>Sheet1!C1736,0,1)","v":0}]
[{"$f":"IF(Sheet1!C1738>Sheet1!C1737,0,1)","v":0}]
[{"$f":"IF(Sheet1!C1739>Sheet1!C1738,0,1)","v":0}]
[{"$f":"IF(Sheet1!C1740>Sheet1!C1739,0,1)","v":0}]
[{"$f":"IF(Sheet1!C1741>Sheet1!C1740,0,1)","v":0}]
[{"$f":"IF(Sheet1!C1742>Sheet1!C1741,0,1)","v":0}]
[{"$f":"IF(Sheet1!C1743>Sheet1!C1742,0,1)","v":0}]
[{"$f":"IF(Sheet1!C1744>Sheet1!C1743,0,1)","v":0}]
[{"$f":"IF(Sheet1!C1745>Sheet1!C1744,0,1)","v":0}]
[{"$f":"IF(Sheet1!C1746>Sheet1!C1745,0,1)","v":0}]
[{"$f":"IF(Sheet1!C1747>Sheet1!C1746,0,1)","v":0}]
[{"$f":"IF(Sheet1!C1748>Sheet1!C1747,0,1)","v":0}]
[{"$f":"IF(Sheet1!C1749>Sheet1!C1748,0,1)","v":0}]
[{"$f":"IF(Sheet1!C1750>Sheet1!C1749,0,1)","v":0}]
[{"$f":"IF(Sheet1!C1751>Sheet1!C1750,0,1)","v":0}]
[{"$f":"IF(Sheet1!C1752>Sheet1!C1751,0,1)","v":0}]
[{"$f":"IF(Sheet1!C1753>Sheet1!C1752,0,1)","v":0}]
[{"$f":"IF(Sheet1!C1754>Sheet1!C1753,0,1)","v":0}]
[{"$f":"IF(Sheet1!C1755>Sheet1!C1754,0,1)","v":0}]
[{"$f":"IF(Sheet1!C1756>Sheet1!C1755,0,1)","v":0}]
[{"$f":"IF(Sheet1!C1757>Sheet1!C1756,0,1)","v":0}]
[{"$f":"IF(Sheet1!C1758>Sheet1!C1757,0,1)","v":0}]
[{"$f":"IF(Sheet1!C1759>Sheet1!C1758,0,1)","v":0}]
[{"$f":"IF(Sheet1!C1760>Sheet1!C1759,0,1)","v":0}]
[{"$f":"IF(Sheet1!C1761>Sheet1!C1760,0,1)","v":0}]
[{"$f":"IF(Sheet1!C1762>Sheet1!C1761,0,1)","v":0}]
[{"$f":"IF(Sheet1!C1763>Sheet1!C1762,0,1)","v":0}]
[{"$f":"IF(Sheet1!C1764>Sheet1!C1763,0,1)","v":0}]
[{"$f":"IF(Sheet1!C1765>Sheet1!C1764,0,1)","v":0}]
[{"$f":"IF(Sheet1!C1766>Sheet1!C1765,0,1)","v":0}]
[{"$f":"IF(Sheet1!C1767>Sheet1!C1766,0,1)","v":0}]
[{"$f":"IF(Sheet1!C1768>Sheet1!C1767,0,1)","v":0}]
[{"$f":"IF(Sheet1!C1769>Sheet1!C1768,0,1)","v":0}]
[{"$f":"IF(Sheet1!C1770>Sheet1!C1769,0,1)","v":0}]
[{"$f":"IF(Sheet1!C1771>Sheet1!C1770,0,1)","v":0}]
[{"$f":"IF(Sheet1!C1772>Sheet1!C1771,0,1)","v":0}]
[{"$f":"IF(Sheet1!C1773>Sheet1!C1772,0,1)","v":0}]
[{"$f":"IF(Sheet1!C1774>Sheet1!C1773,0,1)","v":0}]
[{"$f":"IF(Sheet1!C1775>Sheet1!C1774,0,1)","v":0}]
[{"$f":"IF(Sheet1!C1776>Sheet1!C1775,0,1)","v":0}]
[{"$f":"IF(Sheet1!C1777>Sheet1!C1776,0,1)","v":0}]
[{"$f":"IF(Sheet1!C1778>Sheet1!C1777,0,1)","v":0}]
[{"$f":"IF(Sheet1!C1779>Sheet1!C1778,0,1)","v":0}]
[{"$f":"IF(Sheet1!C1780>Sheet1!C1779,0,1)","v":0}]
[{"$f":"IF(Sheet1!C1781>Sheet1!C1780,0,1)","v":0}]
[{"$f":"IF(Sheet1!C1782>Sheet1!C1781,0,1)","v":0}]
[{"$f":"IF(Sheet1!C1783>Sheet1!C1782,0,1)","v":0}]
[{"$f":"IF(Sheet1!C1784>Sheet1!C1783,0,1)","v":0}]
[{"$f":"IF(Sheet1!C1785>Sheet1!C1784,0,1)","v":0}]
[{"$f":"IF(Sheet1!C1786>Sheet1!C1785,0,1)","v":0}]
[{"$f":"IF(Sheet1!C1787>Sheet1!C1786,0,1)","v":0}]
[{"$f":"IF(Sheet1!C1788>Sheet1!C1787,0,1)","v":0}]
[{"$f":"IF(Sheet1!C1789>Sheet1!C1788,0,1)","v":0}]
[{"$f":"IF(Sheet1!C1790>Sheet1!C1789,0,1)","v":0}]
[{"$f":"IF(Sheet1!C1791>Sheet1!C1790,0,1)","v":0}]
[{"$f":"IF(Sheet1!C1792>Sheet1!C1791,0,1)","v":0}]
[{"$f":"IF(Sheet1!C1793>Sheet1!C1792,0,1)","v":0}]
[{"$f":"IF(Sheet1!C1794>Sheet1!C1793,0,1)","v":0}]
[{"$f":"IF(Sheet1!C1795>Sheet1!C1794,0,1)","v":0}]
[{"$f":"IF(Sheet1!C1796>Sheet1!C1795,0,1)","v":0}]
[{"$f":"IF(Sheet1!C1797>Sheet1!C1796,0,1)","v":0}]
[{"$f":"IF(Sheet1!C1798>Sheet1!C1797,0,1)","v":0}]
[{"$f":"IF(Sheet1!C1799>Sheet1!C1798,0,1)","v":0}]
[{"$f":"IF(Sheet1!C1800>Sheet1!C1799,0,1)","v":0}]
[{"$f":"IF(Sheet1!C1801>Sheet1!C1800,0,1)","v":0}]
[{"$f":"IF(Sheet1!C1802>Sheet1!C1801,0,1)","v":0}]
[{"$f":"IF(Sheet1!C1803>Sheet1!C1802,0,1)","v":0}]
[{"$f":"IF(Sheet1!C1804>Sheet1!C1803,0,1)","v":0}]
[{"$f":"IF(Sheet1!C1805>Sheet1!C1804,0,1)","v":0}]
[{"$f":"IF(Sheet1!C1806>Sheet1!C1805,0,1)","v":0}]
[{"$f":"IF(Sheet1!C1807>Sheet1!C1806,0,1)","v":0}]
[{"$f":"IF(Sheet1!C1808>Sheet1!C1807,0,1)","v":0}]
[{"$f":"IF(Sheet1!C1809>Sheet1!C1808,0,1)","v":0}]
[{"$f":"IF(Sheet1!C1810>Sheet1!C1809,0,1)","v":0}]
[{"$f":"IF(Sheet1!C1811>Sheet1!C1810,0,1)","v":0}]
[{"$f":"IF(Sheet1!C1812>Sheet1!C1811,0,1)","v":0}]
[{"$f":"IF(Sheet1!C1813>Sheet1!C1812,0,1)","v":0}]
[{"$f":"IF(Sheet1!C1814>Sheet1!C1813,0,1)","v":0}]
[{"$f":"IF(Sheet1!C1815>Sheet1!C1814,0,1)","v":0}]
[{"$f":"IF(Sheet1!C1816>Sheet1!C1815,0,1)","v":0}]
[{"$f":"IF(Sheet1!C1817>Sheet1!C1816,0,1)","v":0}]
[{"$f":"IF(Sheet1!C1818>Sheet1!C1817,0,1)","v":0}]
[{"$f":"IF(Sheet1!C1819>Sheet1!C1818,0,1)","v":0}]
[{"$f":"IF(Sheet1!C1820>Sheet1!C1819,0,1)","v":0}]
[{"$f":"IF(Sheet1!C1821>Sheet1!C1820,0,1)","v":0}]
[{"$f":"IF(Sheet1!C1822>Sheet1!C1821,0,1)","v":0}]
[{"$f":"IF(Sheet1!C1823>Sheet1!C1822,0,1)","v":0}]
[{"$f":"IF(Sheet1!C1824>Sheet1!C1823,0,1)","v":0}]
[{"$f":"IF(Sheet1!C1825>Sheet1!C1824,0,1)","v":0}]
[{"$f":"IF(Sheet1!C1826>Sheet1!C1825,0,1)","v":0}]
[{"$f":"IF(Sheet1!C1827>Sheet1!C1826,0,1)","v":0}]
[{"$f":"IF(Sheet1!C1828>Sheet1!C1827,0,1)","v":0}]
[{"$f":"IF(Sheet1!C1829>Sheet1!C1828,0,1)","v":0}]
[{"$f":"IF(Sheet1!C1830>Sheet1!C1829,0,1)","v":0}]
[{"$f":"IF(Sheet1!C1831>Sheet1!C1830,0,1)","v":0}]
[{"$f":"IF(Sheet1!C1832>Sheet1!C1831,0,1)","v":0}]
[{"$f":"IF(Sheet1!C1833>Sheet1!C1832,0,1)","v":0}]
[{"$f":"IF(Sheet1!C1834>Sheet1!C1833,0,1)","v":0}]
[{"$f":"IF(Sheet1!C1835>Sheet1!C1834,0,1)","v":0}]
[{"$f":"IF(Sheet1!C1836>Sheet1!C1835,0,1)","v":0}]
[{"$f":"IF(Sheet1!C1837>Sheet1!C1836,0,1)","v":0}]
[{"$f":"IF(Sheet1!C1838>Sheet1!C1837,0,1)","v":0}]
[{"$f":"IF(Sheet1!C1839>Sheet1!C1838,0,1)","v":0}]
[{"$f":"IF(Sheet1!C1840>Sheet1!C1839,0,1)","v":0}]
[{"$f":"IF(Sheet1!C1841>Sheet1!C1840,0,1)","v":0}]
[{"$f":"IF(Sheet1!C1842>Sheet1!C1841,0,1)","v":0}]
[{"$f":"IF(Sheet1!C1843>Sheet1!C1842,0,1)","v":0}]
[{"$f":"IF(Sheet1!C1844>Sheet1!C1843,0,1)","v":0}]
[{"$f":"IF(Sheet1!C1845>Sheet1!C1844,0,1)","v":0}]
[{"$f":"IF(Sheet1!C1846>Sheet1!C1845,0,1)","v":0}]
[{"$f":"IF(Sheet1!C1847>Sheet1!C1846,0,1)","v":0}]
[{"$f":"IF(Sheet1!C1848>Sheet1!C1847,0,1)","v":0}]
[{"$f":"IF(Sheet1!C1849>Sheet1!C1848,0,1)","v":0}]
[{"$f":"IF(Sheet1!C1850>Sheet1!C1849,0,1)","v":0}]
[{"$f":"IF(Sheet1!C1851>Sheet1!C1850,0,1)","v":0}]
[{"$f":"IF(Sheet1!C1852>Sheet1!C1851,0,1)","v":0}]
[{"$f":"IF(Sheet1!C1853>Sheet1!C1852,0,1)","v":0}]
[{"$f":"IF(Sheet1!C1854>Sheet1!C1853,0,1)","v":0}]
[{"$f":"IF(Sheet1!C1855>Sheet1!C1854,0,1)","v":0}]
[{"$f":"IF(Sheet1!C1856>Sheet1!C1855,0,1)","v":0}]
[{"$f":"IF(Sheet1!C1857>Sheet1!C1856,0,1)","v":0}]
[{"$f":"IF(Sheet1!C1858>Sheet1!C1857,0,1)","v":0}]
[{"$f":"IF(Sheet1!C1859>Sheet1!C1858,0,1)","v":0}]
[{"$f":"IF(Sheet1!C1860>Sheet1!C1859,0,1)","v":0}]
[{"$f":"IF(Sheet1!C1861>Sheet1!C1860,0,1)","v":0}]
[{"$f":"IF(Sheet1!C1862>Sheet1!C1861,0,1)","v":0}]
[{"$f":"IF(Sheet1!C1863>Sheet1!C1862,0,1)","v":0}]
[{"$f":"IF(Sheet1!C1864>Sheet1!C1863,0,1)","v":0}]
[{"$f":"IF(Sheet1!C1865>Sheet1!C1864,0,1)","v":0}]
[{"$f":"IF(Sheet1!C1866>Sheet1!C1865,0,1)","v":0}]
[{"$f":"IF(Sheet1!C1867>Sheet1!C1866,0,1)","v":0}]
[{"$f":"IF(Sheet1!C1868>Sheet1!C1867,0,1)","v":0}]
[{"$f":"IF(Sheet1!C1869>Sheet1!C1868,0,1)","v":0}]
[{"$f":"IF(Sheet1!C1870>Sheet1!C1869,0,1)","v":0}]
[{"$f":"IF(Sheet1!C1871>Sheet1!C1870,0,1)","v":0}]
[{"$f":"IF(Sheet1!C1872>Sheet1!C1871,0,1)","v":0}]
[{"$f":"IF(Sheet1!C1873>Sheet1!C1872,0,1)","v":0}]
[{"$f":"IF(Sheet1!C1874>Sheet1!C1873,0,1)","v":0}]
[{"$f":"IF(Sheet1!C1875>Sheet1!C1874,0,1)","v":0}]
[{"$f":"IF(Sheet1!C1876>Sheet1!C1875,0,1)","v":0}]
[{"$f":"IF(Sheet1!C1877>Sheet1!C1876,0,1)","v":0}]
[{"$f":"IF(Sheet1!C1878>Sheet1!C1877,0,1)","v":0}]
[{"$f":"IF(Sheet1!C1879>Sheet1!C1878,0,1)","v":0}]
[{"$f":"IF(Sheet1!C1880>Sheet1!C1879,0,1)","v":0}]
[{"$f":"IF(Sheet1!C1881>Sheet1!C1880,0,1)","v":0}]
[{"$f":"IF(Sheet1!C1882>Sheet1!C1881,0,1)","v":0}]
[{"$f":"IF(Sheet1!C1883>Sheet1!C1882,0,1)","v":0}]
[{"$f":"IF(Sheet1!C1884>Sheet1!C1883,0,1)","v":0}]
[{"$f":"IF(Sheet1!C1885>Sheet1!C1884,0,1)","v":0}]
[{"$f":"IF(Sheet1!C1886>Sheet1!C1885,0,1)","v":0}]
[{"$f":"IF(Sheet1!C1887>Sheet1!C1886,0,1)","v":0}]
[{"$f":"IF(Sheet1!C1888>Sheet1!C1887,0,1)","v":0}]
[{"$f":"IF(Sheet1!C1889>Sheet1!C1888,0,1)","v":0}]
[{"$f":"IF(Sheet1!C1890>Sheet1!C1889,0,1)","v":0}]
[{"$f":"IF(Sheet1!C1891>Sheet1!C1890,0,1)","v":0}]
[{"$f":"IF(Sheet1!C1892>Sheet1!C1891,0,1)","v":0}]
[{"$f":"IF(Sheet1!C1893>Sheet1!C1892,0,1)","v":0}]
[{"$f":"IF(Sheet1!C1894>Sheet1!C1893,0,1)","v":0}]
[{"$f":"IF(Sheet1!C1895>Sheet1!C1894,0,1)","v":0}]
[{"$f":"IF(Sheet1!C1896>Sheet1!C1895,0,1)","v":0}]
[{"$f":"IF(Sheet1!C1897>Sheet1!C1896,0,1)","v":0}]
[{"$f":"IF(Sheet1!C1898>Sheet1!C1897,0,1)","v":0}]
[{"$f":"IF(Sheet1!C1899>Sheet1!C1898,0,1)","v":0}]
[{"$f":"IF(Sheet1!C1900>Sheet1!C1899,0,1)","v":0}]
[{"$f":"IF(Sheet1!C1901>Sheet1!C1900,0,1)","v":0}]
[{"$f":"IF(Sheet1!C1902>Sheet1!C1901,0,1)","v":0}]
[{"$f":"IF(Sheet1!C1903>Sheet1!C1902,0,1)","v":0}]
[{"$f":"IF(Sheet1!C1904>Sheet1!C1903,0,1)","v":0}]
[{"$f":"IF(Sheet1!C1905>Sheet1!C1904,0,1)","v":0}]
[{"$f":"IF(Sheet1!C1906>Sheet1!C1905,0,1)","v":0}]
[{"$f":"IF(Sheet1!C1907>Sheet1!C1906,0,1)","v":0}]
[{"$f":"IF(Sheet1!C1908>Sheet1!C1907,0,1)","v":0}]
[{"$f":"IF(Sheet1!C1909>Sheet1!C1908,0,1)","v":0}]
[{"$f":"IF(Sheet1!C1910>Sheet1!C1909,0,1)","v":0}]
[{"$f":"IF(Sheet1!C1911>Sheet1!C1910,0,1)","v":0}]
[{"$f":"IF(Sheet1!C1912>Sheet1!C1911,0,1)","v":0}]
[{"$f":"IF(Sheet1!C1913>Sheet1!C1912,0,1)","v":0}]
[{"$f":"IF(Sheet1!C1914>Sheet1!C1913,0,1)","v":0}]
[{"$f":"IF(Sheet1!C1915>Sheet1!C1914,0,1)","v":0}]
[{"$f":"IF(Sheet1!C1916>Sheet1!C1915,0,1)","v":0}]
[{"$f":"IF(Sheet1!C1917>Sheet1!C1916,0,1)","v":0}]
[{"$f":"IF(Sheet1!C1918>Sheet1!C1917,0,1)","v":0}]
[{"$f":"IF(Sheet1!C1919>Sheet1!C1918,0,1)","v":0}]
[{"$f":"IF(Sheet1!C1920>Sheet1!C1919,0,1)","v":0}]
[{"$f":"IF(Sheet1!C1921>Sheet1!C1920,0,1)","v":0}]
[{"$f":"IF(Sheet1!C1922>Sheet1!C1921,0,1)","v":0}]
[{"$f":"IF(Sheet1!C1923>Sheet1!C1922,0,1)","v":0}]
[{"$f":"IF(Sheet1!C1924>Sheet1!C1923,0,1)","v":0}]
[{"$f":"IF(Sheet1!C1925>Sheet1!C1924,0,1)","v":0}]
[{"$f":"IF(Sheet1!C1926>Sheet1!C1925,0,1)","v":0}]
[{"$f":"IF(Sheet1!C1927>Sheet1!C1926,0,1)","v":0}]
[{"$f":"IF(Sheet1!C1928>Sheet1!C1927,0,1)","v":0}]
[{"$f":"IF(Sheet1!C1929>Sheet1!C1928,0,1)","v":0}]
[{"$f":"IF(Sheet1!C1930>Sheet1!C1929,0,1)","v":0}]
[{"$f":"IF(Sheet1!C1931>Sheet1!C1930,0,1)","v":0}]
[{"$f":"IF(Sheet1!C1932>Sheet1!C1931,0,1)","v":0}]
[{"$f":"IF(Sheet1!C1933>Sheet1!C1932,0,1)","v":0}]
[{"$f":"IF(Sheet1!C1934>Sheet1!C1933,0,1)","v":0}]
[{"$f":"IF(Sheet1!C1935>Sheet1!C1934,0,1)","v":0}]
[{"$f":"IF(Sheet1!C1936>Sheet1!C1935,0,1)","v":0}]
[{"$f":"IF(Sheet1!C1937>Sheet1!C1936,0,1)","v":0}]
[{"$f":"IF(Sheet1!C1938>Sheet1!C1937,0,1)","v":0}]
[{"$f":"IF(Sheet1!C1939>Sheet1!C1938,0,1)","v":0}]
[{"$f":"IF(Sheet1!C1940>Sheet1!C1939,0,1)","v":0}]
[{"$f":"IF(Sheet1!C1941>Sheet1!C1940,0,1)","v":0}]
[{"$f":"IF(Sheet1!C1942>Sheet1!C1941,0,1)","v":0}]
[{"$f":"IF(Sheet1!C1943>Sheet1!C1942,0,1)","v":0}]
[{"$f":"IF(Sheet1!C1944>Sheet1!C1943,0,1)","v":0}]
[{"$f":"IF(Sheet1!C1945>Sheet1!C1944,0,1)","v":0}]
[{"$f":"IF(Sheet1!C1946>Sheet1!C1945,0,1)","v":0}]
[{"$f":"IF(Sheet1!C1947>Sheet1!C1946,0,1)","v":0}]
[{"$f":"IF(Sheet1!C1948>Sheet1!C1947,0,1)","v":0}]
[{"$f":"IF(Sheet1!C1949>Sheet1!C1948,0,1)","v":0}]
[{"$f":"IF(Sheet1!C1950>Sheet1!C1949,0,1)","v":0}]
[{"$f":"IF(Sheet1!C1951>Sheet1!C1950,0,1)","v":0}]
[{"$f":"IF(Sheet1!C1952>Sheet1!C1951,0,1)","v":0}]
[{"$f":"IF(Sheet1!C1953>Sheet1!C1952,0,1)","v":0}]
[{"$f":"IF(Sheet1!C1954>Sheet1!C1953,0,1)","v":0}]
[{"$f":"IF(Sheet1!C1955>Sheet1!C1954,0,1)","v":0}]
[{"$f":"IF(Sheet1!C1956>Sheet1!C1955,0,1)","v":0}]
[{"$f":"IF(Sheet1!C1957>Sheet1!C1956,0,1)","v":0}]
[{"$f":"IF(Sheet1!C1958>Sheet1!C1957,0,1)","v":0}]
[{"$f":"IF(Sheet1!C1959>Sheet1!C1958,0,1)","v":0}]
[{"$f":"IF(Sheet1!C1960>Sheet1!C1959,0,1)","v":0}]
[{"$f":"IF(Sheet1!C1961>Sheet1!C1960,0,1)","v":0}]
[{"$f":"IF(Sheet1!C1962>Sheet1!C1961,0,1)","v":0}]
[{"$f":"IF(Sheet1!C1963>Sheet1!C1962,0,1)","v":0}]
[{"$f":"IF(Sheet1!C1964>Sheet1!C1963,0,1)","v":0}]
[{"$f":"IF(Sheet1!C1965>Sheet1!C1964,0,1)","v":0}]
[{"$f":"IF(Sheet1!C1966>Sheet1!C1965,0,1)","v":0}]
[{"$f":"IF(Sheet1!C1967>Sheet1!C1966,0,1)","v":0}]
[{"$f":"IF(Sheet1!C1968>Sheet1!C1967,0,1)","v":0}]
[{"$f":"IF(Sheet1!C1969>Sheet1!C1968,0,1)","v":0}]
[{"$f":"IF(Sheet1!C1970>Sheet1!C1969,0,1)","v":0}]
[{"$f":"IF(Sheet1!C1971>Sheet1!C1970,0,1)","v":0}]
[{"$f":"IF(Sheet1!C1972>Sheet1!C1971,0,1)","v":0}]
[{"$f":"IF(Sheet1!C1973>Sheet1!C1972,0,1)","v":0}]
[{"$f":"IF(Sheet1!C1974>Sheet1!C1973,0,1)","v":0}]
[{"$f":"IF(Sheet1!C1975>Sheet1!C1974,0,1)","v":0}]
[{"$f":"IF(Sheet1!C1976>Sheet1!C1975,0,1)","v":0}]
[{"$f":"IF(Sheet1!C1977>Sheet1!C1976,0,1)","v":0}]
[{"$f":"IF(Sheet1!C1978>Sheet1!C1977,0,1)","v":0}]
[{"$f":"IF(Sheet1!C1979>Sheet1!C1978,0,1)","v":0}]
[{"$f":"IF(Sheet1!C1980>Sheet1!C1979,0,1)","v":0}]
[{"$f":"IF(Sheet1!C1981>Sheet1!C1980,0,1)","v":0}]
[{"$f":"IF(Sheet1!C1982>Sheet1!C1981,0,1)","v":0}]
[{"$f":"IF(Sheet1!C1983>Sheet1!C1982,0,1)","v":0}]
[{"$f":"IF(Sheet1!C1984>Sheet1!C1983,0,1)","v":0}]
[{"$f":"IF(Sheet1!C1985>Sheet1!C1984,0,1)","v":0}]
[{"$f":"IF(Sheet1!C1986>Sheet1!C1985,0,1)","v":0}]
[{"$f":"IF(Sheet1!C1987>Sheet1!C1986,0,1)","v":0}]
[{"$f":"IF(Sheet1!C1988>Sheet1!C1987,0,1)","v":0}]
[{"$f":"IF(Sheet1!C1989>Sheet1!C1988,0,1)","v":0}]
[{"$f":"IF(Sheet1!C1990>Sheet1!C1989,0,1)","v":0}]
[{"$f":"IF(Sheet1!C1991>Sheet1!C1990,0,1)","v":0}]
[{"$f":"IF(Sheet1!C1992>Sheet1!C1991,0,1)","v":0}]
[{"$f":"IF(Sheet1!C1993>Sheet1!C1992,0,1)","v":0}]
[{"$f":"IF(Sheet1!C1994>Sheet1!C1993,0,1)","v":0}]
[{"$f":"IF(Sheet1!C1995>Sheet1!C1994,0,1)","v":0}]
[{"$f":"IF(Sheet1!C1996>Sheet1!C1995,0,1)","v":0}]
[{"$f":"IF(Sheet1!C1997>Sheet1!C1996,0,1)","v":0}]
[{"$f":"IF(Sheet1!C1998>Sheet1!C1997,0,1)","v":0}]
[{"$f":"IF(Sheet1!C1999>Sheet1!C1998,0,1)","v":0}]
[{"$f":"IF(Sheet1!C2000>Sheet1!C1999,0,1)","v":0}]
[{"$f":"IF(Sheet1!C2001>Sheet1!C2000,0,1)","v":0}]
[{"$f":"IF(Sheet1!C2002>Sheet1!C2001,0,1)","v":0}]
[{"$f":"IF(Sheet1!C2003>Sheet1!C2002,0,1)","v":0}]
[{"$f":"IF(Sheet1!C2004>Sheet1!C2003,0,1)","v":0}]
[{"$f":"IF(Sheet1!C2005>Sheet1!C2004,0,1)","v":0}]
[{"$f":"IF(Sheet1!C2006>Sheet1!C2005,0,1)","v":0}]
[{"$f":"IF(Sheet1!C2007>Sheet1!C2006,0,1)","v":0}]
[{"$f":"IF(Sheet1!C2008>Sheet1!C2007,0,1)","v":0}]
[{"$f":"IF(Sheet1!C2009>Sheet1!C2008,0,1)","v":0}]
[{"$f":"IF(Sheet1!C2010>Sheet1!C2009,0,1)","v":0}]
[{"$f":"IF(Sheet1!C2011>Sheet1!C2010,0,1)","v":0}]
[{"$f":"IF(Sheet1!C2012>Sheet1!C2011,0,1)","v":0}]
[{"$f":"IF(Sheet1!C2013>Sheet1!C2012,0,1)","v":0}]
[{"$f":"IF(Sheet1!C2014>Sheet1!C2013,0,1)","v":0}]
[{"$f":"IF(Sheet1!C2015>Sheet1!C2014,0,1)","v":0}]
[{"$f":"IF(Sheet1!C2016>Sheet1!C2015,0,1)","v":0}]
[{"$f":"IF(Sheet1!C2017>Sheet1!C2016,0,1)","v":0}]
[{"$f":"IF(Sheet1!C2018>Sheet1!C2017,0,1)","v":0}]
[{"$f":"IF(Sheet1!C2019>Sheet1!C2018,0,1)","v":0}]
[{"$f":"IF(Sheet1!C2020>Sheet1!C2019,0,1)","v":0}]
[{"$f":"IF(Sheet1!C2021>Sheet1!C2020,0,1)","v":0}]
[{"$f":"IF(Sheet1!C2022>Sheet1!C2021,0,1)","v":0}]
[{"$f":"IF(Sheet1!C2023>Sheet1!C2022,0,1)","v":0}]
[{"$f":"IF(Sheet1!C2024>Sheet1!C2023,0,1)","v":0}]
[{"$f":"IF(Sheet1!C2025>Sheet1!C2024,0,1)","v":0}]
[{"$f":"IF(Sheet1!C2026>Sheet1!C2025,0,1)","v":0}]
[{"$f":"IF(Sheet1!C2027>Sheet1!C2026,0,1)","v":0}]
[{"$f":"IF(Sheet1!C2028>Sheet1!C2027,0,1)","v":0}]
[{"$f":"IF(Sheet1!C2029>Sheet1!C2028,0,1)","v":0}]
[{"$f":"IF(Sheet1!C2030>Sheet1!C2029,0,1)","v":0}]
[{"$f":"IF(Sheet1!C2031>Sheet1!C2030,0,1)","v":0}]
[{"$f":"IF(Sheet1!C2032>Sheet1!C2031,0,1)","v":0}]
[{"$f":"IF(Sheet1!C2033>Sheet1!C2032,0,1)","v":0}]
[{"$f":"IF(Sheet1!C2034>Sheet1!C2033,0,1)","v":0}]
[{"$f":"IF(Sheet1!C2035>Sheet1!C2034,0,1)","v":0}]
[{"$f":"IF(Sheet1!C2036>Sheet1!C2035,0,1)","v":0}]
[{"$f":"IF(Sheet1!C2037>Sheet1!C2036,0,1)","v":0}]
[{"$f":"IF(Sheet1!C2038>Sheet1!C2037,0,1)","v":0}]
[{"$f":"IF(Sheet1!C2039>Sheet1!C2038,0,1)","v":0}]
[{"$f":"IF(Sheet1!C2040>Sheet1!C2039,0,1)","v":0}]
[{"$f":"IF(Sheet1!C2041>Sheet1!C2040,0,1)","v":0}]
[{"$f":"IF(Sheet1!C2042>Sheet1!C2041,0,1)","v":0}]
[{"$f":"IF(Sheet1!C2043>Sheet1!C2042,0,1)","v":0}]
[{"$f":"IF(Sheet1!C2044>Sheet1!C2043,0,1)","v":0}]
[{"$f":"IF(Sheet1!C2045>Sheet1!C2044,0,1)","v":0}]
[{"$f":"IF(Sheet1!C2046>Sheet1!C2045,0,1)","v":0}]
[{"$f":"IF(Sheet1!C2047>Sheet1!C2046,0,1)","v":0}]
[{"$f":"IF(Sheet1!C2048>Sheet1!C2047,0,1)","v":0}]
[{"$f":"IF(Sheet1!C2049>Sheet1!C2048,0,1)","v":0}]
[{"$f":"IF(Sheet1!C2050>Sheet1!C2049,0,1)","v":0}]
[{"$f":"IF(Sheet1!C2051>Sheet1!C2050,0,1)","v":0}]
[{"$f":"IF(Sheet1!C2052>Sheet1!C2051,0,1)","v":0}]
[{"$f":"IF(Sheet1!C2053>Sheet1!C2052,0,1)","v":0}]
[{"$f":"IF(Sheet1!C2054>Sheet1!C2053,0,1)","v":0}]
[{"$f":"IF(Sheet1!C2055>Sheet1!C2054,0,1)","v":0}]
[{"$f":"IF(Sheet1!C2056>Sheet1!C2055,0,1)","v":0}]
[{"$f":"IF(Sheet1!C2057>Sheet1!C2056,0,1)","v":0}]
[{"$f":"IF(Sheet1!C2058>Sheet1!C2057,0,1)","v":0}]
[{"$f":"IF(Sheet1!C2059>Sheet1!C2058,0,1)","v":0}]
[{"$f":"IF(Sheet1!C2060>Sheet1!C2059,0,1)","v":0}]
[{"$f":"IF(Sheet1!C2061>Sheet1!C2060,0,1)","v":0}]
[{"$f":"IF(Sheet1!C2062>Sheet1!C2061,0,1)","v":0}]
[{"$f":"IF(Sheet1!C2063>Sheet1!C2062,0,1)","v":0}]
[{"$f":"IF(Sheet1!C2064>Sheet1!C2063,0,1)","v":0}]
[{"$f":"IF(Sheet1!C2065>Sheet1!C2064,0,1)","v":0}]
[{"$f":"IF(Sheet1!C2066>Sheet1!C2065,0,1)","v":0}]
[{"$f":"IF(Sheet1!C2067>Sheet1!C2066,0,1)","v":0}]
[{"$f":"IF(Sheet1!C2068>Sheet1!C2067,0,1)","v":0}]
[{"$f":"IF(Sheet1!C2069>Sheet1!C2068,0,1)","v":0}]
[{"$f":"IF(Sheet1!C2070>Sheet1!C2069,0,1)","v":0}]
[{"$f":"IF(Sheet1!C2071>Sheet1!C2070,0,1)","v":0}]
[{"$f":"IF(Sheet1!C2072>Sheet1!C2071,0,1)","v":0}]
[{"$f":"IF(Sheet1!C2073>Sheet1!C2072,0,1)","v":0}]
[{"$f":"IF(Sheet1!C2074>Sheet1!C2073,0,1)","v":0}]
[{"$f":"IF(Sheet1!C2075>Sheet1!C2074,0,1)","v":0}]
[{"$f":"IF(Sheet1!C2076>Sheet1!C2075,0,1)","v":0}]
[{"$f":"IF(Sheet1!C2077>Sheet1!C2076,0,1)","v":0}]
[{"$f":"IF(Sheet1!C2078>Sheet1!C2077,0,1)","v":0}]
[{"$f":"IF(Sheet1!C2079>Sheet1!C2078,0,1)","v":0}]
[{"$f":"IF(Sheet1!C2080>Sheet1!C2079,0,1)","v":0}]
[{"$f":"IF(Sheet1!C2081>Sheet1!C2080,0,1)","v":0}]
[{"$f":"IF(Sheet1!C2082>Sheet1!C2081,0,1)","v":0}]
[{"$f":"IF(Sheet1!C2083>Sheet1!C2082,0,1)","v":0}]
[{"$f":"IF(Sheet1!C2084>Sheet1!C2083,0,1)","v":0}]
[{"$f":"IF(Sheet1!C2085>Sheet1!C2084,0,1)","v":0}]
[{"$f":"IF(Sheet1!C2086>Sheet1!C2085,0,1)","v":0}]
[{"$f":"IF(Sheet1!C2087>Sheet1!C2086,0,1)","v":0}]
[{"$f":"IF(Sheet1!C2088>Sheet1!C2087,0,1)","v":0}]
[{"$f":"IF(Sheet1!C2089>Sheet1!C2088,0,1)","v":0}]
[{"$f":"IF(Sheet1!C2090>Sheet1!C2089,0,1)","v":0}]
[{"$f":"IF(Sheet1!C2091>Sheet1!C2090,0,1)","v":0}]
[{"$f":"IF(Sheet1!C2092>Sheet1!C2091,0,1)","v":0}]
[{"$f":"IF(Sheet1!C2093>Sheet1!C2092,0,1)","v":0}]
[{"$f":"IF(Sheet1!C2094>Sheet1!C2093,0,1)","v":0}]
[{"$f":"IF(Sheet1!C2095>Sheet1!C2094,0,1)","v":0}]
[{"$f":"IF(Sheet1!C2096>Sheet1!C2095,0,1)","v":0}]
[{"$f":"IF(Sheet1!C2097>Sheet1!C2096,0,1)","v":0}]
[{"$f":"IF(Sheet1!C2098>Sheet1!C2097,0,1)","v":0}]
[{"$f":"IF(Sheet1!C2099>Sheet1!C2098,0,1)","v":0}]
[{"$f":"IF(Sheet1!C2100>Sheet1!C2099,0,1)","v":0}]
[{"$f":"IF(Sheet1!C2101>Sheet1!C2100,0,1)","v":0}]
[{"$f":"IF(Sheet1!C2102>Sheet1!C2101,0,1)","v":0}]
[{"$f":"IF(Sheet1!C2103>Sheet1!C2102,0,1)","v":0}]
[{"$f":"IF(Sheet1!C2104>Sheet1!C2103,0,1)","v":0}]
[{"$f":"IF(Sheet1!C2105>Sheet1!C2104,0,1)","v":0}]
[{"$f":"IF(Sheet1!C2106>Sheet1!C2105,0,1)","v":0}]
[{"$f":"IF(Sheet1!C2107>Sheet1!C2106,0,1)","v":0}]
[{"$f":"IF(Sheet1!C2108>Sheet1!C2107,0,1)","v":0}]
[{"$f":"IF(Sheet1!C2109>Sheet1!C2108,0,1)","v":0}]
[{"$f":"IF(Sheet1!C2110>Sheet1!C2109,0,1)","v":0}]
[{"$f":"IF(Sheet1!C2111>Sheet1!C2110,0,1)","v":0}]
[{"$f":"IF(Sheet1!C2112>Sheet1!C2111,0,1)","v":0}]
[{"$f":"IF(Sheet1!C2113>Sheet1!C2112,0,1)","v":0}]
[{"$f":"IF(Sheet1!C2114>Sheet1!C2113,0,1)","v":0}]
[{"$f":"IF(Sheet1!C2115>Sheet1!C2114,0,1)","v":0}]
[{"$f":"IF(Sheet1!C2116>Sheet1!C2115,0,1)","v":0}]
[{"$f":"IF(Sheet1!C2117>Sheet1!C2116,0,1)","v":0}]
[{"$f":"IF(Sheet1!C2118>Sheet1!C2117,0,1)","v":0}]
[{"$f":"IF(Sheet1!C2119>Sheet1!C2118,0,1)","v":0}]
[{"$f":"IF(Sheet1!C2120>Sheet1!C2119,0,1)","v":0}]
[{"$f":"IF(Sheet1!C2121>Sheet1!C2120,0,1)","v":0}]
[{"$f":"IF(Sheet1!C2122>Sheet1!C2121,0,1)","v":0}]
[{"$f":"IF(Sheet1!C2123>Sheet1!C2122,0,1)","v":0}]
[{"$f":"IF(Sheet1!C2124>Sheet1!C2123,0,1)","v":0}]
[{"$f":"IF(Sheet1!C2125>Sheet1!C2124,0,1)","v":0}]
[{"$f":"IF(Sheet1!C2126>Sheet1!C2125,0,1)","v":0}]
[{"$f":"IF(Sheet1!C2127>Sheet1!C2126,0,1)","v":0}]
[{"$f":"IF(Sheet1!C2128>Sheet1!C2127,0,1)","v":0}]
[{"$f":"IF(Sheet1!C2129>Sheet1!C2128,0,1)","v":0}]
[{"$f":"IF(Sheet1!C2130>Sheet1!C2129,0,1)","v":0}]
[{"$f":"IF(Sheet1!C2131>Sheet1!C2130,0,1)","v":0}]
[{"$f":"IF(Sheet1!C2132>Sheet1!C2131,0,1)","v":0}]
[{"$f":"IF(Sheet1!C2133>Sheet1!C2132,0,1)","v":0}]
[{"$f":"IF(Sheet1!C2134>Sheet1!C2133,0,1)","v":0}]
[{"$f":"IF(Sheet1!C2135>Sheet1!C2134,0,1)","v":0}]
[{"$f":"IF(Sheet1!C2136>Sheet1!C2135,0,1)","v":0}]
[{"$f":"IF(Sheet1!C2137>Sheet1!C2136,0,1)","v":0}]
[{"$f":"IF(Sheet1!C2138>Sheet1!C2137,0,1)","v":0}]
[{"$f":"IF(Sheet1!C2139>Sheet1!C2138,0,1)","v":0}]
[{"$f":"IF(Sheet1!C2140>Sheet1!C2139,0,1)","v":0}]
[{"$f":"IF(Sheet1!C2141>Sheet1!C2140,0,1)","v":0}]
[{"$f":"IF(Sheet1!C2142>Sheet1!C2141,0,1)","v":0}]
[{"$f":"IF(Sheet1!C2143>Sheet1!C2142,0,1)","v":0}]
[{"$f":"IF(Sheet1!C2144>Sheet1!C2143,0,1)","v":0}]
[{"$f":"IF(Sheet1!C2145>Sheet1!C2144,0,1)","v":0}]
[{"$f":"IF(Sheet1!C2146>Sheet1!C2145,0,1)","v":0}]
[{"$f":"IF(Sheet1!C2147>Sheet1!C2146,0,1)","v":0}]
[{"$f":"IF(Sheet1!C2148>Sheet1!C2147,0,1)","v":0}]
[{"$f":"IF(Sheet1!C2149>Sheet1!C2148,0,1)","v":0}]
[{"$f":"IF(Sheet1!C2150>Sheet1!C2149,0,1)","v":0}]
[{"$f":"IF(Sheet1!C2151>Sheet1!C2150,0,1)","v":0}]
[{"$f":"IF(Sheet1!C2152>Sheet1!C2151,0,1)","v":0}]
[{"$f":"IF(Sheet1!C2153>Sheet1!C2152,0,1)","v":0}]
[{"$f":"IF(Sheet1!C2154>Sheet1!C2153,0,1)","v":0}]
[{"$f":"IF(Sheet1!C2155>Sheet1!C2154,0,1)","v":0}]
[{"$f":"IF(Sheet1!C2156>Sheet1!C2155,0,1)","v":0}]
[{"$f":"IF(Sheet1!C2157>Sheet1!C2156,0,1)","v":0}]
[{"$f":"IF(Sheet1!C2158>Sheet1!C2157,0,1)","v":0}]
[{"$f":"IF(Sheet1!C2159>Sheet1!C2158,0,1)","v":0}]
[{"$f":"IF(Sheet1!C2160>Sheet1!C2159,0,1)","v":0}]
[{"$f":"IF(Sheet1!C2161>Sheet1!C2160,0,1)","v":0}]
[{"$f":"IF(Sheet1!C2162>Sheet1!C2161,0,1)","v":0}]
[{"$f":"IF(Sheet1!C2163>Sheet1!C2162,0,1)","v":0}]
[{"$f":"IF(Sheet1!C2164>Sheet1!C2163,0,1)","v":0}]
[{"$f":"IF(Sheet1!C2165>Sheet1!C2164,0,1)","v":0}]
[{"$f":"IF(Sheet1!C2166>Sheet1!C2165,0,1)","v":0}]
[{"$f":"IF(Sheet1!C2167>Sheet1!C2166,0,1)","v":0}]
[{"$f":"IF(Sheet1!C2168>Sheet1!C2167,0,1)","v":0}]
[{"$f":"IF(Sheet1!C2169>Sheet1!C2168,0,1)","v":0}]
[{"$f":"IF(Sheet1!C2170>Sheet1!C2169,0,1)","v":0}]
[{"$f":"IF(Sheet1!C2171>Sheet1!C2170,0,1)","v":0}]
[{"$f":"IF(Sheet1!C2172>Sheet1!C2171,0,1)","v":0}]
[{"$f":"IF(Sheet1!C2173>Sheet1!C2172,0,1)","v":0}]
[{"$f":"IF(Sheet1!C2174>Sheet1!C2173,0,1)","v":0}]
[{"$f":"IF(Sheet1!C2175>Sheet1!C2174,0,1)","v":0}]
[{"$f":"IF(Sheet1!C2176>Sheet1!C2175,0,1)","v":0}]
[{"$f":"IF(Sheet1!C2177>Sheet1!C2176,0,1)","v":0}]
[{"$f":"IF(Sheet1!C2178>Sheet1!C2177,0,1)","v":0}]
[{"$f":"IF(Sheet1!C2179>Sheet1!C2178,0,1)","v":0}]
[{"$f":"IF(Sheet1!C2180>Sheet1!C2179,0,1)","v":0}]
[{"$f":"IF(Sheet1!C2181>Sheet1!C2180,0,1)","v":0}]
[{"$f":"IF(Sheet1!C2182>Sheet1!C2181,0,1)","v":0}]
[{"$f":"IF(Sheet1!C2183>Sheet1!C2182,0,1)","v":0}]
[{"$f":"IF(Sheet1!C2184>Sheet1!C2183,0,1)","v":0}]
[{"$f":"IF(Sheet1!C2185>Sheet1!C2184,0,1)","v":0}]
[{"$f":"IF(Sheet1!C2186>Sheet1!C2185,0,1)","v":0}]
[{"$f":"IF(Sheet1!C2187>Sheet1!C2186,0,1)","v":0}]
[{"$f":"IF(Sheet1!C2188>Sheet1!C2187,0,1)","v":0}]
[{"$f":"IF(Sheet1!C2189>Sheet1!C2188,0,1)","v":0}]
[{"$f":"IF(Sheet1!C2190>Sheet1!C2189,0,1)","v":0}]
[{"$f":"IF(Sheet1!C2191>Sheet1!C2190,0,1)","v":0}]
[{"$f":"IF(Sheet1!C2192>Sheet1!C2191,0,1)","v":0}]
[{"$f":"IF(Sheet1!C2193>Sheet1!C2192,0,1)","v":0}]
[{"$f":"IF(Sheet1!C2194>Sheet1!C2193,0,1)","v":0}]
[{"$f":"IF(Sheet1!C2195>Sheet1!C2194,0,1)","v":0}]
[{"$f":"IF(Sheet1!C2196>Sheet1!C2195,0,1)","v":0}]
[{"$f":"IF(Sheet1!C2197>Sheet1!C2196,0,1)","v":0}]
[{"$f":"IF(Sheet1!C2198>Sheet1!C2197,0,1)","v":0}]
[{"$f":"IF(Sheet1!C2199>Sheet1!C2198,0,1)","v":0}]
[{"$f":"IF(Sheet1!C2200>Sheet1!C2199,0,1)","v":0}]
[{"$f":"IF(Sheet1!C2201>Sheet1!C2200,0,1)","v":0}]
[{"$f":"IF(Sheet1!C2202>Sheet1!C2201,0,1)","v":0}]
[{"$f":"IF(Sheet1!C2203>Sheet1!C2202,0,1)","v":0}]
[{"$f":"IF(Sheet1!C2204>Sheet1!C2203,0,1)","v":0}]
[{"$f":"IF(Sheet1!C2205>Sheet1!C2204,0,1)","v":0}]
[{"$f":"IF(Sheet1!C2206>Sheet1!C2205,0,1)","v":0}]
[{"$f":"IF(Sheet1!C2207>Sheet1!C2206,0,1)","v":0}]
[{"$f":"IF(Sheet1!C2208>Sheet1!C2207,0,1)","v":0}]
[{"$f":"IF(Sheet1!C2209>Sheet1!C2208,0,1)","v":0}]
[{"$f":"IF(Sheet1!C2210>Sheet1!C2209,0,1)","v":0}]
[{"$f":"IF(Sheet1!C2211>Sheet1!C2210,0,1)","v":0}]
[{"$f":"IF(Sheet1!C2212>Sheet1!C2211,0,1)","v":0}]
[{"$f":"IF(Sheet1!C2213>Sheet1!C2212,0,1)","v":0}]
[{"$f":"IF(Sheet1!C2214>Sheet1!C2213,0,1)","v":0}]
[{"$f":"IF(Sheet1!C2215>Sheet1!C2214,0,1)","v":0}]
[{"$f":"IF(Sheet1!C2216>Sheet1!C2215,0,1)","v":0}]
[{"$f":"IF(Sheet1!C2217>Sheet1!C2216,0,1)","v":0}]
[{"$f":"IF(Sheet1!C2218>Sheet1!C2217,0,1)","v":0}]
[{"$f":"IF(Sheet1!C2219>Sheet1!C2218,0,1)","v":0}]
[{"$f":"IF(Sheet1!C2220>Sheet1!C2219,0,1)","v":0}]
[{"$f":"IF(Sheet1!C2221>Sheet1!C2220,0,1)","v":0}]
[{"$f":"IF(Sheet1!C2222>Sheet1!C2221,0,1)","v":0}]
[{"$f":"IF(Sheet1!C2223>Sheet1!C2222,0,1)","v":0}]
[{"$f":"IF(Sheet1!C2224>Sheet1!C2223,0,1)","v":0}]
[{"$f":"IF(Sheet1!C2225>Sheet1!C2224,0,1)","v":0}]
[{"$f":"IF(Sheet1!C2226>Sheet1!C2225,0,1)","v":0}]
[{"$f":"IF(Sheet1!C2227>Sheet1!C2226,0,1)","v":0}]
[{"$f":"IF(Sheet1!C2228>Sheet1!C2227,0,1)","v":0}]
[{"$f":"IF(Sheet1!C2229>Sheet1!C2228,0,1)","v":0}]
[{"$f":"IF(Sheet1!C2230>Sheet1!C2229,0,1)","v":0}]
[{"$f":"IF(Sheet1!C2231>Sheet1!C2230,0,1)","v":0}]
[{"$f":"IF(Sheet1!C2232>Sheet1!C2231,0,1)","v":0}]
[{"$f":"IF(Sheet1!C2233>Sheet1!C2232,0,1)","v":0}]
[{"$f":"IF(Sheet1!C2234>Sheet1!C2233,0,1)","v":0}]
[{"$f":"IF(Sheet1!C2235>Sheet1!C2234,0,1)","v":0}]
[{"$f":"IF(Sheet1!C2236>Sheet1!C2235,0,1)","v":0}]
[{"$f":"IF(Sheet1!C2237>Sheet1!C2236,0,1)","v":0}]
[{"$f":"IF(Sheet1!C2238>Sheet1!C2237,0,1)","v":0}]
[{"$f":"IF(Sheet1!C2239>Sheet1!C2238,0,1)","v":0}]
[{"$f":"IF(Sheet1!C2240>Sheet1!C2239,0,1)","v":0}]
[{"$f":"IF(Sheet1!C2241>Sheet1!C2240,0,1)","v":0}]
[{"$f":"IF(Sheet1!C2242>Sheet1!C2241,0,1)","v":0}]
[{"$f":"IF(Sheet1!C2243>Sheet1!C2242,0,1)","v":0}]
[{"$f":"IF(Sheet1!C2244>Sheet1!C2243,0,1)","v":0}]
[{"$f":"IF(Sheet1!C2245>Sheet1!C2244,0,1)","v":0}]
[{"$f":"IF(Sheet1!C2246>Sheet1!C2245,0,1)","v":0}]
[{"$f":"IF(Sheet1!C2247>Sheet1!C2246,0,1)","v":0}]
[{"$f":"IF(Sheet1!C2248>Sheet1!C2247,0,1)","v":0}]
[{"$f":"IF(Sheet1!C2249>Sheet1!C2248,0,1)","v":0}]
[{"$f":"IF(Sheet1!C2250>Sheet1!C2249,0,1)","v":0}]
[{"$f":"IF(Sheet1!C2251>Sheet1!C2250,0,1)","v":0}]
[{"$f":"IF(Sheet1!C2252>Sheet1!C2251,0,1)","v":0}]
[{"$f":"IF(Sheet1!C2253>Sheet1!C2252,0,1)","v":0}]
[{"$f":"IF(Sheet1!C2254>Sheet1!C2253,0,1)","v":0}]
[{"$f":"IF(Sheet1!C2255>Sheet1!C2254,0,1)","v":0}]
[{"$f":"IF(Sheet1!C2256>Sheet1!C2255,0,1)","v":0}]
[{"$f":"IF(Sheet1!C2257>Sheet1!C2256,0,1)","v":0}]
[{"$f":"IF(Sheet1!C2258>Sheet1!C2257,0,1)","v":0}]
[{"$f":"IF(Sheet1!C2259>Sheet1!C2258,0,1)","v":0}]
[{"$f":"IF(Sheet1!C2260>Sheet1!C2259,0,1)","v":0}]
[{"$f":"IF(Sheet1!C2261>Sheet1!C2260,0,1)","v":0}]
[{"$f":"IF(Sheet1!C2262>Sheet1!C2261,0,1)","v":0}]
[{"$f":"IF(Sheet1!C2263>Sheet1!C2262,0,1)","v":0}]
[{"$f":"IF(Sheet1!C2264>Sheet1!C2263,0,1)","v":0}]
[{"$f":"IF(Sheet1!C2265>Sheet1!C2264,0,1)","v":0}]
[{"$f":"IF(Sheet1!C2266>Sheet1!C2265,0,1)","v":0}]
[{"$f":"IF(Sheet1!C2267>Sheet1!C2266,0,1)","v":0}]
[{"$f":"IF(Sheet1!C2268>Sheet1!C2267,0,1)","v":0}]
[{"$f":"IF(Sheet1!C2269>Sheet1!C2268,0,1)","v":0}]
[{"$f":"IF(Sheet1!C2270>Sheet1!C2269,0,1)","v":0}]
[{"$f":"IF(Sheet1!C2271>Sheet1!C2270,0,1)","v":0}]
[{"$f":"IF(Sheet1!C2272>Sheet1!C2271,0,1)","v":0}]
[{"$f":"IF(Sheet1!C2273>Sheet1!C2272,0,1)","v":0}]
[{"$f":"IF(Sheet1!C2274>Sheet1!C2273,0,1)","v":0}]
[{"$f":"IF(Sheet1!C2275>Sheet1!C2274,0,1)","v":0}]
[{"$f":"IF(Sheet1!C2276>Sheet1!C2275,0,1)","v":0}]
[{"$f":"IF(Sheet1!C2277>Sheet1!C2276,0,1)","v":0}]
[{"$f":"IF(Sheet1!C2278>Sheet1!C2277,0,1)","v":0}]
[{"$f":"IF(Sheet1!C2279>Sheet1!C2278,0,1)","v":0}]
[{"$f":"IF(Sheet1!C2280>Sheet1!C2279,0,1)","v":0}]
[{"$f":"IF(Sheet1!C2281>Sheet1!C2280,0,1)","v":0}]
[{"$f":"IF(Sheet1!C2282>Sheet1!C2281,0,1)","v":0}]
[{"$f":"IF(Sheet1!C2283>Sheet1!C2282,0,1)","v":0}]
[{"$f":"IF(Sheet1!C2284>Sheet1!C2283,0,1)","v":0}]
[{"$f":"IF(Sheet1!C2285>Sheet1!C2284,0,1)","v":0}]
[{"$f":"IF(Sheet1!C2286>Sheet1!C2285,0,1)","v":0}]
[{"$f":"IF(Sheet1!C2287>Sheet1!C2286,0,1)","v":0}]
[{"$f":"IF(Sheet1!C2288>Sheet1!C2287,0,1)","v":0}]
[{"$f":"IF(Sheet1!C2289>Sheet1!C2288,0,1)","v":0}]
[{"$f":"IF(Sheet1!C2290>Sheet1!C2289,0,1)","v":0}]
[{"$f":"IF(Sheet1!C2291>Sheet1!C2290,0,1)","v":0}]
[{"$f":"IF(Sheet1!C2292>Sheet1!C2291,0,1)","v":0}]
[{"$f":"IF(Sheet1!C2293>Sheet1!C2292,0,1)","v":0}]
[{"$f":"IF(Sheet1!C2294>Sheet1!C2293,0,1)","v":0}]
[{"$f":"IF(Sheet1!C2295>Sheet1!C2294,0,1)","v":0}]
[{"$f":"IF(Sheet1!C2296>Sheet1!C2295,0,1)","v":0}]
[{"$f":"IF(Sheet1!C2297>Sheet1!C2296,0,1)","v":0}]
[{"$f":"IF(Sheet1!C2298>Sheet1!C2297,0,1)","v":0}]
[{"$f":"IF(Sheet1!C2299>Sheet1!C2298,0,1)","v":0}]
[{"$f":"IF(Sheet1!C2300>Sheet1!C2299,0,1)","v":0}]
[{"$f":"IF(Sheet1!C2301>Sheet1!C2300,0,1)","v":0}]
[{"$f":"IF(Sheet1!C2302>Sheet1!C2301,0,1)","v":0}]
[{"$f":"IF(Sheet1!C2303>Sheet1!C2302,0,1)","v":0}]
[{"$f":"IF(Sheet1!C2304>Sheet1!C2303,0,1)","v":0}]
[{"$f":"IF(Sheet1!C2305>Sheet1!C2304,0,1)","v":0}]
[{"$f":"IF(Sheet1!C2306>Sheet1!C2305,0,1)","v":0}]
[{"$f":"IF(Sheet1!C2307>Sheet1!C2306,0,1)","v":0}]
[{"$f":"IF(Sheet1!C2308>Sheet1!C2307,0,1)","v":0}]
[{"$f":"IF(Sheet1!C2309>Sheet1!C2308,0,1)","v":0}]
[{"$f":"IF(Sheet1!C2310>Sheet1!C2309,0,1)","v":0}]
[{"$f":"IF(Sheet1!C2311>Sheet1!C2310,0,1)","v":0}]
[{"$f":"IF(Sheet1!C2312>Sheet1!C2311,0,1)","v":0}]
[{"$f":"IF(Sheet1!C2313>Sheet1!C2312,0,1)","v":0}]
[{"$f":"IF(Sheet1!C2314>Sheet1!C2313,0,1)","v":0}]
[{"$f":"IF(Sheet1!C2315>Sheet1!C2314,0,1)","v":0}]
[{"$f":"IF(Sheet1!C2316>Sheet1!C2315,0,1)","v":0}]
[{"$f":"IF(Sheet1!C2317>Sheet1!C2316,0,1)","v":0}]
[{"$f":"IF(Sheet1!C2318>Sheet1!C2317,0,1)","v":0}]
[{"$f":"IF(Sheet1!C2319>Sheet1!C2318,0,1)","v":0}]
[{"$f":"IF(Sheet1!C2320>Sheet1!C2319,0,1)","v":0}]
[{"$f":"IF(Sheet1!C2321>Sheet1!C2320,0,1)","v":0}]
[{"$f":"IF(Sheet1!C2322>Sheet1!C2321,0,1)","v":0}]
[{"$f":"IF(Sheet1!C2323>Sheet1!C2322,0,1)","v":0}]
[{"$f":"IF(Sheet1!C2324>Sheet1!C2323,0,1)","v":0}]
[{"$f":"IF(Sheet1!C2325>Sheet1!C2324,0,1)","v":0}]
[{"$f":"IF(Sheet1!C2326>Sheet1!C2325,0,1)","v":0}]
[{"$f":"IF(Sheet1!C2327>Sheet1!C2326,0,1)","v":0}]
[{"$f":"IF(Sheet1!C2328>Sheet1!C2327,0,1)","v":0}]
[{"$f":"IF(Sheet1!C2329>Sheet1!C2328,0,1)","v":0}]
[{"$f":"IF(Sheet1!C2330>Sheet1!C2329,0,1)","v":0}]
[{"$f":"IF(Sheet1!C2331>Sheet1!C2330,0,1)","v":0}]
[{"$f":"IF(Sheet1!C2332>Sheet1!C2331,0,1)","v":0}]
[{"$f":"IF(Sheet1!C2333>Sheet1!C2332,0,1)","v":0}]
[{"$f":"IF(Sheet1!C2334>Sheet1!C2333,0,1)","v":0}]
[{"$f":"IF(Sheet1!C2335>Sheet1!C2334,0,1)","v":0}]
[{"$f":"IF(Sheet1!C2336>Sheet1!C2335,0,1)","v":0}]
[{"$f":"IF(Sheet1!C2337>Sheet1!C2336,0,1)","v":0}]
[{"$f":"IF(Sheet1!C2338>Sheet1!C2337,0,1)","v":0}]
[{"$f":"IF(Sheet1!C2339>Sheet1!C2338,0,1)","v":0}]
[{"$f":"IF(Sheet1!C2340>Sheet1!C2339,0,1)","v":0}]
[{"$f":"IF(Sheet1!C2341>Sheet1!C2340,0,1)","v":0}]
[{"$f":"IF(Sheet1!C2342>Sheet1!C2341,0,1)","v":0}]
[{"$f":"IF(Sheet1!C2343>Sheet1!C2342,0,1)","v":0}]
[{"$f":"IF(Sheet1!C2344>Sheet1!C2343,0,1)","v":0}]
[{"$f":"IF(Sheet1!C2345>Sheet1!C2344,0,1)","v":0}]
[{"$f":"IF(Sheet1!C2346>Sheet1!C2345,0,1)","v":0}]
[{"$f":"IF(Sheet1!C2347>Sheet1!C2346,0,1)","v":0}]
[{"$f":"IF(Sheet1!C2348>Sheet1!C2347,0,1)","v":0}]
[{"$f":"IF(Sheet1!C2349>Sheet1!C2348,0,1)","v":0}]
[{"$f":"IF(Sheet1!C2350>Sheet1!C2349,0,1)","v":0}]
[{"$f":"IF(Sheet1!C2351>Sheet1!C2350,0,1)","v":0}]
[{"$f":"IF(Sheet1!C2352>Sheet1!C2351,0,1)","v":0}]
[{"$f":"IF(Sheet1!C2353>Sheet1!C2352,0,1)","v":0}]
[{"$f":"IF(Sheet1!C2354>Sheet1!C2353,0,1)","v":0}]
[{"$f":"IF(Sheet1!C2355>Sheet1!C2354,0,1)","v":0}]
[{"$f":"IF(Sheet1!C2356>Sheet1!C2355,0,1)","v":0}]
[{"$f":"IF(Sheet1!C2357>Sheet1!C2356,0,1)","v":0}]
[{"$f":"IF(Sheet1!C2358>Sheet1!C2357,0,1)","v":0}]
[{"$f":"IF(Sheet1!C2359>Sheet1!C2358,0,1)","v":0}]
[{"$f":"IF(Sheet1!C2360>Sheet1!C2359,0,1)","v":0}]
[{"$f":"IF(Sheet1!C2361>Sheet1!C2360,0,1)","v":0}]
[{"$f":"IF(Sheet1!C2362>Sheet1!C2361,0,1)","v":0}]
[{"$f":"IF(Sheet1!C2363>Sheet1!C2362,0,1)","v":0}]
[{"$f":"IF(Sheet1!C2364>Sheet1!C2363,0,1)","v":0}]
[{"$f":"IF(Sheet1!C2365>Sheet1!C2364,0,1)","v":0}]
[{"$f":"IF(Sheet1!C2366>Sheet1!C2365,0,1)","v":0}]
[{"$f":"IF(Sheet1!C2367>Sheet1!C2366,0,1)","v":0}]
[{"$f":"IF(Sheet1!C2368>Sheet1!C2367,0,1)","v":0}]
[{"$f":"IF(Sheet1!C2369>Sheet1!C2368,0,1)","v":0}]
[{"$f":"IF(Sheet1!C2370>Sheet1!C2369,0,1)","v":0}]
[{"$f":"IF(Sheet1!C2371>Sheet1!C2370,0,1)","v":0}]
[{"$f":"IF(Sheet1!C2372>Sheet1!C2371,0,1)","v":0}]
[{"$f":"IF(Sheet1!C2373>Sheet1!C2372,0,1)","v":0}]
[{"$f":"IF(Sheet1!C2374>Sheet1!C2373,0,1)","v":0}]
[{"$f":"IF(Sheet1!C2375>Sheet1!C2374,0,1)","v":0}]
[{"$f":"IF(Sheet1!C2376>Sheet1!C2375,0,1)","v":0}]
[{"$f":"IF(Sheet1!C2377>Sheet1!C2376,0,1)","v":0}]
[{"$f":"IF(Sheet1!C2378>Sheet1!C2377,0,1)","v":0}]
[{"$f":"IF(Sheet1!C2379>Sheet1!C2378,0,1)","v":0}]
[{"$f":"IF(Sheet1!C2380>Sheet1!C2379,0,1)","v":0}]
[{"$f":"IF(Sheet1!C2381>Sheet1!C2380,0,1)","v":0}]
[{"$f":"IF(Sheet1!C2382>Sheet1!C2381,0,1)","v":0}]
[{"$f":"IF(Sheet1!C2383>Sheet1!C2382,0,1)","v":0}]
[{"$f":"IF(Sheet1!C2384>Sheet1!C2383,0,1)","v":0}]
[{"$f":"IF(Sheet1!C2385>Sheet1!C2384,0,1)","v":0}]
[{"$f":"IF(Sheet1!C2386>Sheet1!C2385,0,1)","v":0}]
[{"$f":"IF(Sheet1!C2387>Sheet1!C2386,0,1)","v":0}]
[{"$f":"IF(Sheet1!C2388>Sheet1!C2387,0,1)","v":0}]
[{"$f":"IF(Sheet1!C2389>Sheet1!C2388,0,1)","v":0}]
[{"$f":"IF(Sheet1!C2390>Sheet1!C2389,0,1)","v":0}]
[{"$f":"IF(Sheet1!C2391>Sheet1!C2390,0,1)","v":0}]
[{"$f":"IF(Sheet1!C2392>Sheet1!C2391,0,1)","v":0}]
[{"$f":"IF(Sheet1!C2393>Sheet1!C2392,0,1)","v":0}]
[{"$f":"IF(Sheet1!C2394>Sheet1!C2393,0,1)","v":0}]
[{"$f":"IF(Sheet1!C2395>Sheet1!C2394,0,1)","v":0}]
[{"$f":"IF(Sheet1!C2396>Sheet1!C2395,0,1)","v":0}]
[{"$f":"IF(Sheet1!C2397>Sheet1!C2396,0,1)","v":0}]
[{"$f":"IF(Sheet1!C2398>Sheet1!C2397,0,1)","v":0}]
[{"$f":"IF(Sheet1!C2399>Sheet1!C2398,0,1)","v":0}]
[{"$f":"IF(Sheet1!C2400>Sheet1!C2399,0,1)","v":0}]
[{"$f":"IF(Sheet1!C2401>Sheet1!C2400,0,1)","v":0}]
[{"$f":"IF(Sheet1!C2402>Sheet1!C2401,0,1)","v":0}]
[{"$f":"IF(Sheet1!C2403>Sheet1!C2402,0,1)","v":0}]
[{"$f":"IF(Sheet1!C2404>Sheet1!C2403,0,1)","v":0}]
[{"$f":"IF(Sheet1!C2405>Sheet1!C2404,0,1)","v":0}]
[{"$f":"IF(Sheet1!C2406>Sheet1!C2405,0,1)","v":0}]
[{"$f":"IF(Sheet1!C2407>Sheet1!C2406,0,1)","v":0}]
[{"$f":"IF(Sheet1!C2408>Sheet1!C2407,0,1)","v":0}]
[{"$f":"IF(Sheet1!C2409>Sheet1!C2408,0,1)","v":0}]
[{"$f":"IF(Sheet1!C2410>Sheet1!C2409,0,1)","v":0}]
[{"$f":"IF(Sheet1!C2411>Sheet1!C2410,0,1)","v":0}]
[{"$f":"IF(Sheet1!C2412>Sheet1!C2411,0,1)","v":0}]
[{"$f":"IF(Sheet1!C2413>Sheet1!C2412,0,1)","v":0}]
[{"$f":"IF(Sheet1!C2414>Sheet1!C2413,0,1)","v":0}]
[{"$f":"IF(Sheet1!C2415>Sheet1!C2414,0,1)","v":0}]
[{"$f":"IF(Sheet1!C2416>Sheet1!C2415,0,1)","v":0}]
[{"$f":"IF(Sheet1!C2417>Sheet1!C2416,0,1)","v":0}]
[{"$f":"IF(Sheet1!C2418>Sheet1!C2417,0,1)","v":0}]
[{"$f":"IF(Sheet1!C2419>Sheet1!C2418,0,1)","v":0}]
[{"$f":"IF(Sheet1!C2420>Sheet1!C2419,0,1)","v":0}]
[{"$f":"IF(Sheet1!C2421>Sheet1!C2420,0,1)","v":0}]
[{"$f":"IF(Sheet1!C2422>Sheet1!C2421,0,1)","v":0}]
[{"$f":"IF(Sheet1!C2423>Sheet1!C2422,0,1)","v":0}]
[{"$f":"IF(Sheet1!C2424>Sheet1!C2423,0,1)","v":0}]
[{"$f":"IF(Sheet1!C2425>Sheet1!C2424,0,1)","v":0}]
[{"$f":"IF(Sheet1!C2426>Sheet1!C2425,0,1)","v":0}]
[{"$f":"IF(Sheet1!C2427>Sheet1!C2426,0,1)","v":0}]
[{"$f":"IF(Sheet1!C2428>Sheet1!C2427,0,1)","v":0}]
[{"$f":"IF(Sheet1!C2429>Sheet1!C2428,0,1)","v":0}]
[{"$f":"IF(Sheet1!C2430>Sheet1!C2429,0,1)","v":0}]
[{"$f":"IF(Sheet1!C2431>Sheet1!C2430,0,1)","v":0}]
[{"$f":"IF(Sheet1!C2432>Sheet1!C2431,0,1)","v":0}]
[{"$f":"IF(Sheet1!C2433>Sheet1!C2432,0,1)","v":0}]
[{"$f":"IF(Sheet1!C2434>Sheet1!C2433,0,1)","v":0}]
[{"$f":"IF(Sheet1!C2435>Sheet1!C2434,0,1)","v":0}]
[{"$f":"IF(Sheet1!C2436>Sheet1!C2435,0,1)","v":0}]
[{"$f":"IF(Sheet1!C2437>Sheet1!C2436,0,1)","v":0}]
[{"$f":"IF(Sheet1!C2438>Sheet1!C2437,0,1)","v":0}]
[{"$f":"IF(Sheet1!C2439>Sheet1!C2438,0,1)","v":0}]
[{"$f":"IF(Sheet1!C2440>Sheet1!C2439,0,1)","v":0}]
[{"$f":"IF(Sheet1!C2441>Sheet1!C2440,0,1)","v":0}]
[{"$f":"IF(Sheet1!C2442>Sheet1!C2441,0,1)","v":0}]
[{"$f":"IF(Sheet1!C2443>Sheet1!C2442,0,1)","v":0}]
[{"$f":"IF(Sheet1!C2444>Sheet1!C2443,0,1)","v":0}]
[{"$f":"IF(Sheet1!C2445>Sheet1!C2444,0,1)","v":0}]
[{"$f":"IF(Sheet1!C2446>Sheet1!C2445,0,1)","v":0}]
[{"$f":"IF(Sheet1!C2447>Sheet1!C2446,0,1)","v":0}]
[{"$f":"IF(Sheet1!C2448>Sheet1!C2447,0,1)","v":0}]
[{"$f":"IF(Sheet1!C2449>Sheet1!C2448,0,1)","v":0}]
[{"$f":"IF(Sheet1!C2450>Sheet1!C2449,0,1)","v":0}]
[{"$f":"IF(Sheet1!C2451>Sheet1!C2450,0,1)","v":0}]
[{"$f":"IF(Sheet1!C2452>Sheet1!C2451,0,1)","v":0}]
[{"$f":"IF(Sheet1!C2453>Sheet1!C2452,0,1)","v":0}]
[{"$f":"IF(Sheet1!C2454>Sheet1!C2453,0,1)","v":0}]
[{"$f":"IF(Sheet1!C2455>Sheet1!C2454,0,1)","v":0}]
[{"$f":"IF(Sheet1!C2456>Sheet1!C2455,0,1)","v":0}]
[{"$f":"IF(Sheet1!C2457>Sheet1!C2456,0,1)","v":0}]
[{"$f":"IF(Sheet1!C2458>Sheet1!C2457,0,1)","v":0}]
[{"$f":"IF(Sheet1!C2459>Sheet1!C2458,0,1)","v":0}]
[{"$f":"IF(Sheet1!C2460>Sheet1!C2459,0,1)","v":0}]
[{"$f":"IF(Sheet1!C2461>Sheet1!C2460,0,1)","v":0}]
[{"$f":"IF(Sheet1!C2462>Sheet1!C2461,0,1)","v":0}]
[{"$f":"IF(Sheet1!C2463>Sheet1!C2462,0,1)","v":0}]
[{"$f":"IF(Sheet1!C2464>Sheet1!C2463,0,1)","v":0}]
[{"$f":"IF(Sheet1!C2465>Sheet1!C2464,0,1)","v":0}]
[{"$f":"IF(Sheet1!C2466>Sheet1!C2465,0,1)","v":0}]
[{"$f":"IF(Sheet1!C2467>Sheet1!C2466,0,1)","v":0}]
[{"$f":"IF(Sheet1!C2468>Sheet1!C2467,0,1)","v":0}]
[{"$f":"IF(Sheet1!C2469>Sheet1!C2468,0,1)","v":0}]
[{"$f":"IF(Sheet1!C2470>Sheet1!C2469,0,1)","v":0}]
[{"$f":"IF(Sheet1!C2471>Sheet1!C2470,0,1)","v":0}]
[{"$f":"IF(Sheet1!C2472>Sheet1!C2471,0,1)","v":0}]
[{"$f":"IF(Sheet1!C2473>Sheet1!C2472,0,1)","v":0}]
[{"$f":"IF(Sheet1!C2474>Sheet1!C2473,0,1)","v":0}]
[{"$f":"IF(Sheet1!C2475>Sheet1!C2474,0,1)","v":0}]
[{"$f":"IF(Sheet1!C2476>Sheet1!C2475,0,1)","v":0}]
[{"$f":"IF(Sheet1!C2477>Sheet1!C2476,0,1)","v":0}]
[{"$f":"IF(Sheet1!C2478>Sheet1!C2477,0,1)","v":0}]
[{"$f":"IF(Sheet1!C2479>Sheet1!C2478,0,1)","v":0}]
[{"$f":"IF(Sheet1!C2480>Sheet1!C2479,0,1)","v":0}]
[{"$f":"IF(Sheet1!C2481>Sheet1!C2480,0,1)","v":0}]
[{"$f":"IF(Sheet1!C2482>Sheet1!C2481,0,1)","v":0}]
[{"$f":"IF(Sheet1!C2483>Sheet1!C2482,0,1)","v":0}]
[{"$f":"IF(Sheet1!C2484>Sheet1!C2483,0,1)","v":0}]
[{"$f":"IF(Sheet1!C2485>Sheet1!C2484,0,1)","v":0}]
[{"$f":"IF(Sheet1!C2486>Sheet1!C2485,0,1)","v":0}]
[{"$f":"IF(Sheet1!C2487>Sheet1!C2486,0,1)","v":0}]
[{"$f":"IF(Sheet1!C2488>Sheet1!C2487,0,1)","v":0}]
[{"$f":"IF(Sheet1!C2489>Sheet1!C2488,0,1)","v":0}]
[{"$f":"IF(Sheet1!C2490>Sheet1!C2489,0,1)","v":0}]
[{"$f":"IF(Sheet1!C2491>Sheet1!C2490,0,1)","v":0}]
[{"$f":"IF(Sheet1!C2492>Sheet1!C2491,0,1)","v":0}]
[{"$f":"IF(Sheet1!C2493>Sheet1!C2492,0,1)","v":0}]
[{"$f":"IF(Sheet1!C2494>Sheet1!C2493,0,1)","v":0}]
[{"$f":"IF(Sheet1!C2495>Sheet1!C2494,0,1)","v":0}]
[{"$f":"IF(Sheet1!C2496>Sheet1!C2495,0,1)","v":0}]
[{"$f":"IF(Sheet1!C2497>Sheet1!C2496,0,1)","v":0}]
[{"$f":"IF(Sheet1!C2498>Sheet1!C2497,0,1)","v":0}]
[{"$f":"IF(Sheet1!C2499>Sheet1!C2498,0,1)","v":0}]
[{"$f":"IF(Sheet1!C2500>Sheet1!C2499,0,1)","v":0}]
[{"$f":"IF(Sheet1!C2501>Sheet1!C2500,0,1)","v":0}]
[{"$f":"IF(Sheet1!C2502>Sheet1!C2501,0,1)","v":0}]
[{"$f":"IF(Sheet1!C2503>Sheet1!C2502,0,1)","v":0}]
[{"$f":"IF(Sheet1!C2504>Sheet1!C2503,0,1)","v":0}]
[{"$f":"IF(Sheet1!C2505>Sheet1!C2504,0,1)","v":0}]
[{"$f":"IF(Sheet1!C2506>Sheet1!C2505,0,1)","v":0}]
[{"$f":"IF(Sheet1!C2507>Sheet1!C2506,0,1)","v":0}]
[{"$f":"IF(Sheet1!C2508>Sheet1!C2507,0,1)","v":0}]
[{"$f":"IF(Sheet1!C2509>Sheet1!C2508,0,1)","v":0}]
[{"$f":"IF(Sheet1!C2510>Sheet1!C2509,0,1)","v":0}]
[{"$f":"IF(Sheet1!C2511>Sheet1!C2510,0,1)","v":0}]
[{"$f":"IF(Sheet1!C2512>Sheet1!C2511,0,1)","v":0}]
[{"$f":"IF(Sheet1!C2513>Sheet1!C2512,0,1)","v":0}]
[{"$f":"IF(Sheet1!C2514>Sheet1!C2513,0,1)","v":0}]
[{"$f":"IF(Sheet1!C2515>Sheet1!C2514,0,1)","v":0}]
[{"$f":"IF(Sheet1!C2516>Sheet1!C2515,0,1)","v":0}]
[{"$f":"IF(Sheet1!C2517>Sheet1!C2516,0,1)","v":0}]
[{"$f":"IF(Sheet1!C2518>Sheet1!C2517,0,1)","v":0}]
[{"$f":"IF(Sheet1!C2519>Sheet1!C2518,0,1)","v":0}]
[{"$f":"IF(Sheet1!C2520>Sheet1!C2519,0,1)","v":0}]
[{"$f":"IF(Sheet1!C2521>Sheet1!C2520,0,1)","v":0}]
[{"$f":"IF(Sheet1!C2522>Sheet1!C2521,0,1)","v":0}]
[{"$f":"IF(Sheet1!C2523>Sheet1!C2522,0,1)","v":0}]
[{"$f":"IF(Sheet1!C2524>Sheet1!C2523,0,1)","v":0}]
[{"$f":"IF(Sheet1!C2525>Sheet1!C2524,0,1)","v":0}]
[{"$f":"IF(Sheet1!C2526>Sheet1!C2525,0,1)","v":0}]
[{"$f":"IF(Sheet1!C2527>Sheet1!C2526,0,1)","v":0}]
[{"$f":"IF(Sheet1!C2528>Sheet1!C2527,0,1)","v":0}]
[{"$f":"IF(Sheet1!C2529>Sheet1!C2528,0,1)","v":0}]
[{"$f":"IF(Sheet1!C2530>Sheet1!C2529,0,1)","v":0}]
[{"$f":"IF(Sheet1!C2531>Sheet1!C2530,0,1)","v":0}]
[{"$f":"IF(Sheet1!C2532>Sheet1!C2531,0,1)","v":0}]
[{"$f":"IF(Sheet1!C2533>Sheet1!C2532,0,1)","v":0}]
[{"$f":"IF(Sheet1!C2534>Sheet1!C2533,0,1)","v":0}]
[{"$f":"IF(Sheet1!C2535>Sheet1!C2534,0,1)","v":0}]
[{"$f":"IF(Sheet1!C2536>Sheet1!C2535,0,1)","v":0}]
[{"$f":"IF(Sheet1!C2537>Sheet1!C2536,0,1)","v":0}]
[{"$f":"IF(Sheet1!C2538>Sheet1!C2537,0,1)","v":0}]
[{"$f":"IF(Sheet1!C2539>Sheet1!C2538,0,1)","v":0}]
[{"$f":"IF(Sheet1!C2540>Sheet1!C2539,0,1)","v":0}]
[{"$f":"IF(Sheet1!C2541>Sheet1!C2540,0,1)","v":0}]
[{"$f":"IF(Sheet1!C2542>Sheet1!C2541,0,1)","v":0}]
[{"$f":"IF(Sheet1!C2543>Sheet1!C2542,0,1)","v":0}]
[{"$f":"IF(Sheet1!C2544>Sheet1!C2543,0,1)","v":0}]
[{"$f":"IF(Sheet1!C2545>Sheet1!C2544,0,1)","v":0}]
[{"$f":"IF(Sheet1!C2546>Sheet1!C2545,0,1)","v":0}]
[{"$f":"IF(Sheet1!C2547>Sheet1!C2546,0,1)","v":0}]
[{"$f":"IF(Sheet1!C2548>Sheet1!C2547,0,1)","v":0}]
[{"$f":"IF(Sheet1!C2549>Sheet1!C2548,0,1)","v":0}]
[{"$f":"IF(Sheet1!C2550>Sheet1!C2549,0,1)","v":0}]
[{"$f":"IF(Sheet1!C2551>Sheet1!C2550,0,1)","v":0}]
[{"$f":"IF(Sheet1!C2552>Sheet1!C2551,0,1)","v":0}]
[{"$f":"IF(Sheet1!C2553>Sheet1!C2552,0,1)","v":0}]
[{"$f":"IF(Sheet1!C2554>Sheet1!C2553,0,1)","v":0}]
[{"$f":"IF(Sheet1!C2555>Sheet1!C2554,0,1)","v":0}]
[{"$f":"IF(Sheet1!C2556>Sheet1!C2555,0,1)","v":0}]
[{"$f":"IF(Sheet1!C2557>Sheet1!C2556,0,1)","v":0}]
[{"$f":"IF(Sheet1!C2558>Sheet1!C2557,0,1)","v":0}]
[{"$f":"IF(Sheet1!C2559>Sheet1!C2558,0,1)","v":0}]
[{"$f":"IF(Sheet1!C2560>Sheet1!C2559,0,1)","v":0}]
[{"$f":"IF(Sheet1!C2561>Sheet1!C2560,0,1)","v":0}]
[{"$f":"IF(Sheet1!C2562>Sheet1!C2561,0,1)","v":0}]
[{"$f":"IF(Sheet1!C2563>Sheet1!C2562,0,1)","v":0}]
[{"$f":"IF(Sheet1!C2564>Sheet1!C2563,0,1)","v":0}]
[{"$f":"IF(Sheet1!C2565>Sheet1!C2564,0,1)","v":0}]
[{"$f":"IF(Sheet1!C2566>Sheet1!C2565,0,1)","v":0}]
[{"$f":"IF(Sheet1!C2567>Sheet1!C2566,0,1)","v":0}]
[{"$f":"IF(Sheet1!C2568>Sheet1!C2567,0,1)","v":0}]
[{"$f":"IF(Sheet1!C2569>Sheet1!C2568,0,1)","v":0}]
[{"$f":"IF(Sheet1!C2570>Sheet1!C2569,0,1)","v":0}]
[{"$f":"IF(Sheet1!C2571>Sheet1!C2570,0,1)","v":0}]
[{"$f":"IF(Sheet1!C2572>Sheet1!C2571,0,1)","v":0}]
[{"$f":"IF(Sheet1!C2573>Sheet1!C2572,0,1)","v":0}]
[{"$f":"IF(Sheet1!C2574>Sheet1!C2573,0,1)","v":0}]
[{"$f":"IF(Sheet1!C2575>Sheet1!C2574,0,1)","v":0}]
[{"$f":"IF(Sheet1!C2576>Sheet1!C2575,0,1)","v":0}]
[{"$f":"IF(Sheet1!C2577>Sheet1!C2576,0,1)","v":0}]
[{"$f":"IF(Sheet1!C2578>Sheet1!C2577,0,1)","v":0}]
[{"$f":"IF(Sheet1!C2579>Sheet1!C2578,0,1)","v":0}]
[{"$f":"IF(Sheet1!C2580>Sheet1!C2579,0,1)","v":0}]
[{"$f":"IF(Sheet1!C2581>Sheet1!C2580,0,1)","v":0}]
[{"$f":"IF(Sheet1!C2582>Sheet1!C2581,0,1)","v":0}]
[{"$f":"IF(Sheet1!C2583>Sheet1!C2582,0,1)","v":0}]
[{"$f":"IF(Sheet1!C2584>Sheet1!C2583,0,1)","v":0}]
[{"$f":"IF(Sheet1!C2585>Sheet1!C2584,0,1)","v":0}]
[{"$f":"IF(Sheet1!C2586>Sheet1!C2585,0,1)","v":0}]
[{"$f":"IF(Sheet1!C2587>Sheet1!C2586,0,1)","v":0}]
[{"$f":"IF(Sheet1!C2588>Sheet1!C2587,0,1)","v":0}]
[{"$f":"IF(Sheet1!C2589>Sheet1!C2588,0,1)","v":0}]
[{"$f":"IF(Sheet1!C2590>Sheet1!C2589,0,1)","v":0}]
[{"$f":"IF(Sheet1!C2591>Sheet1!C2590,0,1)","v":0}]
[{"$f":"IF(Sheet1!C2592>Sheet1!C2591,0,1)","v":0}]
[{"$f":"IF(Sheet1!C2593>Sheet1!C2592,0,1)","v":0}]
[{"$f":"IF(Sheet1!C2594>Sheet1!C2593,0,1)","v":0}]
[{"$f":"IF(Sheet1!C2595>Sheet1!C2594,0,1)","v":0}]
[{"$f":"IF(Sheet1!C2596>Sheet1!C2595,0,1)","v":0}]
[{"$f":"IF(Sheet1!C2597>Sheet1!C2596,0,1)","v":0}]
[{"$f":"IF(Sheet1!C2598>Sheet1!C2597,0,1)","v":0}]
[{"$f":"IF(Sheet1!C2599>Sheet1!C2598,0,1)","v":0}]
[{"$f":"IF(Sheet1!C2600>Sheet1!C2599,0,1)","v":0}]
[{"$f":"IF(Sheet1!C2601>Sheet1!C2600,0,1)","v":0}]
[{"$f":"IF(Sheet1!C2602>Sheet1!C2601,0,1)","v":0}]
[{"$f":"IF(Sheet1!C2603>Sheet1!C2602,0,1)","v":0}]
[{"$f":"IF(Sheet1!C2604>Sheet1!C2603,0,1)","v":0}]
[{"$f":"IF(Sheet1!C2605>Sheet1!C2604,0,1)","v":0}]
[{"$f":"IF(Sheet1!C2606>Sheet1!C2605,0,1)","v":0}]
[{"$f":"IF(Sheet1!C2607>Sheet1!C2606,0,1)","v":0}]
[{"$f":"IF(Sheet1!C2608>Sheet1!C2607,0,1)","v":0}]
[{"$f":"IF(Sheet1!C2609>Sheet1!C2608,0,1)","v":0}]
[{"$f":"IF(Sheet1!C2610>Sheet1!C2609,0,1)","v":0}]
[{"$f":"IF(Sheet1!C2611>Sheet1!C2610,0,1)","v":0}]
[{"$f":"IF(Sheet1!C2612>Sheet1!C2611,0,1)","v":0}]
[{"$f":"IF(Sheet1!C2613>Sheet1!C2612,0,1)","v":0}]
[{"$f":"IF(Sheet1!C2614>Sheet1!C2613,0,1)","v":0}]
[{"$f":"IF(Sheet1!C2615>Sheet1!C2614,0,1)","v":0}]
[{"$f":"IF(Sheet1!C2616>Sheet1!C2615,0,1)","v":0}]
[{"$f":"IF(Sheet1!C2617>Sheet1!C2616,0,1)","v":0}]
[{"$f":"IF(Sheet1!C2618>Sheet1!C2617,0,1)","v":0}]
[{"$f":"IF(Sheet1!C2619>Sheet1!C2618,0,1)","v":0}]
[{"$f":"IF(Sheet1!C2620>Sheet1!C2619,0,1)","v":0}]
[{"$f":"IF(Sheet1!C2621>Sheet1!C2620,0,1)","v":0}]
[{"$f":"IF(Sheet1!C2622>Sheet1!C2621,0,1)","v":0}]
[{"$f":"IF(Sheet1!C2623>Sheet1!C2622,0,1)","v":0}]
[{"$f":"IF(Sheet1!C2624>Sheet1!C2623,0,1)","v":0}]
[{"$f":"IF(Sheet1!C2625>Sheet1!C2624,0,1)","v":0}]
[{"$f":"IF(Sheet1!C2626>Sheet1!C2625,0,1)","v":0}]
[{"$f":"IF(Sheet1!C2627>Sheet1!C2626,0,1)","v":0}]
[{"$f":"IF(Sheet1!C2628>Sheet1!C2627,0,1)","v":0}]
[{"$f":"IF(Sheet1!C2629>Sheet1!C2628,0,1)","v":0}]
[{"$f":"IF(Sheet1!C2630>Sheet1!C2629,0,1)","v":0}]
[{"$f":"IF(Sheet1!C2631>Sheet1!C2630,0,1)","v":0}]
[{"$f":"IF(Sheet1!C2632>Sheet1!C2631,0,1)","v":0}]
[{"$f":"IF(Sheet1!C2633>Sheet1!C2632,0,1)","v":0}]
[{"$f":"IF(Sheet1!C2634>Sheet1!C2633,0,1)","v":0}]
[{"$f":"IF(Sheet1!C2635>Sheet1!C2634,0,1)","v":0}]
[{"$f":"IF(Sheet1!C2636>Sheet1!C2635,0,1)","v":0}]
[{"$f":"IF(Sheet1!C2637>Sheet1!C2636,0,1)","v":0}]
[{"$f":"IF(Sheet1!C2638>Sheet1!C2637,0,1)","v":0}]
[{"$f":"IF(Sheet1!C2639>Sheet1!C2638,0,1)","v":0}]
[{"$f":"IF(Sheet1!C2640>Sheet1!C2639,0,1)","v":0}]
[{"$f":"IF(Sheet1!C2641>Sheet1!C2640,0,1)","v":0}]
[{"$f":"IF(Sheet1!C2642>Sheet1!C2641,0,1)","v":0}]
[{"$f":"IF(Sheet1!C2643>Sheet1!C2642,0,1)","v":0}]
[{"$f":"IF(Sheet1!C2644>Sheet1!C2643,0,1)","v":0}]
[{"$f":"IF(Sheet1!C2645>Sheet1!C2644,0,1)","v":0}]
[{"$f":"IF(Sheet1!C2646>Sheet1!C2645,0,1)","v":0}]
[{"$f":"IF(Sheet1!C2647>Sheet1!C2646,0,1)","v":0}]
[{"$f":"IF(Sheet1!C2648>Sheet1!C2647,0,1)","v":0}]
[{"$f":"IF(Sheet1!C2649>Sheet1!C2648,0,1)","v":0}]
[{"$f":"IF(Sheet1!C2650>Sheet1!C2649,0,1)","v":0}]
[{"$f":"IF(Sheet1!C2651>Sheet1!C2650,0,1)","v":0}]
[{"$f":"IF(Sheet1!C2652>Sheet1!C2651,0,1)","v":0}]
[{"$f":"IF(Sheet1!C2653>Sheet1!C2652,0,1)","v":0}]
[{"$f":"IF(Sheet1!C2654>Sheet1!C2653,0,1)","v":0}]
[{"$f":"IF(Sheet1!C2655>Sheet1!C2654,0,1)","v":0}]
[{"$f":"IF(Sheet1!C2656>Sheet1!C2655,0,1)","v":0}]
[{"$f":"IF(Sheet1!C2657>Sheet1!C2656,0,1)","v":0}]
[{"$f":"IF(Sheet1!C2658>Sheet1!C2657,0,1)","v":0}]
[{"$f":"IF(Sheet1!C2659>Sheet1!C2658,0,1)","v":0}]
[{"$f":"IF(Sheet1!C2660>Sheet1!C2659,0,1)","v":0}]
[{"$f":"IF(Sheet1!C2661>Sheet1!C2660,0,1)","v":0}]
[{"$f":"IF(Sheet1!C2662>Sheet1!C2661,0,1)","v":0}]
[{"$f":"IF(Sheet1!C2663>Sheet1!C2662,0,1)","v":0}]
[{"$f":"IF(Sheet1!C2664>Sheet1!C2663,0,1)","v":0}]
[{"$f":"IF(Sheet1!C2665>Sheet1!C2664,0,1)","v":0}]
[{"$f":"IF(Sheet1!C2666>Sheet1!C2665,0,1)","v":0}]
[{"$f":"IF(Sheet1!C2667>Sheet1!C2666,0,1)","v":0}]
[{"$f":"IF(Sheet1!C2668>Sheet1!C2667,0,1)","v":0}]
[{"$f":"IF(Sheet1!C2669>Sheet1!C2668,0,1)","v":0}]
[{"$f":"IF(Sheet1!C2670>Sheet1!C2669,0,1)","v":0}]
[{"$f":"IF(Sheet1!C2671>Sheet1!C2670,0,1)","v":0}]
[{"$f":"IF(Sheet1!C2672>Sheet1!C2671,0,1)","v":0}]
[{"$f":"IF(Sheet1!C2673>Sheet1!C2672,0,1)","v":0}]
[{"$f":"IF(Sheet1!C2674>Sheet1!C2673,0,1)","v":0}]
[{"$f":"IF(Sheet1!C2675>Sheet1!C2674,0,1)","v":0}]
[{"$f":"IF(Sheet1!C2676>Sheet1!C2675,0,1)","v":0}]
[{"$f":"IF(Sheet1!C2677>Sheet1!C2676,0,1)","v":0}]
[{"$f":"IF(Sheet1!C2678>Sheet1!C2677,0,1)","v":0}]
[{"$f":"IF(Sheet1!C2679>Sheet1!C2678,0,1)","v":0}]
[{"$f":"IF(Sheet1!C2680>Sheet1!C2679,0,1)","v":0}]
[{"$f":"IF(Sheet1!C2681>Sheet1!C2680,0,1)","v":0}]
[{"$f":"IF(Sheet1!C2682>Sheet1!C2681,0,1)","v":0}]
[{"$f":"IF(Sheet1!C2683>Sheet1!C2682,0,1)","v":0}]
[{"$f":"IF(Sheet1!C2684>Sheet1!C2683,0,1)","v":0}]
[{"$f":"IF(Sheet1!C2685>Sheet1!C2684,0,1)","v":0}]
[{"$f":"IF(Sheet1!C2686>Sheet1!C2685,0,1)","v":0}]
[{"$f":"IF(Sheet1!C2687>Sheet1!C2686,0,1)","v":0}]
[{"$f":"IF(Sheet1!C2688>Sheet1!C2687,0,1)","v":0}]
[{"$f":"IF(Sheet1!C2689>Sheet1!C2688,0,1)","v":0}]
[{"$f":"IF(Sheet1!C2690>Sheet1!C2689,0,1)","v":0}]
[{"$f":"IF(Sheet1!C2691>Sheet1!C2690,0,1)","v":0}]
[{"$f":"IF(Sheet1!C2692>Sheet1!C2691,0,1)","v":0}]
[{"$f":"IF(Sheet1!C2693>Sheet1!C2692,0,1)","v":0}]
[{"$f":"IF(Sheet1!C2694>Sheet1!C2693,0,1)","v":0}]
[{"$f":"IF(Sheet1!C2695>Sheet1!C2694,0,1)","v":0}]
[{"$f":"IF(Sheet1!C2696>Sheet1!C2695,0,1)","v":0}]
[{"$f":"IF(Sheet1!C2697>Sheet1!C2696,0,1)","v":0}]
[{"$f":"IF(Sheet1!C2698>Sheet1!C2697,0,1)","v":0}]
[{"$f":"IF(Sheet1!C2699>Sheet1!C2698,0,1)","v":0}]
[{"$f":"IF(Sheet1!C2700>Sheet1!C2699,0,1)","v":0}]
[{"$f":"IF(Sheet1!C2701>Sheet1!C2700,0,1)","v":0}]
[{"$f":"IF(Sheet1!C2702>Sheet1!C2701,0,1)","v":0}]
[{"$f":"IF(Sheet1!C2703>Sheet1!C2702,0,1)","v":0}]
[{"$f":"IF(Sheet1!C2704>Sheet1!C2703,0,1)","v":0}]
[{"$f":"IF(Sheet1!C2705>Sheet1!C2704,0,1)","v":0}]
[{"$f":"IF(Sheet1!C2706>Sheet1!C2705,0,1)","v":0}]
[{"$f":"IF(Sheet1!C2707>Sheet1!C2706,0,1)","v":0}]
[{"$f":"IF(Sheet1!C2708>Sheet1!C2707,0,1)","v":0}]
[{"$f":"IF(Sheet1!C2709>Sheet1!C2708,0,1)","v":0}]
[{"$f":"IF(Sheet1!C2710>Sheet1!C2709,0,1)","v":0}]
[{"$f":"IF(Sheet1!C2711>Sheet1!C2710,0,1)","v":0}]
[{"$f":"IF(Sheet1!C2712>Sheet1!C2711,0,1)","v":0}]
[{"$f":"IF(Sheet1!C2713>Sheet1!C2712,0,1)","v":0}]
[{"$f":"IF(Sheet1!C2714>Sheet1!C2713,0,1)","v":0}]
[{"$f":"IF(Sheet1!C2715>Sheet1!C2714,0,1)","v":0}]
[{"$f":"IF(Sheet1!C2716>Sheet1!C2715,0,1)","v":0}]
[{"$f":"IF(Sheet1!C2717>Sheet1!C2716,0,1)","v":0}]
[{"$f":"IF(Sheet1!C2718>Sheet1!C2717,0,1)","v":0}]
[{"$f":"IF(Sheet1!C2719>Sheet1!C2718,0,1)","v":0}]
[{"$f":"IF(Sheet1!C2720>Sheet1!C2719,0,1)","v":0}]
[{"$f":"IF(Sheet1!C2721>Sheet1!C2720,0,1)","v":0}]
[{"$f":"IF(Sheet1!C2722>Sheet1!C2721,0,1)","v":0}]
[{"$f":"IF(Sheet1!C2723>Sheet1!C2722,0,1)","v":0}]
[{"$f":"IF(Sheet1!C2724>Sheet1!C2723,0,1)","v":0}]
[{"$f":"IF(Sheet1!C2725>Sheet1!C2724,0,1)","v":0}]
[{"$f":"IF(Sheet1!C2726>Sheet1!C2725,0,1)","v":0}]
[{"$f":"IF(Sheet1!C2727>Sheet1!C2726,0,1)","v":0}]
[{"$f":"IF(Sheet1!C2728>Sheet1!C2727,0,1)","v":0}]
[{"$f":"IF(Sheet1!C2729>Sheet1!C2728,0,1)","v":0}]
[{"$f":"IF(Sheet1!C2730>Sheet1!C2729,0,1)","v":0}]
[{"$f":"IF(Sheet1!C2731>Sheet1!C2730,0,1)","v":0}]
[{"$f":"IF(Sheet1!C2732>Sheet1!C2731,0,1)","v":0}]
[{"$f":"IF(Sheet1!C2733>Sheet1!C2732,0,1)","v":0}]
[{"$f":"IF(Sheet1!C2734>Sheet1!C2733,0,1)","v":0}]
[{"$f":"IF(Sheet1!C2735>Sheet1!C2734,0,1)","v":0}]
[{"$f":"IF(Sheet1!C2736>Sheet1!C2735,0,1)","v":0}]
[{"$f":"IF(Sheet1!C2737>Sheet1!C2736,0,1)","v":0}]
[{"$f":"IF(Sheet1!C2738>Sheet1!C2737,0,1)","v":0}]
[{"$f":"IF(Sheet1!C2739>Sheet1!C2738,0,1)","v":0}]
[{"$f":"IF(Sheet1!C2740>Sheet1!C2739,0,1)","v":0}]
[{"$f":"IF(Sheet1!C2741>Sheet1!C2740,0,1)","v":0}]
[{"$f":"IF(Sheet1!C2742>Sheet1!C2741,0,1)","v":0}]
[{"$f":"IF(Sheet1!C2743>Sheet1!C2742,0,1)","v":0}]
[{"$f":"IF(Sheet1!C2744>Sheet1!C2743,0,1)","v":0}]
[{"$f":"IF(Sheet1!C2745>Sheet1!C2744,0,1)","v":0}]
[{"$f":"IF(Sheet1!C2746>Sheet1!C2745,0,1)","v":0}]
[{"$f":"IF(Sheet1!C2747>Sheet1!C2746,0,1)","v":0}]
[{"$f":"IF(Sheet1!C2748>Sheet1!C2747,0,1)","v":0}]
[{"$f":"IF(Sheet1!C2749>Sheet1!C2748,0,1)","v":0}]
[{"$f":"IF(Sheet1!C2750>Sheet1!C2749,0,1)","v":0}]
[{"$f":"IF(Sheet1!C2751>Sheet1!C2750,0,1)","v":0}]
[{"$f":"IF(Sheet1!C2752>Sheet1!C2751,0,1)","v":0}]
[{"$f":"IF(Sheet1!C2753>Sheet1!C2752,0,1)","v":0}]
[{"$f":"IF(Sheet1!C2754>Sheet1!C2753,0,1)","v":0}]
[{"$f":"IF(Sheet1!C2755>Sheet1!C2754,0,1)","v":0}]
[{"$f":"IF(Sheet1!C2756>Sheet1!C2755,0,1)","v":0}]
[{"$f":"IF(Sheet1!C2757>Sheet1!C2756,0,1)","v":0}]
[{"$f":"IF(Sheet1!C2758>Sheet1!C2757,0,1)","v":0}]
[{"$f":"IF(Sheet1!C2759>Sheet1!C2758,0,1)","v":0}]
[{"$f":"IF(Sheet1!C2760>Sheet1!C2759,0,1)","v":0}]
[{"$f":"IF(Sheet1!C2761>Sheet1!C2760,0,1)","v":0}]
[{"$f":"IF(Sheet1!C2762>Sheet1!C2761,0,1)","v":0}]
[{"$f":"IF(Sheet1!C2763>Sheet1!C2762,0,1)","v":0}]
[{"$f":"IF(Sheet1!C2764>Sheet1!C2763,0,1)","v":0}]
[{"$f":"IF(Sheet1!C2765>Sheet1!C2764,0,1)","v":0}]
[{"$f":"IF(Sheet1!C2766>Sheet1!C2765,0,1)","v":0}]
[{"$f":"IF(Sheet1!C2767>Sheet1!C2766,0,1)","v":0}]
[{"$f":"IF(Sheet1!C2768>Sheet1!C2767,0,1)","v":0}]
[{"$f":"IF(Sheet1!C2769>Sheet1!C2768,0,1)","v":0}]
[{"$f":"IF(Sheet1!C2770>Sheet1!C2769,0,1)","v":0}]
[{"$f":"IF(Sheet1!C2771>Sheet1!C2770,0,1)","v":0}]
[{"$f":"IF(Sheet1!C2772>Sheet1!C2771,0,1)","v":0}]
[{"$f":"IF(Sheet1!C2773>Sheet1!C2772,0,1)","v":0}]
[{"$f":"IF(Sheet1!C2774>Sheet1!C2773,0,1)","v":0}]
[{"$f":"IF(Sheet1!C2775>Sheet1!C2774,0,1)","v":0}]
[{"$f":"IF(Sheet1!C2776>Sheet1!C2775,0,1)","v":0}]
[{"$f":"IF(Sheet1!C2777>Sheet1!C2776,0,1)","v":0}]
[{"$f":"IF(Sheet1!C2778>Sheet1!C2777,0,1)","v":0}]
[{"$f":"IF(Sheet1!C2779>Sheet1!C2778,0,1)","v":0}]
[{"$f":"IF(Sheet1!C2780>Sheet1!C2779,0,1)","v":0}]
[{"$f":"IF(Sheet1!C2781>Sheet1!C2780,0,1)","v":0}]
[{"$f":"IF(Sheet1!C2782>Sheet1!C2781,0,1)","v":0}]
[{"$f":"IF(Sheet1!C2783>Sheet1!C2782,0,1)","v":0}]
[{"$f":"IF(Sheet1!C2784>Sheet1!C2783,0,1)","v":0}]
[{"$f":"IF(Sheet1!C2785>Sheet1!C2784,0,1)","v":0}]
[{"$f":"IF(Sheet1!C2786>Sheet1!C2785,0,1)","v":0}]
[{"$f":"IF(Sheet1!C2787>Sheet1!C2786,0,1)","v":0}]
[{"$f":"IF(Sheet1!C2788>Sheet1!C2787,0,1)","v":0}]
[{"$f":"IF(Sheet1!C2789>Sheet1!C2788,0,1)","v":0}]
[{"$f":"IF(Sheet1!C2790>Sheet1!C2789,0,1)","v":0}]
[{"$f":"IF(Sheet1!C2791>Sheet1!C2790,0,1)","v":0}]
[{"$f":"IF(Sheet1!C2792>Sheet1!C2791,0,1)","v":0}]
[{"$f":"IF(Sheet1!C2793>Sheet1!C2792,0,1)","v":0}]
[{"$f":"IF(Sheet1!C2794>Sheet1!C2793,0,1)","v":0}]
[{"$f":"IF(Sheet1!C2795>Sheet1!C2794,0,1)","v":0}]
[{"$f":"IF(Sheet1!C2796>Sheet1!C2795,0,1)","v":0}]
[{"$f":"IF(Sheet1!C2797>Sheet1!C2796,0,1)","v":0}]
[{"$f":"IF(Sheet1!C2798>Sheet1!C2797,0,1)","v":0}]
[{"$f":"IF(Sheet1!C2799>Sheet1!C2798,0,1)","v":0}]
[{"$f":"IF(Sheet1!C2800>Sheet1!C2799,0,1)","v":0}]
[{"$f":"IF(Sheet1!C2801>Sheet1!C2800,0,1)","v":0}]
[{"$f":"IF(Sheet1!C2802>Sheet1!C2801,0,1)","v":0}]
[{"$f":"IF(Sheet1!C2803>Sheet1!C2802,0,1)","v":0}]
[{"$f":"IF(Sheet1!C2804>Sheet1!C2803,0,1)","v":0}]
[{"$f":"IF(Sheet1!C2805>Sheet1!C2804,0,1)","v":0}]
[{"$f":"IF(Sheet1!C2806>Sheet1!C2805,0,1)","v":0}]
[{"$f":"IF(Sheet1!C2807>Sheet1!C2806,0,1)","v":0}]
[{"$f":"IF(Sheet1!C2808>Sheet1!C2807,0,1)","v":0}]
[{"$f":"IF(Sheet1!C2809>Sheet1!C2808,0,1)","v":0}]
[{"$f":"IF(Sheet1!C2810>Sheet1!C2809,0,1)","v":0}]
[{"$f":"IF(Sheet1!C2811>Sheet1!C2810,0,1)","v":0}]
[{"$f":"IF(Sheet1!C2812>Sheet1!C2811,0,1)","v":0}]
[{"$f":"IF(Sheet1!C2813>Sheet1!C2812,0,1)","v":0}]
[{"$f":"IF(Sheet1!C2814>Sheet1!C2813,0,1)","v":0}]
[{"$f":"IF(Sheet1!C2815>Sheet1!C2814,0,1)","v":0}]
[{"$f":"IF(Sheet1!C2816>Sheet1!C2815,0,1)","v":0}]
[{"$f":"IF(Sheet1!C2817>Sheet1!C2816,0,1)","v":0}]
[{"$f":"IF(Sheet1!C2818>Sheet1!C2817,0,1)","v":0}]
[{"$f":"IF(Sheet1!C2819>Sheet1!C2818,0,1)","v":0}]
[{"$f":"IF(Sheet1!C2820>Sheet1!C2819,0,1)","v":0}]
[{"$f":"IF(Sheet1!C2821>Sheet1!C2820,0,1)","v":0}]
[{"$f":"IF(Sheet1!C2822>Sheet1!C2821,0,1)","v":0}]
[{"$f":"IF(Sheet1!C2823>Sheet1!C2822,0,1)","v":0}]
[{"$f":"IF(Sheet1!C2824>Sheet1!C2823,0,1)","v":0}]
[{"$f":"IF(Sheet1!C2825>Sheet1!C2824,0,1)","v":0}]
[{"$f":"IF(Sheet1!C2826>Sheet1!C2825,0,1)","v":0}]
[{"$f":"IF(Sheet1!C2827>Sheet1!C2826,0,1)","v":0}]
[{"$f":"IF(Sheet1!C2828>Sheet1!C2827,0,1)","v":0}]
[{"$f":"IF(Sheet1!C2829>Sheet1!C2828,0,1)","v":0}]
[{"$f":"IF(Sheet1!C2830>Sheet1!C2829,0,1)","v":0}]
[{"$f":"IF(Sheet1!C2831>Sheet1!C2830,0,1)","v":0}]
[{"$f":"IF(Sheet1!C2832>Sheet1!C2831,0,1)","v":0}]
[{"$f":"IF(Sheet1!C2833>Sheet1!C2832,0,1)","v":0}]
[{"$f":"IF(Sheet1!C2834>Sheet1!C2833,0,1)","v":0}]
[{"$f":"IF(Sheet1!C2835>Sheet1!C2834,0,1)","v":0}]
[{"$f":"IF(Sheet1!C2836>Sheet1!C2835,0,1)","v":0}]
[{"$f":"IF(Sheet1!C2837>Sheet1!C2836,0,1)","v":0}]
[{"$f":"IF(Sheet1!C2838>Sheet1!C2837,0,1)","v":0}]
[{"$f":"IF(Sheet1!C2839>Sheet1!C2838,0,1)","v":0}]
[{"$f":"IF(Sheet1!C2840>Sheet1!C2839,0,1)","v":0}]
[{"$f":"IF(Sheet1!C2841>Sheet1!C2840,0,1)","v":0}]
[{"$f":"IF(Sheet1!C2842>Sheet1!C2841,0,1)","v":0}]
[{"$f":"IF(Sheet1!C2843>Sheet1!C2842,0,1)","v":0}]
[{"$f":"IF(Sheet1!C2844>Sheet1!C2843,0,1)","v":0}]
[{"$f":"IF(Sheet1!C2845>Sheet1!C2844,0,1)","v":0}]
[{"$f":"IF(Sheet1!C2846>Sheet1!C2845,0,1)","v":0}]
[{"$f":"IF(Sheet1!C2847>Sheet1!C2846,0,1)","v":0}]
[{"$f":"IF(Sheet1!C2848>Sheet1!C2847,0,1)","v":0}]
[{"$f":"IF(Sheet1!C2849>Sheet1!C2848,0,1)","v":0}]
[{"$f":"IF(Sheet1!C2850>Sheet1!C2849,0,1)","v":0}]
[{"$f":"IF(Sheet1!C2851>Sheet1!C2850,0,1)","v":0}]
[{"$f":"IF(Sheet1!C2852>Sheet1!C2851,0,1)","v":0}]
[{"$f":"IF(Sheet1!C2853>Sheet1!C2852,0,1)","v":0}]
[{"$f":"IF(Sheet1!C2854>Sheet1!C2853,0,1)","v":0}]
[{"$f":"IF(Sheet1!C2855>Sheet1!C2854,0,1)","v":0}]
[{"$f":"IF(Sheet1!C2856>Sheet1!C2855,0,1)","v":0}]
[{"$f":"IF(Sheet1!C2857>Sheet1!C2856,0,1)","v":0}]
[{"$f":"IF(Sheet1!C2858>Sheet1!C2857,0,1)","v":0}]
[{"$f":"IF(Sheet1!C2859>Sheet1!C2858,0,1)","v":0}]
[{"$f":"IF(Sheet1!C2860>Sheet1!C2859,0,1)","v":0}]
[{"$f":"IF(Sheet1!C2861>Sheet1!C2860,0,1)","v":0}]
[{"$f":"IF(Sheet1!C2862>Sheet1!C2861,0,1)","v":0}]
[{"$f":"IF(Sheet1!C2863>Sheet1!C2862,0,1)","v":0}]
[{"$f":"IF(Sheet1!C2864>Sheet1!C2863,0,1)","v":0}]
[{"$f":"IF(Sheet1!C2865>Sheet1!C2864,0,1)","v":0}]
[{"$f":"IF(Sheet1!C2866>Sheet1!C2865,0,1)","v":0}]
[{"$f":"IF(Sheet1!C2867>Sheet1!C2866,0,1)","v":0}]
[{"$f":"IF(Sheet1!C2868>Sheet1!C2867,0,1)","v":0}]
[{"$f":"IF(Sheet1!C2869>Sheet1!C2868,0,1)","v":0}]
[{"$f":"IF(Sheet1!C2870>Sheet1!C2869,0,1)","v":0}]
[{"$f":"IF(Sheet1!C2871>Sheet1!C2870,0,1)","v":0}]
[{"$f":"IF(Sheet1!C2872>Sheet1!C2871,0,1)","v":0}]
[{"$f":"IF(Sheet1!C2873>Sheet1!C2872,0,1)","v":0}]
[{"$f":"IF(Sheet1!C2874>Sheet1!C2873,0,1)","v":0}]
[{"$f":"IF(Sheet1!C2875>Sheet1!C2874,0,1)","v":0}]
[{"$f":"IF(Sheet1!C2876>Sheet1!C2875,0,1)","v":0}]
[{"$f":"IF(Sheet1!C2877>Sheet1!C2876,0,1)","v":0}]
[{"$f":"IF(Sheet1!C2878>Sheet1!C2877,0,1)","v":0}]
[{"$f":"IF(Sheet1!C2879>Sheet1!C2878,0,1)","v":0}]
[{"$f":"IF(Sheet1!C2880>Sheet1!C2879,0,1)","v":0}]
[{"$f":"IF(Sheet1!C2881>Sheet1!C2880,0,1)","v":0}]
[{"$f":"IF(Sheet1!C2882>Sheet1!C2881,0,1)","v":0}]
[{"$f":"IF(Sheet1!C2883>Sheet1!C2882,0,1)","v":0}]
[{"$f":"IF(Sheet1!C2884>Sheet1!C2883,0,1)","v":0}]
[{"$f":"IF(Sheet1!C2885>Sheet1!C2884,0,1)","v":0}]
[{"$f":"IF(Sheet1!C2886>Sheet1!C2885,0,1)","v":0}]
[{"$f":"IF(Sheet1!C2887>Sheet1!C2886,0,1)","v":0}]
[{"$f":"IF(Sheet1!C2888>Sheet1!C2887,0,1)","v":0}]
[{"$f":"IF(Sheet1!C2889>Sheet1!C2888,0,1)","v":0}]
[{"$f":"IF(Sheet1!C2890>Sheet1!C2889,0,1)","v":0}]
[{"$f":"IF(Sheet1!C2891>Sheet1!C2890,0,1)","v":0}]
[{"$f":"IF(Sheet1!C2892>Sheet1!C2891,0,1)","v":0}]
[{"$f":"IF(Sheet1!C2893>Sheet1!C2892,0,1)","v":0}]
[{"$f":"IF(Sheet1!C2894>Sheet1!C2893,0,1)","v":0}]
[{"$f":"IF(Sheet1!C2895>Sheet1!C2894,0,1)","v":0}]
[{"$f":"IF(Sheet1!C2896>Sheet1!C2895,0,1)","v":0}]
[{"$f":"IF(Sheet1!C2897>Sheet1!C2896,0,1)","v":0}]
[{"$f":"IF(Sheet1!C2898>Sheet1!C2897,0,1)","v":0}]
[{"$f":"IF(Sheet1!C2899>Sheet1!C2898,0,1)","v":0}]
[{"$f":"IF(Sheet1!C2900>Sheet1!C2899,0,1)","v":0}]
[{"$f":"IF(Sheet1!C2901>Sheet1!C2900,0,1)","v":0}]
[{"$f":"IF(Sheet1!C2902>Sheet1!C2901,0,1)","v":0}]
[{"$f":"IF(Sheet1!C2903>Sheet1!C2902,0,1)","v":0}]
[{"$f":"IF(Sheet1!C2904>Sheet1!C2903,0,1)","v":0}]
[{"$f":"IF(Sheet1!C2905>Sheet1!C2904,0,1)","v":0}]
[{"$f":"IF(Sheet1!C2906>Sheet1!C2905,0,1)","v":0}]
[{"$f":"IF(Sheet1!C2907>Sheet1!C2906,0,1)","v":0}]
[{"$f":"IF(Sheet1!C2908>Sheet1!C2907,0,1)","v":0}]
[{"$f":"IF(Sheet1!C2909>Sheet1!C2908,0,1)","v":0}]
[{"$f":"IF(Sheet1!C2910>Sheet1!C2909,0,1)","v":0}]
[{"$f":"IF(Sheet1!C2911>Sheet1!C2910,0,1)","v":0}]
[{"$f":"IF(Sheet1!C2912>Sheet1!C2911,0,1)","v":0}]
[{"$f":"IF(Sheet1!C2913>Sheet1!C2912,0,1)","v":0}]
[{"$f":"IF(Sheet1!C2914>Sheet1!C2913,0,1)","v":0}]
[{"$f":"IF(Sheet1!C2915>Sheet1!C2914,0,1)","v":0}]
[{"$f":"IF(Sheet1!C2916>Sheet1!C2915,0,1)","v":0}]
[{"$f":"IF(Sheet1!C2917>Sheet1!C2916,0,1)","v":0}]
[{"$f":"IF(Sheet1!C2918>Sheet1!C2917,0,1)","v":0}]
[{"$f":"IF(Sheet1!C2919>Sheet1!C2918,0,1)","v":0}]
[{"$f":"IF(Sheet1!C2920>Sheet1!C2919,0,1)","v":0}]
[{"$f":"IF(Sheet1!C2921>Sheet1!C2920,0,1)","v":0}]
[{"$f":"IF(Sheet1!C2922>Sheet1!C2921,0,1)","v":0}]
[{"$f":"IF(Sheet1!C2923>Sheet1!C2922,0,1)","v":0}]
[{"$f":"IF(Sheet1!C2924>Sheet1!C2923,0,1)","v":0}]
[{"$f":"IF(Sheet1!C2925>Sheet1!C2924,0,1)","v":0}]
[{"$f":"IF(Sheet1!C2926>Sheet1!C2925,0,1)","v":0}]
[{"$f":"IF(Sheet1!C2927>Sheet1!C2926,0,1)","v":0}]
[{"$f":"IF(Sheet1!C2928>Sheet1!C2927,0,1)","v":0}]
[{"$f":"IF(Sheet1!C2929>Sheet1!C2928,0,1)","v":0}]
[{"$f":"IF(Sheet1!C2930>Sheet1!C2929,0,1)","v":0}]
[{"$f":"IF(Sheet1!C2931>Sheet1!C2930,0,1)","v":0}]
[{"$f":"IF(Sheet1!C2932>Sheet1!C2931,0,1)","v":0}]
[{"$f":"IF(Sheet1!C2933>Sheet1!C2932,0,1)","v":0}]
[{"$f":"IF(Sheet1!C2934>Sheet1!C2933,0,1)","v":0}]
[{"$f":"IF(Sheet1!C2935>Sheet1!C2934,0,1)","v":0}]
[{"$f":"IF(Sheet1!C2936>Sheet1!C2935,0,1)","v":0}]
[{"$f":"IF(Sheet1!C2937>Sheet1!C2936,0,1)","v":0}]
[{"$f":"IF(Sheet1!C2938>Sheet1!C2937,0,1)","v":0}]
[{"$f":"IF(Sheet1!C2939>Sheet1!C2938,0,1)","v":0}]
[{"$f":"IF(Sheet1!C2940>Sheet1!C2939,0,1)","v":0}]
[{"$f":"IF(Sheet1!C2941>Sheet1!C2940,0,1)","v":0}]
[{"$f":"IF(Sheet1!C2942>Sheet1!C2941,0,1)","v":0}]
[{"$f":"IF(Sheet1!C2943>Sheet1!C2942,0,1)","v":0}]
[{"$f":"IF(Sheet1!C2944>Sheet1!C2943,0,1)","v":0}]
[{"$f":"IF(Sheet1!C2945>Sheet1!C2944,0,1)","v":0}]
[{"$f":"IF(Sheet1!C2946>Sheet1!C2945,0,1)","v":0}]
[{"$f":"IF(Sheet1!C2947>Sheet1!C2946,0,1)","v":0}]
[{"$f":"IF(Sheet1!C2948>Sheet1!C2947,0,1)","v":0}]
[{"$f":"IF(Sheet1!C2949>Sheet1!C2948,0,1)","v":0}]
[{"$f":"IF(Sheet1!C2950>Sheet1!C2949,0,1)","v":0}]
[{"$f":"IF(Sheet1!C2951>Sheet1!C2950,0,1)","v":0}]
[{"$f":"IF(Sheet1!C2952>Sheet1!C2951,0,1)","v":0}]
[{"$f":"IF(Sheet1!C2953>Sheet1!C2952,0,1)","v":0}]
[{"$f":"IF(Sheet1!C2954>Sheet1!C2953,0,1)","v":0}]
[{"$f":"IF(Sheet1!C2955>Sheet1!C2954,0,1)","v":0}]
[{"$f":"IF(Sheet1!C2956>Sheet1!C2955,0,1)","v":0}]
[{"$f":"IF(Sheet1!C2957>Sheet1!C2956,0,1)","v":0}]
[{"$f":"IF(Sheet1!C2958>Sheet1!C2957,0,1)","v":0}]
[{"$f":"IF(Sheet1!C2959>Sheet1!C2958,0,1)","v":0}]
[{"$f":"IF(Sheet1!C2960>Sheet1!C2959,0,1)","v":0}]
[{"$f":"IF(Sheet1!C2961>Sheet1!C2960,0,1)","v":0}]
[{"$f":"IF(Sheet1!C2962>Sheet1!C2961,0,1)","v":0}]
[{"$f":"IF(Sheet1!C2963>Sheet1!C2962,0,1)","v":0}]
[{"$f":"IF(Sheet1!C2964>Sheet1!C2963,0,1)","v":0}]
[{"$f":"IF(Sheet1!C2965>Sheet1!C2964,0,1)","v":0}]
[{"$f":"IF(Sheet1!C2966>Sheet1!C2965,0,1)","v":0}]
[{"$f":"IF(Sheet1!C2967>Sheet1!C2966,0,1)","v":0}]
[{"$f":"IF(Sheet1!C2968>Sheet1!C2967,0,1)","v":0}]
[{"$f":"IF(Sheet1!C2969>Sheet1!C2968,0,1)","v":0}]
[{"$f":"IF(Sheet1!C2970>Sheet1!C2969,0,1)","v":0}]
[{"$f":"IF(Sheet1!C2971>Sheet1!C2970,0,1)","v":0}]
[{"$f":"IF(Sheet1!C2972>Sheet1!C2971,0,1)","v":0}]
[{"$f":"IF(Sheet1!C2973>Sheet1!C2972,0,1)","v":0}]
[{"$f":"IF(Sheet1!C2974>Sheet1!C2973,0,1)","v":0}]
[{"$f":"IF(Sheet1!C2975>Sheet1!C2974,0,1)","v":0}]
[{"$f":"IF(Sheet1!C2976>Sheet1!C2975,0,1)","v":0}]
[{"$f":"IF(Sheet1!C2977>Sheet1!C2976,0,1)","v":0}]
[{"$f":"IF(Sheet1!C2978>Sheet1!C2977,0,1)","v":0}]
[{"$f":"IF(Sheet1!C2979>Sheet1!C2978,0,1)","v":0}]
[{"$f":"IF(Sheet1!C2980>Sheet1!C2979,0,1)","v":0}]
[{"$f":"IF(Sheet1!C2981>Sheet1!C2980,0,1)","v":0}]
[{"$f":"IF(Sheet1!C2982>Sheet1!C2981,0,1)","v":0}]
[{"$f":"IF(Sheet1!C2983>Sheet1!C2982,0,1)","v":0}]
[{"$f":"IF(Sheet1!C2984>Sheet1!C2983,0,1)","v":0}]
[{"$f":"IF(Sheet1!C2985>Sheet1!C2984,0,1)","v":0}]
[{"$f":"IF(Sheet1!C2986>Sheet1!C2985,0,1)","v":0}]
[{"$f":"IF(Sheet1!C2987>Sheet1!C2986,0,1)","v":0}]
[{"$f":"IF(Sheet1!C2988>Sheet1!C2987,0,1)","v":0}]
[{"$f":"IF(Sheet1!C2989>Sheet1!C2988,0,1)","v":0}]
[{"$f":"IF(Sheet1!C2990>Sheet1!C2989,0,1)","v":0}]
[{"$f":"IF(Sheet1!C2991>Sheet1!C2990,0,1)","v":0}]
[{"$f":"IF(Sheet1!C2992>Sheet1!C2991,0,1)","v":0}]
[{"$f":"IF(Sheet1!C2993>Sheet1!C2992,0,1)","v":0}]
[{"$f":"IF(Sheet1!C2994>Sheet1!C2993,0,1)","v":0}]
[{"$f":"IF(Sheet1!C2995>Sheet1!C2994,0,1)","v":0}]
[{"$f":"IF(Sheet1!C2996>Sheet1!C2995,0,1)","v":0}]
[{"$f":"IF(Sheet1!C2997>Sheet1!C2996,0,1)","v":0}]
[{"$f":"IF(Sheet1!C2998>Sheet1!C2997,0,1)","v":0}]
[{"$f":"IF(Sheet1!C2999>Sheet1!C2998,0,1)","v":0}]
[{"$f":"IF(Sheet1!C3000>Sheet1!C2999,0,1)","v":0}]
[{"$f":"IF(Sheet1!C3001>Sheet1!C3000,0,1)","v":0}]
[{"$f":"IF(Sheet1!C3002>Sheet1!C3001,0,1)","v":0}]
[{"$f":"IF(Sheet1!C3003>Sheet1!C3002,0,1)","v":0}]
[{"$f":"IF(Sheet1!C3004>Sheet1!C3003,0,1)","v":0}]
[{"$f":"IF(Sheet1!C3005>Sheet1!C3004,0,1)","v":0}]
[{"$f":"IF(Sheet1!C3006>Sheet1!C3005,0,1)","v":0}]
[{"$f":"IF(Sheet1!C3007>Sheet1!C3006,0,1)","v":0}]
[{"$f":"IF(Sheet1!C3008>Sheet1!C3007,0,1)","v":0}]
[{"$f":"IF(Sheet1!C3009>Sheet1!C3008,0,1)","v":0}]
[{"$f":"IF(Sheet1!C3010>Sheet1!C3009,0,1)","v":0}]
[{"$f":"IF(Sheet1!C3011>Sheet1!C3010,0,1)","v":0}]
[{"$f":"IF(Sheet1!C3012>Sheet1!C3011,0,1)","v":0}]
[{"$f":"IF(Sheet1!C3013>Sheet1!C3012,0,1)","v":0}]
[{"$f":"IF(Sheet1!C3014>Sheet1!C3013,0,1)","v":0}]
[{"$f":"IF(Sheet1!C3015>Sheet1!C3014,0,1)","v":0}]
[{"$f":"IF(Sheet1!C3016>Sheet1!C3015,0,1)","v":0}]
[{"$f":"IF(Sheet1!C3017>Sheet1!C3016,0,1)","v":0}]
[{"$f":"IF(Sheet1!C3018>Sheet1!C3017,0,1)","v":0}]
[{"$f":"IF(Sheet1!C3019>Sheet1!C3018,0,1)","v":0}]
[{"$f":"IF(Sheet1!C3020>Sheet1!C3019,0,1)","v":0}]
[{"$f":"IF(Sheet1!C3021>Sheet1!C3020,0,1)","v":0}]
[{"$f":"IF(Sheet1!C3022>Sheet1!C3021,0,1)","v":0}]
[{"$f":"IF(Sheet1!C3023>Sheet1!C3022,0,1)","v":0}]
[{"$f":"IF(Sheet1!C3024>Sheet1!C3023,0,1)","v":0}]
[{"$f":"IF(Sheet1!C3025>Sheet1!C3024,0,1)","v":0}]
[{"$f":"IF(Sheet1!C3026>Sheet1!C3025,0,1)","v":0}]
[{"$f":"IF(Sheet1!C3027>Sheet1!C3026,0,1)","v":0}]
[{"$f":"IF(Sheet1!C3028>Sheet1!C3027,0,1)","v":0}]
[{"$f":"IF(Sheet1!C3029>Sheet1!C3028,0,1)","v":0}]
[{"$f":"IF(Sheet1!C3030>Sheet1!C3029,0,1)","v":0}]
[{"$f":"IF(Sheet1!C3031>Sheet1!C3030,0,1)","v":0}]
[{"$f":"IF(Sheet1!C3032>Sheet1!C3031,0,1)","v":0}]
[{"$f":"IF(Sheet1!C3033>Sheet1!C3032,0,1)","v":0}]
[{"$f":"IF(Sheet1!C3034>Sheet1!C3033,0,1)","v":0}]
[{"$f":"IF(Sheet1!C3035>Sheet1!C3034,0,1)","v":0}]
[{"$f":"IF(Sheet1!C3036>Sheet1!C3035,0,1)","v":0}]
[{"$f":"IF(Sheet1!C3037>Sheet1!C3036,0,1)","v":0}]
[{"$f":"IF(Sheet1!C3038>Sheet1!C3037,0,1)","v":0}]
[{"$f":"IF(Sheet1!C3039>Sheet1!C3038,0,1)","v":0}]
[{"$f":"IF(Sheet1!C3040>Sheet1!C3039,0,1)","v":0}]
[{"$f":"IF(Sheet1!C3041>Sheet1!C3040,0,1)","v":0}]
[{"$f":"IF(Sheet1!C3042>Sheet1!C3041,0,1)","v":0}]
[{"$f":"IF(Sheet1!C3043>Sheet1!C3042,0,1)","v":0}]
[{"$f":"IF(Sheet1!C3044>Sheet1!C3043,0,1)","v":0}]
[{"$f":"IF(Sheet1!C3045>Sheet1!C3044,0,1)","v":0}]
[{"$f":"IF(Sheet1!C3046>Sheet1!C3045,0,1)","v":0}]
[{"$f":"IF(Sheet1!C3047>Sheet1!C3046,0,1)","v":0}]
[{"$f":"IF(Sheet1!C3048>Sheet1!C3047,0,1)","v":0}]
[{"$f":"IF(Sheet1!C3049>Sheet1!C3048,0,1)","v":0}]
[{"$f":"IF(Sheet1!C3050>Sheet1!C3049,0,1)","v":0}]
[{"$f":"IF(Sheet1!C3051>Sheet1!C3050,0,1)","v":0}]
[{"$f":"IF(Sheet1!C3052>Sheet1!C3051,0,1)","v":0}]
[{"$f":"IF(Sheet1!C3053>Sheet1!C3052,0,1)","v":0}]
[{"$f":"IF(Sheet1!C3054>Sheet1!C3053,0,1)","v":0}]
[{"$f":"IF(Sheet1!C3055>Sheet1!C3054,0,1)","v":0}]
[{"$f":"IF(Sheet1!C3056>Sheet1!C3055,0,1)","v":0}]
[{"$f":"IF(Sheet1!C3057>Sheet1!C3056,0,1)","v":0}]
[{"$f":"IF(Sheet1!C3058>Sheet1!C3057,0,1)","v":0}]
[{"$f":"IF(Sheet1!C3059>Sheet1!C3058,0,1)","v":0}]
[{"$f":"IF(Sheet1!C3060>Sheet1!C3059,0,1)","v":0}]
[{"$f":"IF(Sheet1!C3061>Sheet1!C3060,0,1)","v":0}]
[{"$f":"IF(Sheet1!C3062>Sheet1!C3061,0,1)","v":0}]
[{"$f":"IF(Sheet1!C3063>Sheet1!C3062,0,1)","v":0}]
[{"$f":"IF(Sheet1!C3064>Sheet1!C3063,0,1)","v":0}]
[{"$f":"IF(Sheet1!C3065>Sheet1!C3064,0,1)","v":0}]
[{"$f":"IF(Sheet1!C3066>Sheet1!C3065,0,1)","v":0}]
[{"$f":"IF(Sheet1!C3067>Sheet1!C3066,0,1)","v":0}]
[{"$f":"IF(Sheet1!C3068>Sheet1!C3067,0,1)","v":0}]
[{"$f":"IF(Sheet1!C3069>Sheet1!C3068,0,1)","v":0}]
[{"$f":"IF(Sheet1!C3070>Sheet1!C3069,0,1)","v":0}]
[{"$f":"IF(Sheet1!C3071>Sheet1!C3070,0,1)","v":0}]
[{"$f":"IF(Sheet1!C3072>Sheet1!C3071,0,1)","v":0}]
[{"$f":"IF(Sheet1!C3073>Sheet1!C3072,0,1)","v":0}]
[{"$f":"IF(Sheet1!C3074>Sheet1!C3073,0,1)","v":0}]
[{"$f":"IF(Sheet1!C3075>Sheet1!C3074,0,1)","v":0}]
[{"$f":"IF(Sheet1!C3076>Sheet1!C3075,0,1)","v":0}]
[{"$f":"IF(Sheet1!C3077>Sheet1!C3076,0,1)","v":0}]
[{"$f":"IF(Sheet1!C3078>Sheet1!C3077,0,1)","v":0}]
[{"$f":"IF(Sheet1!C3079>Sheet1!C3078,0,1)","v":0}]
[{"$f":"IF(Sheet1!C3080>Sheet1!C3079,0,1)","v":0}]
[{"$f":"IF(Sheet1!C3081>Sheet1!C3080,0,1)","v":0}]
[{"$f":"IF(Sheet1!C3082>Sheet1!C3081,0,1)","v":0}]
[{"$f":"IF(Sheet1!C3083>Sheet1!C3082,0,1)","v":0}]
[{"$f":"IF(Sheet1!C3084>Sheet1!C3083,0,1)","v":0}]
[{"$f":"IF(Sheet1!C3085>Sheet1!C3084,0,1)","v":0}]
[{"$f":"IF(Sheet1!C3086>Sheet1!C3085,0,1)","v":0}]
[{"$f":"IF(Sheet1!C3087>Sheet1!C3086,0,1)","v":0}]
[{"$f":"IF(Sheet1!C3088>Sheet1!C3087,0,1)","v":0}]
[{"$f":"IF(Sheet1!C3089>Sheet1!C3088,0,1)","v":0}]
[{"$f":"IF(Sheet1!C3090>Sheet1!C3089,0,1)","v":0}]
[{"$f":"IF(Sheet1!C3091>Sheet1!C3090,0,1)","v":0}]
[{"$f":"IF(Sheet1!C3092>Sheet1!C3091,0,1)","v":0}]
[{"$f":"IF(Sheet1!C3093>Sheet1!C3092,0,1)","v":0}]
[{"$f":"IF(Sheet1!C3094>Sheet1!C3093,0,1)","v":0}]
[{"$f":"IF(Sheet1!C3095>Sheet1!C3094,0,1)","v":0}]
[{"$f":"IF(Sheet1!C3096>Sheet1!C3095,0,1)","v":0}]
[{"$f":"IF(Sheet1!C3097>Sheet1!C3096,0,1)","v":0}]
[{"$f":"IF(Sheet1!C3098>Sheet1!C3097,0,1)","v":0}]
[{"$f":"IF(Sheet1!C3099>Sheet1!C3098,0,1)","v":0}]
[{"$f":"IF(Sheet1!C3100>Sheet1!C3099,0,1)","v":0}]
[{"$f":"IF(Sheet1!C3101>Sheet1!C3100,0,1)","v":0}]
[{"$f":"IF(Sheet1!C3102>Sheet1!C3101,0,1)","v":0}]
[{"$f":"IF(Sheet1!C3103>Sheet1!C3102,0,1)","v":0}]
[{"$f":"IF(Sheet1!C3104>Sheet1!C3103,0,1)","v":0}]
[{"$f":"IF(Sheet1!C3105>Sheet1!C3104,0,1)","v":0}]
[{"$f":"IF(Sheet1!C3106>Sheet1!C3105,0,1)","v":0}]
[{"$f":"IF(Sheet1!C3107>Sheet1!C3106,0,1)","v":0}]
[{"$f":"IF(Sheet1!C3108>Sheet1!C3107,0,1)","v":0}]
[{"$f":"IF(Sheet1!C3109>Sheet1!C3108,0,1)","v":0}]
[{"$f":"IF(Sheet1!C3110>Sheet1!C3109,0,1)","v":0}]
[{"$f":"IF(Sheet1!C3111>Sheet1!C3110,0,1)","v":0}]
[{"$f":"IF(Sheet1!C3112>Sheet1!C3111,0,1)","v":0}]
[{"$f":"IF(Sheet1!C3113>Sheet1!C3112,0,1)","v":0}]
[{"$f":"IF(Sheet1!C3114>Sheet1!C3113,0,1)","v":0}]
[{"$f":"IF(Sheet1!C3115>Sheet1!C3114,0,1)","v":0}]
[{"$f":"IF(Sheet1!C3116>Sheet1!C3115,0,1)","v":0}]
[{"$f":"IF(Sheet1!C3117>Sheet1!C3116,0,1)","v":0}]
[{"$f":"IF(Sheet1!C3118>Sheet1!C3117,0,1)","v":0}]
[{"$f":"IF(Sheet1!C3119>Sheet1!C3118,0,1)","v":0}]
[{"$f":"IF(Sheet1!C3120>Sheet1!C3119,0,1)","v":0}]
[{"$f":"IF(Sheet1!C3121>Sheet1!C3120,0,1)","v":0}]
[{"$f":"IF(Sheet1!C3122>Sheet1!C3121,0,1)","v":0}]
[{"$f":"IF(Sheet1!C3123>Sheet1!C3122,0,1)","v":0}]
[{"$f":"IF(Sheet1!C3124>Sheet1!C3123,0,1)","v":0}]
[{"$f":"IF(Sheet1!C3125>Sheet1!C3124,0,1)","v":0}]
[{"$f":"IF(Sheet1!C3126>Sheet1!C3125,0,1)","v":0}]
[{"$f":"IF(Sheet1!C3127>Sheet1!C3126,0,1)","v":0}]
[{"$f":"IF(Sheet1!C3128>Sheet1!C3127,0,1)","v":0}]
[{"$f":"IF(Sheet1!C3129>Sheet1!C3128,0,1)","v":0}]
[{"$f":"IF(Sheet1!C3130>Sheet1!C3129,0,1)","v":0}]
[{"$f":"IF(Sheet1!C3131>Sheet1!C3130,0,1)","v":0}]
[{"$f":"IF(Sheet1!C3132>Sheet1!C3131,0,1)","v":0}]
[{"$f":"IF(Sheet1!C3133>Sheet1!C3132,0,1)","v":0}]
[{"$f":"IF(Sheet1!C3134>Sheet1!C3133,0,1)","v":0}]
[{"$f":"IF(Sheet1!C3135>Sheet1!C3134,0,1)","v":0}]
[{"$f":"IF(Sheet1!C3136>Sheet1!C3135,0,1)","v":0}]
[{"$f":"IF(Sheet1!C3137>Sheet1!C3136,0,1)","v":0}]
[{"$f":"IF(Sheet1!C3138>Sheet1!C3137,0,1)","v":0}]
[{"$f":"IF(Sheet1!C3139>Sheet1!C3138,0,1)","v":0}]
[{"$f":"IF(Sheet1!C3140>Sheet1!C3139,0,1)","v":0}]
[{"$f":"IF(Sheet1!C3141>Sheet1!C3140,0,1)","v":0}]
[{"$f":"IF(Sheet1!C3142>Sheet1!C3141,0,1)","v":0}]
[{"$f":"IF(Sheet1!C3143>Sheet1!C3142,0,1)","v":0}]
[{"$f":"IF(Sheet1!C3144>Sheet1!C3143,0,1)","v":0}]
[{"$f":"IF(Sheet1!C3145>Sheet1!C3144,0,1)","v":0}]
[{"$f":"IF(Sheet1!C3146>Sheet1!C3145,0,1)","v":0}]
[{"$f":"IF(Sheet1!C3147>Sheet1!C3146,0,1)","v":0}]
[{"$f":"IF(Sheet1!C3148>Sheet1!C3147,0,1)","v":0}]
[{"$f":"IF(Sheet1!C3149>Sheet1!C3148,0,1)","v":0}]
[{"$f":"IF(Sheet1!C3150>Sheet1!C3149,0,1)","v":0}]
[{"$f":"IF(Sheet1!C3151>Sheet1!C3150,0,1)","v":0}]
[{"$f":"IF(Sheet1!C3152>Sheet1!C3151,0,1)","v":0}]
[{"$f":"IF(Sheet1!C3153>Sheet1!C3152,0,1)","v":0}]
[{"$f":"IF(Sheet1!C3154>Sheet1!C3153,0,1)","v":0}]
[{"$f":"IF(Sheet1!C3155>Sheet1!C3154,0,1)","v":0}]
[{"$f":"IF(Sheet1!C3156>Sheet1!C3155,0,1)","v":0}]
[{"$f":"IF(Sheet1!C3157>Sheet1!C3156,0,1)","v":0}]
[{"$f":"IF(Sheet1!C3158>Sheet1!C3157,0,1)","v":0}]
[{"$f":"IF(Sheet1!C3159>Sheet1!C3158,0,1)","v":0}]
[{"$f":"IF(Sheet1!C3160>Sheet1!C3159,0,1)","v":0}]
[{"$f":"IF(Sheet1!C3161>Sheet1!C3160,0,1)","v":0}]
[{"$f":"IF(Sheet1!C3162>Sheet1!C3161,0,1)","v":0}]
[{"$f":"IF(Sheet1!C3163>Sheet1!C3162,0,1)","v":0}]
[{"$f":"IF(Sheet1!C3164>Sheet1!C3163,0,1)","v":0}]
[{"$f":"IF(Sheet1!C3165>Sheet1!C3164,0,1)","v":0}]
[{"$f":"IF(Sheet1!C3166>Sheet1!C3165,0,1)","v":0}]
[{"$f":"IF(Sheet1!C3167>Sheet1!C3166,0,1)","v":0}]
[{"$f":"IF(Sheet1!C3168>Sheet1!C3167,0,1)","v":0}]
[{"$f":"IF(Sheet1!C3169>Sheet1!C3168,0,1)","v":0}]
[{"$f":"IF(Sheet1!C3170>Sheet1!C3169,0,1)","v":0}]
[{"$f":"IF(Sheet1!C3171>Sheet1!C3170,0,1)","v":0}]
[{"$f":"IF(Sheet1!C3172>Sheet1!C3171,0,1)","v":0}]
[{"$f":"IF(Sheet1!C3173>Sheet1!C3172,0,1)","v":0}]
[{"$f":"IF(Sheet1!C3174>Sheet1!C3173,0,1)","v":0}]
[{"$f":"IF(Sheet1!C3175>Sheet1!C3174,0,1)","v":0}]
[{"$f":"IF(Sheet1!C3176>Sheet1!C3175,0,1)","v":0}]
[{"$f":"IF(Sheet1!C3177>Sheet1!C3176,0,1)","v":0}]
[{"$f":"IF(Sheet1!C3178>Sheet1!C3177,0,1)","v":0}]
[{"$f":"IF(Sheet1!C3179>Sheet1!C3178,0,1)","v":0}]
[{"$f":"IF(Sheet1!C3180>Sheet1!C3179,0,1)","v":0}]
[{"$f":"IF(Sheet1!C3181>Sheet1!C3180,0,1)","v":0}]
[{"$f":"IF(Sheet1!C3182>Sheet1!C3181,0,1)","v":0}]
[{"$f":"IF(Sheet1!C3183>Sheet1!C3182,0,1)","v":0}]
[{"$f":"IF(Sheet1!C3184>Sheet1!C3183,0,1)","v":0}]
[{"$f":"IF(Sheet1!C3185>Sheet1!C3184,0,1)","v":0}]
[{"$f":"IF(Sheet1!C3186>Sheet1!C3185,0,1)","v":0}]
[{"$f":"IF(Sheet1!C3187>Sheet1!C3186,0,1)","v":0}]
[{"$f":"IF(Sheet1!C3188>Sheet1!C3187,0,1)","v":0}]
[{"$f":"IF(Sheet1!C3189>Sheet1!C3188,0,1)","v":0}]
[{"$f":"IF(Sheet1!C3190>Sheet1!C3189,0,1)","v":0}]
[{"$f":"IF(Sheet1!C3191>Sheet1!C3190,0,1)","v":0}]
[{"$f":"IF(Sheet1!C3192>Sheet1!C3191,0,1)","v":0}]
[{"$f":"IF(Sheet1!C3193>Sheet1!C3192,0,1)","v":0}]
[{"$f":"IF(Sheet1!C3194>Sheet1!C3193,0,1)","v":0}]
[{"$f":"IF(Sheet1!C3195>Sheet1!C3194,0,1)","v":0}]
[{"$f":"IF(Sheet1!C3196>Sheet1!C3195,0,1)","v":0}]
[{"$f":"IF(Sheet1!C3197>Sheet1!C3196,0,1)","v":0}]
[{"$f":"IF(Sheet1!C3198>Sheet1!C3197,0,1)","v":0}]
[{"$f":"IF(Sheet1!C3199>Sheet1!C3198,0,1)","v":0}]
[{"$f":"IF(Sheet1!C3200>Sheet1!C3199,0,1)","v":0}]
[{"$f":"IF(Sheet1!C3201>Sheet1!C3200,0,1)","v":0}]
[{"$f":"IF(Sheet1!C3202>Sheet1!C3201,0,1)","v":0}]
[{"$f":"IF(Sheet1!C3203>Sheet1!C3202,0,1)","v":0}]
[{"$f":"IF(Sheet1!C3204>Sheet1!C3203,0,1)","v":0}]
[{"$f":"IF(Sheet1!C3205>Sheet1!C3204,0,1)","v":0}]
[{"$f":"IF(Sheet1!C3206>Sheet1!C3205,0,1)","v":0}]
[{"$f":"IF(Sheet1!C3207>Sheet1!C3206,0,1)","v":0}]
[{"$f":"IF(Sheet1!C3208>Sheet1!C3207,0,1)","v":0}]
[{"$f":"IF(Sheet1!C3209>Sheet1!C3208,0,1)","v":0}]
[{"$f":"IF(Sheet1!C3210>Sheet1!C3209,0,1)","v":0}]
[{"$f":"IF(Sheet1!C3211>Sheet1!C3210,0,1)","v":0}]
[{"$f":"IF(Sheet1!C3212>Sheet1!C3211,0,1)","v":0}]
[{"$f":"IF(Sheet1!C3213>Sheet1!C3212,0,1)","v":0}]
[{"$f":"IF(Sheet1!C3214>Sheet1!C3213,0,1)","v":0}]
[{"$f":"IF(Sheet1!C3215>Sheet1!C3214,0,1)","v":0}]
[{"$f":"IF(Sheet1!C3216>Sheet1!C3215,0,1)","v":0}]
[{"$f":"IF(Sheet1!C3217>Sheet1!C3216,0,1)","v":0}]
[{"$f":"IF(Sheet1!C3218>Sheet1!C3217,0,1)","v":0}]
[{"$f":"IF(Sheet1!C3219>Sheet1!C3218,0,1)","v":0}]
[{"$f":"IF(Sheet1!C3220>Sheet1!C3219,0,1)","v":0}]
[{"$f":"IF(Sheet1!C3221>Sheet1!C3220,0,1)","v":0}]
[{"$f":"IF(Sheet1!C3222>Sheet1!C3221,0,1)","v":0}]
[{"$f":"IF(Sheet1!C3223>Sheet1!C3222,0,1)","v":0}]
[{"$f":"IF(Sheet1!C3224>Sheet1!C3223,0,1)","v":0}]
[{"$f":"IF(Sheet1!C3225>Sheet1!C3224,0,1)","v":0}]
[{"$f":"IF(Sheet1!C3226>Sheet1!C3225,0,1)","v":0}]
[{"$f":"IF(Sheet1!C3227>Sheet1!C3226,0,1)","v":0}]
[{"$f":"IF(Sheet1!C3228>Sheet1!C3227,0,1)","v":0}]
[{"$f":"IF(Sheet1!C3229>Sheet1!C3228,0,1)","v":0}]
[{"$f":"IF(Sheet1!C3230>Sheet1!C3229,0,1)","v":0}]
[{"$f":"IF(Sheet1!C3231>Sheet1!C3230,0,1)","v":0}]
[{"$f":"IF(Sheet1!C3232>Sheet1!C3231,0,1)","v":0}]
[{"$f":"IF(Sheet1!C3233>Sheet1!C3232,0,1)","v":0}]
[{"$f":"IF(Sheet1!C3234>Sheet1!C3233,0,1)","v":0}]
[{"$f":"IF(Sheet1!C3235>Sheet1!C3234,0,1)","v":0}]
[{"$f":"IF(Sheet1!C3236>Sheet1!C3235,0,1)","v":0}]
[{"$f":"IF(Sheet1!C3237>Sheet1!C3236,0,1)","v":0}]
[{"$f":"IF(Sheet1!C3238>Sheet1!C3237,0,1)","v":0}]
[{"$f":"IF(Sheet1!C3239>Sheet1!C3238,0,1)","v":0}]
[{"$f":"IF(Sheet1!C3240>Sheet1!C3239,0,1)","v":0}]
[{"$f":"IF(Sheet1!C3241>Sheet1!C3240,0,1)","v":0}]
[{"$f":"IF(Sheet1!C3242>Sheet1!C3241,0,1)","v":0}]
[{"$f":"IF(Sheet1!C3243>Sheet1!C3242,0,1)","v":0}]
[{"$f":"IF(Sheet1!C3244>Sheet1!C3243,0,1)","v":0}]
[{"$f":"IF(Sheet1!C3245>Sheet1!C3244,0,1)","v":0}]
[{"$f":"IF(Sheet1!C3246>Sheet1!C3245,0,1)","v":0}]
[{"$f":"IF(Sheet1!C3247>Sheet1!C3246,0,1)","v":0}]
[{"$f":"IF(Sheet1!C3248>Sheet1!C3247,0,1)","v":0}]
[{"$f":"IF(Sheet1!C3249>Sheet1!C3248,0,1)","v":0}]
[{"$f":"IF(Sheet1!C3250>Sheet1!C3249,0,1)","v":0}]
[{"$f":"IF(Sheet1!C3251>Sheet1!C3250,0,1)","v":0}]
[{"$f":"IF(Sheet1!C3252>Sheet1!C3251,0,1)","v":0}]
[{"$f":"IF(Sheet1!C3253>Sheet1!C3252,0,1)","v":0}]
[{"$f":"IF(Sheet1!C3254>Sheet1!C3253,0,1)","v":0}]
[{"$f":"IF(Sheet1!C3255>Sheet1!C3254,0,1)","v":0}]
[{"$f":"IF(Sheet1!C3256>Sheet1!C3255,0,1)","v":0}]
[{"$f":"IF(Sheet1!C3257>Sheet1!C3256,0,1)","v":0}]
[{"$f":"IF(Sheet1!C3258>Sheet1!C3257,0,1)","v":0}]
[{"$f":"IF(Sheet1!C3259>Sheet1!C3258,0,1)","v":0}]
[{"$f":"IF(Sheet1!C3260>Sheet1!C3259,0,1)","v":0}]
[{"$f":"IF(Sheet1!C3261>Sheet1!C3260,0,1)","v":0}]
[{"$f":"IF(Sheet1!C3262>Sheet1!C3261,0,1)","v":0}]
[{"$f":"IF(Sheet1!C3263>Sheet1!C3262,0,1)","v":0}]
[{"$f":"IF(Sheet1!C3264>Sheet1!C3263,0,1)","v":0}]
[{"$f":"IF(Sheet1!C3265>Sheet1!C3264,0,1)","v":0}]
[{"$f":"IF(Sheet1!C3266>Sheet1!C3265,0,1)","v":0}]
[{"$f":"IF(Sheet1!C3267>Sheet1!C3266,0,1)","v":0}]
[{"$f":"IF(Sheet1!C3268>Sheet1!C3267,0,1)","v":0}]
[{"$f":"IF(Sheet1!C3269>Sheet1!C3268,0,1)","v":0}]
[{"$f":"IF(Sheet1!C3270>Sheet1!C3269,0,1)","v":0}]
[{"$f":"IF(Sheet1!C3271>Sheet1!C3270,0,1)","v":0}]
[{"$f":"IF(Sheet1!C3272>Sheet1!C3271,0,1)","v":0}]
[{"$f":"IF(Sheet1!C3273>Sheet1!C3272,0,1)","v":0}]
[{"$f":"IF(Sheet1!C3274>Sheet1!C3273,0,1)","v":0}]
[{"$f":"IF(Sheet1!C3275>Sheet1!C3274,0,1)","v":0}]
[{"$f":"IF(Sheet1!C3276>Sheet1!C3275,0,1)","v":0}]
[{"$f":"IF(Sheet1!C3277>Sheet1!C3276,0,1)","v":0}]
[{"$f":"IF(Sheet1!C3278>Sheet1!C3277,0,1)","v":0}]
[{"$f":"IF(Sheet1!C3279>Sheet1!C3278,0,1)","v":0}]
[{"$f":"IF(Sheet1!C3280>Sheet1!C3279,0,1)","v":0}]
[{"$f":"IF(Sheet1!C3281>Sheet1!C3280,0,1)","v":0}]
[{"$f":"IF(Sheet1!C3282>Sheet1!C3281,0,1)","v":0}]
[{"$f":"IF(Sheet1!C3283>Sheet1!C3282,0,1)","v":0}]
[{"$f":"IF(Sheet1!C3284>Sheet1!C3283,0,1)","v":0}]
[{"$f":"IF(Sheet1!C3285>Sheet1!C3284,0,1)","v":0}]
[{"$f":"IF(Sheet1!C3286>Sheet1!C3285,0,1)","v":0}]
[{"$f":"IF(Sheet1!C3287>Sheet1!C3286,0,1)","v":0}]
[{"$f":"IF(Sheet1!C3288>Sheet1!C3287,0,1)","v":0}]
[{"$f":"IF(Sheet1!C3289>Sheet1!C3288,0,1)","v":0}]
[{"$f":"IF(Sheet1!C3290>Sheet1!C3289,0,1)","v":0}]
[{"$f":"IF(Sheet1!C3291>Sheet1!C3290,0,1)","v":0}]
[{"$f":"IF(Sheet1!C3292>Sheet1!C3291,0,1)","v":0}]
[{"$f":"IF(Sheet1!C3293>Sheet1!C3292,0,1)","v":0}]
[{"$f":"IF(Sheet1!C3294>Sheet1!C3293,0,1)","v":0}]
[{"$f":"IF(Sheet1!C3295>Sheet1!C3294,0,1)","v":0}]
[{"$f":"IF(Sheet1!C3296>Sheet1!C3295,0,1)","v":0}]
[{"$f":"IF(Sheet1!C3297>Sheet1!C3296,0,1)","v":0}]
[{"$f":"IF(Sheet1!C3298>Sheet1!C3297,0,1)","v":0}]
[{"$f":"IF(Sheet1!C3299>Sheet1!C3298,0,1)","v":0}]
[{"$f":"IF(Sheet1!C3300>Sheet1!C3299,0,1)","v":0}]
[{"$f":"IF(Sheet1!C3301>Sheet1!C3300,0,1)","v":0}]
[{"$f":"IF(Sheet1!C3302>Sheet1!C3301,0,1)","v":0}]
[{"$f":"IF(Sheet1!C3303>Sheet1!C3302,0,1)","v":0}]
[{"$f":"IF(Sheet1!C3304>Sheet1!C3303,0,1)","v":0}]
[{"$f":"IF(Sheet1!C3305>Sheet1!C3304,0,1)","v":0}]
[{"$f":"IF(Sheet1!C3306>Sheet1!C3305,0,1)","v":0}]
[{"$f":"IF(Sheet1!C3307>Sheet1!C3306,0,1)","v":0}]
[{"$f":"IF(Sheet1!C3308>Sheet1!C3307,0,1)","v":0}]
[{"$f":"IF(Sheet1!C3309>Sheet1!C3308,0,1)","v":0}]
[{"$f":"IF(Sheet1!C3310>Sheet1!C3309,0,1)","v":0}]
[{"$f":"IF(Sheet1!C3311>Sheet1!C3310,0,1)","v":0}]
[{"$f":"IF(Sheet1!C3312>Sheet1!C3311,0,1)","v":0}]
[{"$f":"IF(Sheet1!C3313>Sheet1!C3312,0,1)","v":0}]
[{"$f":"IF(Sheet1!C3314>Sheet1!C3313,0,1)","v":0}]
[{"$f":"IF(Sheet1!C3315>Sheet1!C3314,0,1)","v":0}]
[{"$f":"IF(Sheet1!C3316>Sheet1!C3315,0,1)","v":0}]
[{"$f":"IF(Sheet1!C3317>Sheet1!C3316,0,1)","v":0}]
[{"$f":"IF(Sheet1!C3318>Sheet1!C3317,0,1)","v":0}]
[{"$f":"IF(Sheet1!C3319>Sheet1!C3318,0,1)","v":0}]
[{"$f":"IF(Sheet1!C3320>Sheet1!C3319,0,1)","v":0}]
[{"$f":"IF(Sheet1!C3321>Sheet1!C3320,0,1)","v":0}]
[{"$f":"IF(Sheet1!C3322>Sheet1!C3321,0,1)","v":0}]
[{"$f":"IF(Sheet1!C3323>Sheet1!C3322,0,1)","v":0}]
[{"$f":"IF(Sheet1!C3324>Sheet1!C3323,0,1)","v":0}]
[{"$f":"IF(Sheet1!C3325>Sheet1!C3324,0,1)","v":0}]
[{"$f":"IF(Sheet1!C3326>Sheet1!C3325,0,1)","v":0}]
[{"$f":"IF(Sheet1!C3327>Sheet1!C3326,0,1)","v":0}]
[{"$f":"IF(Sheet1!C3328>Sheet1!C3327,0,1)","v":0}]
[{"$f":"IF(Sheet1!C3329>Sheet1!C3328,0,1)","v":0}]
[{"$f":"IF(Sheet1!C3330>Sheet1!C3329,0,1)","v":0}]
[{"$f":"IF(Sheet1!C3331>Sheet1!C3330,0,1)","v":0}]
[{"$f":"IF(Sheet1!C3332>Sheet1!C3331,0,1)","v":0}]
[{"$f":"IF(Sheet1!C3333>Sheet1!C3332,0,1)","v":0}]
[{"$f":"IF(Sheet1!C3334>Sheet1!C3333,0,1)","v":0}]
[{"$f":"IF(Sheet1!C3335>Sheet1!C3334,0,1)","v":0}]
[{"$f":"IF(Sheet1!C3336>Sheet1!C3335,0,1)","v":0}]
[{"$f":"IF(Sheet1!C3337>Sheet1!C3336,0,1)","v":0}]
[{"$f":"IF(Sheet1!C3338>Sheet1!C3337,0,1)","v":0}]
[{"$f":"IF(Sheet1!C3339>Sheet1!C3338,0,1)","v":0}]
[{"$f":"IF(Sheet1!C3340>Sheet1!C3339,0,1)","v":0}]
[{"$f":"IF(Sheet1!C3341>Sheet1!C3340,0,1)","v":0}]
[{"$f":"IF(Sheet1!C3342>Sheet1!C3341,0,1)","v":0}]
[{"$f":"IF(Sheet1!C3343>Sheet1!C3342,0,1)","v":0}]
[{"$f":"IF(Sheet1!C3344>Sheet1!C3343,0,1)","v":0}]
[{"$f":"IF(Sheet1!C3345>Sheet1!C3344,0,1)","v":0}]
[{"$f":"IF(Sheet1!C3346>Sheet1!C3345,0,1)","v":0}]
[{"$f":"IF(Sheet1!C3347>Sheet1!C3346,0,1)","v":0}]
[{"$f":"IF(Sheet1!C3348>Sheet1!C3347,0,1)","v":0}]
[{"$f":"IF(Sheet1!C3349>Sheet1!C3348,0,1)","v":0}]
[{"$f":"IF(Sheet1!C3350>Sheet1!C3349,0,1)","v":0}]
[{"$f":"IF(Sheet1!C3351>Sheet1!C3350,0,1)","v":0}]
[{"$f":"IF(Sheet1!C3352>Sheet1!C3351,0,1)","v":0}]
[{"$f":"IF(Sheet1!C3353>Sheet1!C3352,0,1)","v":0}]
[{"$f":"IF(Sheet1!C3354>Sheet1!C3353,0,1)","v":0}]
[{"$f":"IF(Sheet1!C3355>Sheet1!C3354,0,1)","v":0}]
[{"$f":"IF(Sheet1!C3356>Sheet1!C3355,0,1)","v":0}]
[{"$f":"IF(Sheet1!C3357>Sheet1!C3356,0,1)","v":0}]
[{"$f":"IF(Sheet1!C3358>Sheet1!C3357,0,1)","v":0}]
[{"$f":"IF(Sheet1!C3359>Sheet1!C3358,0,1)","v":0}]
[{"$f":"IF(Sheet1!C3360>Sheet1!C3359,0,1)","v":0}]
[{"$f":"IF(Sheet1!C3361>Sheet1!C3360,0,1)","v":0}]
[{"$f":"IF(Sheet1!C3362>Sheet1!C3361,0,1)","v":0}]
[{"$f":"IF(Sheet1!C3363>Sheet1!C3362,0,1)","v":0}]
[{"$f":"IF(Sheet1!C3364>Sheet1!C3363,0,1)","v":0}]
[{"$f":"IF(Sheet1!C3365>Sheet1!C3364,0,1)","v":0}]
[{"$f":"IF(Sheet1!C3366>Sheet1!C3365,0,1)","v":0}]
[{"$f":"IF(Sheet1!C3367>Sheet1!C3366,0,1)","v":0}]
[{"$f":"IF(Sheet1!C3368>Sheet1!C3367,0,1)","v":0}]
[{"$f":"IF(Sheet1!C3369>Sheet1!C3368,0,1)","v":0}]
[{"$f":"IF(Sheet1!C3370>Sheet1!C3369,0,1)","v":0}]
[{"$f":"IF(Sheet1!C3371>Sheet1!C3370,0,1)","v":0}]
[{"$f":"IF(Sheet1!C3372>Sheet1!C3371,0,1)","v":0}]
[{"$f":"IF(Sheet1!C3373>Sheet1!C3372,0,1)","v":0}]
[{"$f":"IF(Sheet1!C3374>Sheet1!C3373,0,1)","v":0}]
[{"$f":"IF(Sheet1!C3375>Sheet1!C3374,0,1)","v":0}]
[{"$f":"IF(Sheet1!C3376>Sheet1!C3375,0,1)","v":0}]
[{"$f":"IF(Sheet1!C3377>Sheet1!C3376,0,1)","v":0}]
[{"$f":"IF(Sheet1!C3378>Sheet1!C3377,0,1)","v":0}]
[{"$f":"IF(Sheet1!C3379>Sheet1!C3378,0,1)","v":0}]
[{"$f":"IF(Sheet1!C3380>Sheet1!C3379,0,1)","v":0}]
[{"$f":"IF(Sheet1!C3381>Sheet1!C3380,0,1)","v":0}]
[{"$f":"IF(Sheet1!C3382>Sheet1!C3381,0,1)","v":0}]
[{"$f":"IF(Sheet1!C3383>Sheet1!C3382,0,1)","v":0}]
[{"$f":"IF(Sheet1!C3384>Sheet1!C3383,0,1)","v":0}]
[{"$f":"IF(Sheet1!C3385>Sheet1!C3384,0,1)","v":0}]
[{"$f":"IF(Sheet1!C3386>Sheet1!C3385,0,1)","v":0}]
[{"$f":"IF(Sheet1!C3387>Sheet1!C3386,0,1)","v":0}]
[{"$f":"IF(Sheet1!C3388>Sheet1!C3387,0,1)","v":0}]
[{"$f":"IF(Sheet1!C3389>Sheet1!C3388,0,1)","v":0}]
[{"$f":"IF(Sheet1!C3390>Sheet1!C3389,0,1)","v":0}]
[{"$f":"IF(Sheet1!C3391>Sheet1!C3390,0,1)","v":0}]
[{"$f":"IF(Sheet1!C3392>Sheet1!C3391,0,1)","v":0}]
[{"$f":"IF(Sheet1!C3393>Sheet1!C3392,0,1)","v":0}]
[{"$f":"IF(Sheet1!C3394>Sheet1!C3393,0,1)","v":0}]
[{"$f":"IF(Sheet1!C3395>Sheet1!C3394,0,1)","v":0}]
[{"$f":"IF(Sheet1!C3396>Sheet1!C3395,0,1)","v":0}]
[{"$f":"IF(Sheet1!C3397>Sheet1!C3396,0,1)","v":0}]
[{"$f":"IF(Sheet1!C3398>Sheet1!C3397,0,1)","v":0}]
[{"$f":"IF(Sheet1!C3399>Sheet1!C3398,0,1)","v":0}]
[{"$f":"IF(Sheet1!C3400>Sheet1!C3399,0,1)","v":0}]
[{"$f":"IF(Sheet1!C3401>Sheet1!C3400,0,1)","v":0}]
[{"$f":"IF(Sheet1!C3402>Sheet1!C3401,0,1)","v":0}]
[{"$f":"IF(Sheet1!C3403>Sheet1!C3402,0,1)","v":0}]
[{"$f":"IF(Sheet1!C3404>Sheet1!C3403,0,1)","v":0}]
[{"$f":"IF(Sheet1!C3405>Sheet1!C3404,0,1)","v":0}]
[{"$f":"IF(Sheet1!C3406>Sheet1!C3405,0,1)","v":0}]
[{"$f":"IF(Sheet1!C3407>Sheet1!C3406,0,1)","v":0}]
[{"$f":"IF(Sheet1!C3408>Sheet1!C3407,0,1)","v":0}]
[{"$f":"IF(Sheet1!C3409>Sheet1!C3408,0,1)","v":0}]
[{"$f":"IF(Sheet1!C3410>Sheet1!C3409,0,1)","v":0}]
[{"$f":"IF(Sheet1!C3411>Sheet1!C3410,0,1)","v":0}]
[{"$f":"IF(Sheet1!C3412>Sheet1!C3411,0,1)","v":0}]
[{"$f":"IF(Sheet1!C3413>Sheet1!C3412,0,1)","v":0}]
[{"$f":"IF(Sheet1!C3414>Sheet1!C3413,0,1)","v":0}]
[{"$f":"IF(Sheet1!C3415>Sheet1!C3414,0,1)","v":0}]
[{"$f":"IF(Sheet1!C3416>Sheet1!C3415,0,1)","v":0}]
[{"$f":"IF(Sheet1!C3417>Sheet1!C3416,0,1)","v":0}]
[{"$f":"IF(Sheet1!C3418>Sheet1!C3417,0,1)","v":0}]
[{"$f":"IF(Sheet1!C3419>Sheet1!C3418,0,1)","v":0}]
[{"$f":"IF(Sheet1!C3420>Sheet1!C3419,0,1)","v":0}]
[{"$f":"IF(Sheet1!C3421>Sheet1!C3420,0,1)","v":0}]
[{"$f":"IF(Sheet1!C3422>Sheet1!C3421,0,1)","v":0}]
[{"$f":"IF(Sheet1!C3423>Sheet1!C3422,0,1)","v":0}]
[{"$f":"IF(Sheet1!C3424>Sheet1!C3423,0,1)","v":0}]
[{"$f":"IF(Sheet1!C3425>Sheet1!C3424,0,1)","v":0}]
[{"$f":"IF(Sheet1!C3426>Sheet1!C3425,0,1)","v":0}]
[{"$f":"IF(Sheet1!C3427>Sheet1!C3426,0,1)","v":0}]
[{"$f":"IF(Sheet1!C3428>Sheet1!C3427,0,1)","v":0}]
[{"$f":"IF(Sheet1!C3429>Sheet1!C3428,0,1)","v":0}]
[{"$f":"IF(Sheet1!C3430>Sheet1!C3429,0,1)","v":0}]
[{"$f":"IF(Sheet1!C3431>Sheet1!C3430,0,1)","v":0}]
[{"$f":"IF(Sheet1!C3432>Sheet1!C3431,0,1)","v":0}]
[{"$f":"IF(Sheet1!C3433>Sheet1!C3432,0,1)","v":0}]
[{"$f":"IF(Sheet1!C3434>Sheet1!C3433,0,1)","v":0}]
[{"$f":"IF(Sheet1!C3435>Sheet1!C3434,0,1)","v":0}]
[{"$f":"IF(Sheet1!C3436>Sheet1!C3435,0,1)","v":0}]
[{"$f":"IF(Sheet1!C3437>Sheet1!C3436,0,1)","v":0}]
[{"$f":"IF(Sheet1!C3438>Sheet1!C3437,0,1)","v":0}]
[{"$f":"IF(Sheet1!C3439>Sheet1!C3438,0,1)","v":0}]
[{"$f":"IF(Sheet1!C3440>Sheet1!C3439,0,1)","v":0}]
[{"$f":"IF(Sheet1!C3441>Sheet1!C3440,0,1)","v":0}]
[{"$f":"IF(Sheet1!C3442>Sheet1!C3441,0,1)","v":0}]
[{"$f":"IF(Sheet1!C3443>Sheet1!C3442,0,1)","v":0}]
[{"$f":"IF(Sheet1!C3444>Sheet1!C3443,0,1)","v":0}]
[{"$f":"IF(Sheet1!C3445>Sheet1!C3444,0,1)","v":0}]
[{"$f":"IF(Sheet1!C3446>Sheet1!C3445,0,1)","v":0}]
[{"$f":"IF(Sheet1!C3447>Sheet1!C3446,0,1)","v":0}]
[{"$f":"IF(Sheet1!C3448>Sheet1!C3447,0,1)","v":0}]
[{"$f":"IF(Sheet1!C3449>Sheet1!C3448,0,1)","v":0}]
[{"$f":"IF(Sheet1!C3450>Sheet1!C3449,0,1)","v":0}]
[{"$f":"IF(Sheet1!C3451>Sheet1!C3450,0,1)","v":0}]
[{"$f":"IF(Sheet1!C3452>Sheet1!C3451,0,1)","v":0}]
[{"$f":"IF(Sheet1!C3453>Sheet1!C3452,0,1)","v":0}]
[{"$f":"IF(Sheet1!C3454>Sheet1!C3453,0,1)","v":0}]
[{"$f":"IF(Sheet1!C3455>Sheet1!C3454,0,1)","v":0}]
[{"$f":"IF(Sheet1!C3456>Sheet1!C3455,0,1)","v":0}]
[{"$f":"IF(Sheet1!C3457>Sheet1!C3456,0,1)","v":0}]
[{"$f":"IF(Sheet1!C3458>Sheet1!C3457,0,1)","v":0}]
[{"$f":"IF(Sheet1!C3459>Sheet1!C3458,0,1)","v":0}]
[{"$f":"IF(Sheet1!C3460>Sheet1!C3459,0,1)","v":0}]
[{"$f":"IF(Sheet1!C3461>Sheet1!C3460,0,1)","v":0}]
[{"$f":"IF(Sheet1!C3462>Sheet1!C3461,0,1)","v":0}]
[{"$f":"IF(Sheet1!C3463>Sheet1!C3462,0,1)","v":0}]
[{"$f":"IF(Sheet1!C3464>Sheet1!C3463,0,1)","v":0}]
[{"$f":"IF(Sheet1!C3465>Sheet1!C3464,0,1)","v":0}]
[{"$f":"IF(Sheet1!C3466>Sheet1!C3465,0,1)","v":0}]
[{"$f":"IF(Sheet1!C3467>Sheet1!C3466,0,1)","v":0}]
[{"$f":"IF(Sheet1!C3468>Sheet1!C3467,0,1)","v":0}]
[{"$f":"IF(Sheet1!C3469>Sheet1!C3468,0,1)","v":0}]
[{"$f":"IF(Sheet1!C3470>Sheet1!C3469,0,1)","v":0}]
[{"$f":"IF(Sheet1!C3471>Sheet1!C3470,0,1)","v":0}]
[{"$f":"IF(Sheet1!C3472>Sheet1!C3471,0,1)","v":0}]
[{"$f":"IF(Sheet1!C3473>Sheet1!C3472,0,1)","v":0}]
[{"$f":"IF(Sheet1!C3474>Sheet1!C3473,0,1)","v":0}]
[{"$f":"IF(Sheet1!C3475>Sheet1!C3474,0,1)","v":0}]
[{"$f":"IF(Sheet1!C3476>Sheet1!C3475,0,1)","v":0}]
[{"$f":"IF(Sheet1!C3477>Sheet1!C3476,0,1)","v":0}]
[{"$f":"IF(Sheet1!C3478>Sheet1!C3477,0,1)","v":0}]
[{"$f":"IF(Sheet1!C3479>Sheet1!C3478,0,1)","v":0}]
[{"$f":"IF(Sheet1!C3480>Sheet1!C3479,0,1)","v":0}]
[{"$f":"IF(Sheet1!C3481>Sheet1!C3480,0,1)","v":0}]
[{"$f":"IF(Sheet1!C3482>Sheet1!C3481,0,1)","v":0}]
[{"$f":"IF(Sheet1!C3483>Sheet1!C3482,0,1)","v":0}]
[{"$f":"IF(Sheet1!C3484>Sheet1!C3483,0,1)","v":0}]
[{"$f":"IF(Sheet1!C3485>Sheet1!C3484,0,1)","v":0}]
[{"$f":"IF(Sheet1!C3486>Sheet1!C3485,0,1)","v":0}]
[{"$f":"IF(Sheet1!C3487>Sheet1!C3486,0,1)","v":0}]
[{"$f":"IF(Sheet1!C3488>Sheet1!C3487,0,1)","v":0}]
[{"$f":"IF(Sheet1!C3489>Sheet1!C3488,0,1)","v":0}]
[{"$f":"IF(Sheet1!C3490>Sheet1!C3489,0,1)","v":0}]
[{"$f":"IF(Sheet1!C3491>Sheet1!C3490,0,1)","v":0}]
[{"$f":"IF(Sheet1!C3492>Sheet1!C3491,0,1)","v":0}]
[{"$f":"IF(Sheet1!C3493>Sheet1!C3492,0,1)","v":0}]
[{"$f":"IF(Sheet1!C3494>Sheet1!C3493,0,1)","v":0}]
[{"$f":"IF(Sheet1!C3495>Sheet1!C3494,0,1)","v":0}]
[{"$f":"IF(Sheet1!C3496>Sheet1!C3495,0,1)","v":0}]
[{"$f":"IF(Sheet1!C3497>Sheet1!C3496,0,1)","v":0}]
[{"$f":"IF(Sheet1!C3498>Sheet1!C3497,0,1)","v":0}]
[{"$f":"IF(Sheet1!C3499>Sheet1!C3498,0,1)","v":0}]
[{"$f":"IF(Sheet1!C3500>Sheet1!C3499,0,1)","v":0}]
[{"$f":"IF(Sheet1!C3501>Sheet1!C3500,0,1)","v":0}]
[{"$f":"IF(Sheet1!C3502>Sheet1!C3501,0,1)","v":0}]
[{"$f":"IF(Sheet1!C3503>Sheet1!C3502,0,1)","v":0}]
[{"$f":"IF(Sheet1!C3504>Sheet1!C3503,0,1)","v":0}]
[{"$f":"IF(Sheet1!C3505>Sheet1!C3504,0,1)","v":0}]
[{"$f":"IF(Sheet1!C3506>Sheet1!C3505,0,1)","v":0}]
[{"$f":"IF(Sheet1!C3507>Sheet1!C3506,0,1)","v":0}]
[{"$f":"IF(Sheet1!C3508>Sheet1!C3507,0,1)","v":0}]
[{"$f":"IF(Sheet1!C3509>Sheet1!C3508,0,1)","v":0}]
[{"$f":"IF(Sheet1!C3510>Sheet1!C3509,0,1)","v":0}]
[{"$f":"IF(Sheet1!C3511>Sheet1!C3510,0,1)","v":0}]
[{"$f":"IF(Sheet1!C3512>Sheet1!C3511,0,1)","v":0}]
[{"$f":"IF(Sheet1!C3513>Sheet1!C3512,0,1)","v":0}]
[{"$f":"IF(Sheet1!C3514>Sheet1!C3513,0,1)","v":0}]
[{"$f":"IF(Sheet1!C3515>Sheet1!C3514,0,1)","v":0}]
[{"$f":"IF(Sheet1!C3516>Sheet1!C3515,0,1)","v":0}]
[{"$f":"IF(Sheet1!C3517>Sheet1!C3516,0,1)","v":0}]
[{"$f":"IF(Sheet1!C3518>Sheet1!C3517,0,1)","v":0}]
[{"$f":"IF(Sheet1!C3519>Sheet1!C3518,0,1)","v":0}]
[{"$f":"IF(Sheet1!C3520>Sheet1!C3519,0,1)","v":0}]
[{"$f":"IF(Sheet1!C3521>Sheet1!C3520,0,1)","v":0}]
[{"$f":"IF(Sheet1!C3522>Sheet1!C3521,0,1)","v":0}]
[{"$f":"IF(Sheet1!C3523>Sheet1!C3522,0,1)","v":0}]
[{"$f":"IF(Sheet1!C3524>Sheet1!C3523,0,1)","v":0}]
[{"$f":"IF(Sheet1!C3525>Sheet1!C3524,0,1)","v":0}]
[{"$f":"IF(Sheet1!C3526>Sheet1!C3525,0,1)","v":0}]
[{"$f":"IF(Sheet1!C3527>Sheet1!C3526,0,1)","v":0}]
[{"$f":"IF(Sheet1!C3528>Sheet1!C3527,0,1)","v":0}]
[{"$f":"IF(Sheet1!C3529>Sheet1!C3528,0,1)","v":0}]
[{"$f":"IF(Sheet1!C3530>Sheet1!C3529,0,1)","v":0}]
[{"$f":"IF(Sheet1!C3531>Sheet1!C3530,0,1)","v":0}]
[{"$f":"IF(Sheet1!C3532>Sheet1!C3531,0,1)","v":0}]
[{"$f":"IF(Sheet1!C3533>Sheet1!C3532,0,1)","v":0}]
[{"$f":"IF(Sheet1!C3534>Sheet1!C3533,0,1)","v":0}]
[{"$f":"IF(Sheet1!C3535>Sheet1!C3534,0,1)","v":0}]
[{"$f":"IF(Sheet1!C3536>Sheet1!C3535,0,1)","v":0}]
[{"$f":"IF(Sheet1!C3537>Sheet1!C3536,0,1)","v":0}]
[{"$f":"IF(Sheet1!C3538>Sheet1!C3537,0,1)","v":0}]
[{"$f":"IF(Sheet1!C3539>Sheet1!C3538,0,1)","v":0}]
[{"$f":"IF(Sheet1!C3540>Sheet1!C3539,0,1)","v":0}]
[{"$f":"IF(Sheet1!C3541>Sheet1!C3540,0,1)","v":0}]
[{"$f":"IF(Sheet1!C3542>Sheet1!C3541,0,1)","v":0}]
[{"$f":"IF(Sheet1!C3543>Sheet1!C3542,0,1)","v":0}]
[{"$f":"IF(Sheet1!C3544>Sheet1!C3543,0,1)","v":0}]
[{"$f":"IF(Sheet1!C3545>Sheet1!C3544,0,1)","v":0}]
[{"$f":"IF(Sheet1!C3546>Sheet1!C3545,0,1)","v":0}]
[{"$f":"IF(Sheet1!C3547>Sheet1!C3546,0,1)","v":0}]
[{"$f":"IF(Sheet1!C3548>Sheet1!C3547,0,1)","v":0}]
[{"$f":"IF(Sheet1!C3549>Sheet1!C3548,0,1)","v":0}]
[{"$f":"IF(Sheet1!C3550>Sheet1!C3549,0,1)","v":0}]
[{"$f":"IF(Sheet1!C3551>Sheet1!C3550,0,1)","v":0}]
[{"$f":"IF(Sheet1!C3552>Sheet1!C3551,0,1)","v":0}]
[{"$f":"IF(Sheet1!C3553>Sheet1!C3552,0,1)","v":0}]
[{"$f":"IF(Sheet1!C3554>Sheet1!C3553,0,1)","v":0}]
[{"$f":"IF(Sheet1!C3555>Sheet1!C3554,0,1)","v":0}]
[{"$f":"IF(Sheet1!C3556>Sheet1!C3555,0,1)","v":0}]
[{"$f":"IF(Sheet1!C3557>Sheet1!C3556,0,1)","v":0}]
[{"$f":"IF(Sheet1!C3558>Sheet1!C3557,0,1)","v":0}]
[{"$f":"IF(Sheet1!C3559>Sheet1!C3558,0,1)","v":0}]
[{"$f":"IF(Sheet1!C3560>Sheet1!C3559,0,1)","v":0}]
[{"$f":"IF(Sheet1!C3561>Sheet1!C3560,0,1)","v":0}]
[{"$f":"IF(Sheet1!C3562>Sheet1!C3561,0,1)","v":0}]
[{"$f":"IF(Sheet1!C3563>Sheet1!C3562,0,1)","v":0}]
[{"$f":"IF(Sheet1!C3564>Sheet1!C3563,0,1)","v":0}]
[{"$f":"IF(Sheet1!C3565>Sheet1!C3564,0,1)","v":0}]
[{"$f":"IF(Sheet1!C3566>Sheet1!C3565,0,1)","v":0}]
[{"$f":"IF(Sheet1!C3567>Sheet1!C3566,0,1)","v":0}]
[{"$f":"IF(Sheet1!C3568>Sheet1!C3567,0,1)","v":0}]
[{"$f":"IF(Sheet1!C3569>Sheet1!C3568,0,1)","v":0}]
[{"$f":"IF(Sheet1!C3570>Sheet1!C3569,0,1)","v":0}]
[{"$f":"IF(Sheet1!C3571>Sheet1!C3570,0,1)","v":0}]
[{"$f":"IF(Sheet1!C3572>Sheet1!C3571,0,1)","v":0}]
[{"$f":"IF(Sheet1!C3573>Sheet1!C3572,0,1)","v":0}]
[{"$f":"IF(Sheet1!C3574>Sheet1!C3573,0,1)","v":0}]
[{"$f":"IF(Sheet1!C3575>Sheet1!C3574,0,1)","v":0}]
[{"$f":"IF(Sheet1!C3576>Sheet1!C3575,0,1)","v":0}]
[{"$f":"IF(Sheet1!C3577>Sheet1!C3576,0,1)","v":0}]
[{"$f":"IF(Sheet1!C3578>Sheet1!C3577,0,1)","v":0}]
[{"$f":"IF(Sheet1!C3579>Sheet1!C3578,0,1)","v":0}]
[{"$f":"IF(Sheet1!C3580>Sheet1!C3579,0,1)","v":0}]
[{"$f":"IF(Sheet1!C3581>Sheet1!C3580,0,1)","v":0}]
[{"$f":"IF(Sheet1!C3582>Sheet1!C3581,0,1)","v":0}]
[{"$f":"IF(Sheet1!C3583>Sheet1!C3582,0,1)","v":0}]
[{"$f":"IF(Sheet1!C3584>Sheet1!C3583,0,1)","v":0}]
[{"$f":"IF(Sheet1!C3585>Sheet1!C3584,0,1)","v":0}]
[{"$f":"IF(Sheet1!C3586>Sheet1!C3585,0,1)","v":0}]
[{"$f":"IF(Sheet1!C3587>Sheet1!C3586,0,1)","v":0}]
[{"$f":"IF(Sheet1!C3588>Sheet1!C3587,0,1)","v":0}]
[{"$f":"IF(Sheet1!C3589>Sheet1!C3588,0,1)","v":0}]
[{"$f":"IF(Sheet1!C3590>Sheet1!C3589,0,1)","v":0}]
[{"$f":"IF(Sheet1!C3591>Sheet1!C3590,0,1)","v":0}]
[{"$f":"IF(Sheet1!C3592>Sheet1!C3591,0,1)","v":0}]
[{"$f":"IF(Sheet1!C3593>Sheet1!C3592,0,1)","v":0}]
[{"$f":"IF(Sheet1!C3594>Sheet1!C3593,0,1)","v":0}]
[{"$f":"IF(Sheet1!C3595>Sheet1!C3594,0,1)","v":0}]
[{"$f":"IF(Sheet1!C3596>Sheet1!C3595,0,1)","v":0}]
[{"$f":"IF(Sheet1!C3597>Sheet1!C3596,0,1)","v":0}]
[{"$f":"IF(Sheet1!C3598>Sheet1!C3597,0,1)","v":0}]
[{"$f":"IF(Sheet1!C3599>Sheet1!C3598,0,1)","v":0}]
[{"$f":"IF(Sheet1!C3600>Sheet1!C3599,0,1)","v":0}]
[{"$f":"IF(Sheet1!C3601>Sheet1!C3600,0,1)","v":0}]
[{"$f":"IF(Sheet1!C3602>Sheet1!C3601,0,1)","v":0}]
[{"$f":"IF(Sheet1!C3603>Sheet1!C3602,0,1)","v":0}]
[{"$f":"IF(Sheet1!C3604>Sheet1!C3603,0,1)","v":0}]
[{"$f":"IF(Sheet1!C3605>Sheet1!C3604,0,1)","v":0}]
[{"$f":"IF(Sheet1!C3606>Sheet1!C3605,0,1)","v":0}]
[{"$f":"IF(Sheet1!C3607>Sheet1!C3606,0,1)","v":0}]
[{"$f":"IF(Sheet1!C3608>Sheet1!C3607,0,1)","v":0}]
[{"$f":"IF(Sheet1!C3609>Sheet1!C3608,0,1)","v":0}]
[{"$f":"IF(Sheet1!C3610>Sheet1!C3609,0,1)","v":0}]
[{"$f":"IF(Sheet1!C3611>Sheet1!C3610,0,1)","v":0}]
[{"$f":"IF(Sheet1!C3612>Sheet1!C3611,0,1)","v":0}]
[{"$f":"IF(Sheet1!C3613>Sheet1!C3612,0,1)","v":0}]
[{"$f":"IF(Sheet1!C3614>Sheet1!C3613,0,1)","v":0}]
[{"$f":"IF(Sheet1!C3615>Sheet1!C3614,0,1)","v":0}]
[{"$f":"IF(Sheet1!C3616>Sheet1!C3615,0,1)","v":0}]
[{"$f":"IF(Sheet1!C3617>Sheet1!C3616,0,1)","v":0}]
[{"$f":"IF(Sheet1!C3618>Sheet1!C3617,0,1)","v":0}]
[{"$f":"IF(Sheet1!C3619>Sheet1!C3618,0,1)","v":0}]
[{"$f":"IF(Sheet1!C3620>Sheet1!C3619,0,1)","v":0}]
[{"$f":"IF(Sheet1!C3621>Sheet1!C3620,0,1)","v":0}]
[{"$f":"IF(Sheet1!C3622>Sheet1!C3621,0,1)","v":0}]
[{"$f":"IF(Sheet1!C3623>Sheet1!C3622,0,1)","v":0}]
[{"$f":"IF(Sheet1!C3624>Sheet1!C3623,0,1)","v":0}]
[{"$f":"IF(Sheet1!C3625>Sheet1!C3624,0,1)","v":0}]
[{"$f":"IF(Sheet1!C3626>Sheet1!C3625,0,1)","v":0}]
[{"$f":"IF(Sheet1!C3627>Sheet1!C3626,0,1)","v":0}]
[{"$f":"IF(Sheet1!C3628>Sheet1!C3627,0,1)","v":0}]
[{"$f":"IF(Sheet1!C3629>Sheet1!C3628,0,1)","v":0}]
[{"$f":"IF(Sheet1!C3630>Sheet1!C3629,0,1)","v":0}]
[{"$f":"IF(Sheet1!C3631>Sheet1!C3630,0,1)","v":0}]
[{"$f":"IF(Sheet1!C3632>Sheet1!C3631,0,1)","v":0}]
[{"$f":"IF(Sheet1!C3633>Sheet1!C3632,0,1)","v":0}]
[{"$f":"IF(Sheet1!C3634>Sheet1!C3633,0,1)","v":0}]
[{"$f":"IF(Sheet1!C3635>Sheet1!C3634,0,1)","v":0}]
[{"$f":"IF(Sheet1!C3636>Sheet1!C3635,0,1)","v":0}]
[{"$f":"IF(Sheet1!C3637>Sheet1!C3636,0,1)","v":0}]
[{"$f":"IF(Sheet1!C3638>Sheet1!C3637,0,1)","v":0}]
[{"$f":"IF(Sheet1!C3639>Sheet1!C3638,0,1)","v":0}]
[{"$f":"IF(Sheet1!C3640>Sheet1!C3639,0,1)","v":0}]
[{"$f":"IF(Sheet1!C3641>Sheet1!C3640,0,1)","v":0}]
[{"$f":"IF(Sheet1!C3642>Sheet1!C3641,0,1)","v":0}]
[{"$f":"IF(Sheet1!C3643>Sheet1!C3642,0,1)","v":0}]
[{"$f":"IF(Sheet1!C3644>Sheet1!C3643,0,1)","v":0}]
[{"$f":"IF(Sheet1!C3645>Sheet1!C3644,0,1)","v":0}]
[{"$f":"IF(Sheet1!C3646>Sheet1!C3645,0,1)","v":0}]
[{"$f":"IF(Sheet1!C3647>Sheet1!C3646,0,1)","v":0}]
[{"$f":"IF(Sheet1!C3648>Sheet1!C3647,0,1)","v":0}]
[{"$f":"IF(Sheet1!C3649>Sheet1!C3648,0,1)","v":0}]
[{"$f":"IF(Sheet1!C3650>Sheet1!C3649,0,1)","v":0}]
[{"$f":"IF(Sheet1!C3651>Sheet1!C3650,0,1)","v":0}]
[{"$f":"IF(Sheet1!C3652>Sheet1!C3651,0,1)","v":0}]
[{"$f":"IF(Sheet1!C3653>Sheet1!C3652,0,1)","v":0}]
[{"$f":"IF(Sheet1!C3654>Sheet1!C3653,0,1)","v":0}]
[{"$f":"IF(Sheet1!C3655>Sheet1!C3654,0,1)","v":0}]
[{"$f":"IF(Sheet1!C3656>Sheet1!C3655,0,1)","v":0}]
[{"$f":"IF(Sheet1!C3657>Sheet1!C3656,0,1)","v":0}]
[{"$f":"IF(Sheet1!C3658>Sheet1!C3657,0,1)","v":0}]
[{"$f":"IF(Sheet1!C3659>Sheet1!C3658,0,1)","v":0}]
[{"$f":"IF(Sheet1!C3660>Sheet1!C3659,0,1)","v":0}]
[{"$f":"IF(Sheet1!C3661>Sheet1!C3660,0,1)","v":0}]
[{"$f":"IF(Sheet1!C3662>Sheet1!C3661,0,1)","v":0}]
[{"$f":"IF(Sheet1!C3663>Sheet1!C3662,0,1)","v":0}]
[{"$f":"IF(Sheet1!C3664>Sheet1!C3663,0,1)","v":0}]
[{"$f":"IF(Sheet1!C3665>Sheet1!C3664,0,1)","v":0}]
[{"$f":"IF(Sheet1!C3666>Sheet1!C3665,0,1)","v":0}]
[{"$f":"IF(Sheet1!C3667>Sheet1!C3666,0,1)","v":0}]
[{"$f":"IF(Sheet1!C3668>Sheet1!C3667,0,1)","v":0}]
[{"$f":"IF(Sheet1!C3669>Sheet1!C3668,0,1)","v":0}]
[{"$f":"IF(Sheet1!C3670>Sheet1!C3669,0,1)","v":0}]
[{"$f":"IF(Sheet1!C3671>Sheet1!C3670,0,1)","v":0}]
[{"$f":"IF(Sheet1!C3672>Sheet1!C3671,0,1)","v":0}]
[{"$f":"IF(Sheet1!C3673>Sheet1!C3672,0,1)","v":0}]
[{"$f":"IF(Sheet1!C3674>Sheet1!C3673,0,1)","v":0}]
[{"$f":"IF(Sheet1!C3675>Sheet1!C3674,0,1)","v":0}]
[{"$f":"IF(Sheet1!C3676>Sheet1!C3675,0,1)","v":0}]
[{"$f":"IF(Sheet1!C3677>Sheet1!C3676,0,1)","v":0}]
[{"$f":"IF(Sheet1!C3678>Sheet1!C3677,0,1)","v":0}]
[{"$f":"IF(Sheet1!C3679>Sheet1!C3678,0,1)","v":0}]
[{"$f":"IF(Sheet1!C3680>Sheet1!C3679,0,1)","v":0}]
[{"$f":"IF(Sheet1!C3681>Sheet1!C3680,0,1)","v":0}]
[{"$f":"IF(Sheet1!C3682>Sheet1!C3681,0,1)","v":0}]
[{"$f":"IF(Sheet1!C3683>Sheet1!C3682,0,1)","v":0}]
[{"$f":"IF(Sheet1!C3684>Sheet1!C3683,0,1)","v":0}]
[{"$f":"IF(Sheet1!C3685>Sheet1!C3684,0,1)","v":0}]
[{"$f":"IF(Sheet1!C3686>Sheet1!C3685,0,1)","v":0}]
[{"$f":"IF(Sheet1!C3687>Sheet1!C3686,0,1)","v":0}]
[{"$f":"IF(Sheet1!C3688>Sheet1!C3687,0,1)","v":0}]
[{"$f":"IF(Sheet1!C3689>Sheet1!C3688,0,1)","v":0}]
[{"$f":"IF(Sheet1!C3690>Sheet1!C3689,0,1)","v":0}]
[{"$f":"IF(Sheet1!C3691>Sheet1!C3690,0,1)","v":0}]
[{"$f":"IF(Sheet1!C3692>Sheet1!C3691,0,1)","v":0}]
[{"$f":"IF(Sheet1!C3693>Sheet1!C3692,0,1)","v":0}]
[{"$f":"IF(Sheet1!C3694>Sheet1!C3693,0,1)","v":0}]
[{"$f":"IF(Sheet1!C3695>Sheet1!C3694,0,1)","v":0}]
[{"$f":"IF(Sheet1!C3696>Sheet1!C3695,0,1)","v":0}]
[{"$f":"IF(Sheet1!C3697>Sheet1!C3696,0,1)","v":0}]
[{"$f":"IF(Sheet1!C3698>Sheet1!C3697,0,1)","v":0}]
[{"$f":"IF(Sheet1!C3699>Sheet1!C3698,0,1)","v":0}]
[{"$f":"IF(Sheet1!C3700>Sheet1!C3699,0,1)","v":0}]
[{"$f":"IF(Sheet1!C3701>Sheet1!C3700,0,1)","v":0}]
[{"$f":"IF(Sheet1!C3702>Sheet1!C3701,0,1)","v":0}]
[{"$f":"IF(Sheet1!C3703>Sheet1!C3702,0,1)","v":0}]
[{"$f":"IF(Sheet1!C3704>Sheet1!C3703,0,1)","v":0}]
[{"$f":"IF(Sheet1!C3705>Sheet1!C3704,0,1)","v":0}]
[{"$f":"IF(Sheet1!C3706>Sheet1!C3705,0,1)","v":0}]
[{"$f":"IF(Sheet1!C3707>Sheet1!C3706,0,1)","v":0}]
[{"$f":"IF(Sheet1!C3708>Sheet1!C3707,0,1)","v":0}]
[{"$f":"IF(Sheet1!C3709>Sheet1!C3708,0,1)","v":0}]
[{"$f":"IF(Sheet1!C3710>Sheet1!C3709,0,1)","v":0}]
[{"$f":"IF(Sheet1!C3711>Sheet1!C3710,0,1)","v":0}]
[{"$f":"IF(Sheet1!C3712>Sheet1!C3711,0,1)","v":0}]
[{"$f":"IF(Sheet1!C3713>Sheet1!C3712,0,1)","v":0}]
[{"$f":"IF(Sheet1!C3714>Sheet1!C3713,0,1)","v":0}]
[{"$f":"IF(Sheet1!C3715>Sheet1!C3714,0,1)","v":0}]
[{"$f":"IF(Sheet1!C3716>Sheet1!C3715,0,1)","v":0}]
[{"$f":"IF(Sheet1!C3717>Sheet1!C3716,0,1)","v":0}]
[{"$f":"IF(Sheet1!C3718>Sheet1!C3717,0,1)","v":0}]
[{"$f":"IF(Sheet1!C3719>Sheet1!C3718,0,1)","v":0}]
[{"$f":"IF(Sheet1!C3720>Sheet1!C3719,0,1)","v":0}]
[{"$f":"IF(Sheet1!C3721>Sheet1!C3720,0,1)","v":0}]
[{"$f":"IF(Sheet1!C3722>Sheet1!C3721,0,1)","v":0}]
[{"$f":"IF(Sheet1!C3723>Sheet1!C3722,0,1)","v":0}]
[{"$f":"IF(Sheet1!C3724>Sheet1!C3723,0,1)","v":0}]
[{"$f":"IF(Sheet1!C3725>Sheet1!C3724,0,1)","v":0}]
[{"$f":"IF(Sheet1!C3726>Sheet1!C3725,0,1)","v":0}]
[{"$f":"IF(Sheet1!C3727>Sheet1!C3726,0,1)","v":0}]
[{"$f":"IF(Sheet1!C3728>Sheet1!C3727,0,1)","v":0}]
[{"$f":"IF(Sheet1!C3729>Sheet1!C3728,0,1)","v":0}]
[{"$f":"IF(Sheet1!C3730>Sheet1!C3729,0,1)","v":0}]
[{"$f":"IF(Sheet1!C3731>Sheet1!C3730,0,1)","v":0}]
[{"$f":"IF(Sheet1!C3732>Sheet1!C3731,0,1)","v":0}]
[{"$f":"IF(Sheet1!C3733>Sheet1!C3732,0,1)","v":0}]
[{"$f":"IF(Sheet1!C3734>Sheet1!C3733,0,1)","v":0}]
[{"$f":"IF(Sheet1!C3735>Sheet1!C3734,0,1)","v":0}]
[{"$f":"IF(Sheet1!C3736>Sheet1!C3735,0,1)","v":0}]
[{"$f":"IF(Sheet1!C3737>Sheet1!C3736,0,1)","v":0}]
[{"$f":"IF(Sheet1!C3738>Sheet1!C3737,0,1)","v":0}]
[{"$f":"IF(Sheet1!C3739>Sheet1!C3738,0,1)","v":0}]
[{"$f":"IF(Sheet1!C3740>Sheet1!C3739,0,1)","v":0}]
[{"$f":"IF(Sheet1!C3741>Sheet1!C3740,0,1)","v":0}]
[{"$f":"IF(Sheet1!C3742>Sheet1!C3741,0,1)","v":0}]
[{"$f":"IF(Sheet1!C3743>Sheet1!C3742,0,1)","v":0}]
[{"$f":"IF(Sheet1!C3744>Sheet1!C3743,0,1)","v":0}]
[{"$f":"IF(Sheet1!C3745>Sheet1!C3744,0,1)","v":0}]
[{"$f":"IF(Sheet1!C3746>Sheet1!C3745,0,1)","v":0}]
[{"$f":"IF(Sheet1!C3747>Sheet1!C3746,0,1)","v":0}]
[{"$f":"IF(Sheet1!C3748>Sheet1!C3747,0,1)","v":0}]
[{"$f":"IF(Sheet1!C3749>Sheet1!C3748,0,1)","v":0}]
[{"$f":"IF(Sheet1!C3750>Sheet1!C3749,0,1)","v":0}]
[{"$f":"IF(Sheet1!C3751>Sheet1!C3750,0,1)","v":0}]
[{"$f":"IF(Sheet1!C3752>Sheet1!C3751,0,1)","v":0}]
[{"$f":"IF(Sheet1!C3753>Sheet1!C3752,0,1)","v":0}]
[{"$f":"IF(Sheet1!C3754>Sheet1!C3753,0,1)","v":0}]
[{"$f":"IF(Sheet1!C3755>Sheet1!C3754,0,1)","v":0}]
[{"$f":"IF(Sheet1!C3756>Sheet1!C3755,0,1)","v":0}]
[{"$f":"IF(Sheet1!C3757>Sheet1!C3756,0,1)","v":0}]
[{"$f":"IF(Sheet1!C3758>Sheet1!C3757,0,1)","v":0}]
[{"$f":"IF(Sheet1!C3759>Sheet1!C3758,0,1)","v":0}]
[{"$f":"IF(Sheet1!C3760>Sheet1!C3759,0,1)","v":0}]
[{"$f":"IF(Sheet1!C3761>Sheet1!C3760,0,1)","v":0}]
[{"$f":"IF(Sheet1!C3762>Sheet1!C3761,0,1)","v":0}]
[{"$f":"IF(Sheet1!C3763>Sheet1!C3762,0,1)","v":0}]
[{"$f":"IF(Sheet1!C3764>Sheet1!C3763,0,1)","v":0}]
[{"$f":"IF(Sheet1!C3765>Sheet1!C3764,0,1)","v":0}]
[{"$f":"IF(Sheet1!C3766>Sheet1!C3765,0,1)","v":0}]
[{"$f":"IF(Sheet1!C3767>Sheet1!C3766,0,1)","v":0}]
[{"$f":"IF(Sheet1!C3768>Sheet1!C3767,0,1)","v":0}]
[{"$f":"IF(Sheet1!C3769>Sheet1!C3768,0,1)","v":0}]
[{"$f":"IF(Sheet1!C3770>Sheet1!C3769,0,1)","v":0}]
[{"$f":"IF(Sheet1!C3771>Sheet1!C3770,0,1)","v":0}]
[{"$f":"IF(Sheet1!C3772>Sheet1!C3771,0,1)","v":0}]
[{"$f":"IF(Sheet1!C3773>Sheet1!C3772,0,1)","v":0}]
[{"$f":"IF(Sheet1!C3774>Sheet1!C3773,0,1)","v":0}]
[{"$f":"IF(Sheet1!C3775>Sheet1!C3774,0,1)","v":0}]
[{"$f":"IF(Sheet1!C3776>Sheet1!C3775,0,1)","v":0}]
[{"$f":"IF(Sheet1!C3777>Sheet1!C3776,0,1)","v":0}]
[{"$f":"IF(Sheet1!C3778>Sheet1!C3777,0,1)","v":0}]
[{"$f":"IF(Sheet1!C3779>Sheet1!C3778,0,1)","v":0}]
[{"$f":"IF(Sheet1!C3780>Sheet1!C3779,0,1)","v":0}]
[{"$f":"IF(Sheet1!C3781>Sheet1!C3780,0,1)","v":0}]
[{"$f":"IF(Sheet1!C3782>Sheet1!C3781,0,1)","v":0}]
[{"$f":"IF(Sheet1!C3783>Sheet1!C3782,0,1)","v":0}]
[{"$f":"IF(Sheet1!C3784>Sheet1!C3783,0,1)","v":0}]
[{"$f":"IF(Sheet1!C3785>Sheet1!C3784,0,1)","v":0}]
[{"$f":"IF(Sheet1!C3786>Sheet1!C3785,0,1)","v":0}]
[{"$f":"IF(Sheet1!C3787>Sheet1!C3786,0,1)","v":0}]
[{"$f":"IF(Sheet1!C3788>Sheet1!C3787,0,1)","v":0}]
[{"$f":"IF(Sheet1!C3789>Sheet1!C3788,0,1)","v":0}]
[{"$f":"IF(Sheet1!C3790>Sheet1!C3789,0,1)","v":0}]
[{"$f":"IF(Sheet1!C3791>Sheet1!C3790,0,1)","v":0}]
[{"$f":"IF(Sheet1!C3792>Sheet1!C3791,0,1)","v":0}]
[{"$f":"IF(Sheet1!C3793>Sheet1!C3792,0,1)","v":0}]
[{"$f":"IF(Sheet1!C3794>Sheet1!C3793,0,1)","v":0}]
[{"$f":"IF(Sheet1!C3795>Sheet1!C3794,0,1)","v":0}]
[{"$f":"IF(Sheet1!C3796>Sheet1!C3795,0,1)","v":0}]
[{"$f":"IF(Sheet1!C3797>Sheet1!C3796,0,1)","v":0}]
[{"$f":"IF(Sheet1!C3798>Sheet1!C3797,0,1)","v":0}]
[{"$f":"IF(Sheet1!C3799>Sheet1!C3798,0,1)","v":0}]
[{"$f":"IF(Sheet1!C3800>Sheet1!C3799,0,1)","v":0}]
[{"$f":"IF(Sheet1!C3801>Sheet1!C3800,0,1)","v":0}]
[{"$f":"IF(Sheet1!C3802>Sheet1!C3801,0,1)","v":0}]
[{"$f":"IF(Sheet1!C3803>Sheet1!C3802,0,1)","v":0}]
[{"$f":"IF(Sheet1!C3804>Sheet1!C3803,0,1)","v":0}]
[{"$f":"IF(Sheet1!C3805>Sheet1!C3804,0,1)","v":0}]
[{"$f":"IF(Sheet1!C3806>Sheet1!C3805,0,1)","v":0}]
[{"$f":"IF(Sheet1!C3807>Sheet1!C3806,0,1)","v":0}]
[{"$f":"IF(Sheet1!C3808>Sheet1!C3807,0,1)","v":0}]
[{"$f":"IF(Sheet1!C3809>Sheet1!C3808,0,1)","v":0}]
[{"$f":"IF(Sheet1!C3810>Sheet1!C3809,0,1)","v":0}]
[{"$f":"IF(Sheet1!C3811>Sheet1!C3810,0,1)","v":0}]
[{"$f":"IF(Sheet1!C3812>Sheet1!C3811,0,1)","v":0}]
[{"$f":"IF(Sheet1!C3813>Sheet1!C3812,0,1)","v":0}]
[{"$f":"IF(Sheet1!C3814>Sheet1!C3813,0,1)","v":0}]
[{"$f":"IF(Sheet1!C3815>Sheet1!C3814,0,1)","v":0}]
[{"$f":"IF(Sheet1!C3816>Sheet1!C3815,0,1)","v":0}]
[{"$f":"IF(Sheet1!C3817>Sheet1!C3816,0,1)","v":0}]
[{"$f":"IF(Sheet1!C3818>Sheet1!C3817,0,1)","v":0}]
[{"$f":"IF(Sheet1!C3819>Sheet1!C3818,0,1)","v":0}]
[{"$f":"IF(Sheet1!C3820>Sheet1!C3819,0,1)","v":0}]
[{"$f":"IF(Sheet1!C3821>Sheet1!C3820,0,1)","v":0}]
[{"$f":"IF(Sheet1!C3822>Sheet1!C3821,0,1)","v":0}]
[{"$f":"IF(Sheet1!C3823>Sheet1!C3822,0,1)","v":0}]
[{"$f":"IF(Sheet1!C3824>Sheet1!C3823,0,1)","v":0}]
[{"$f":"IF(Sheet1!C3825>Sheet1!C3824,0,1)","v":0}]
[{"$f":"IF(Sheet1!C3826>Sheet1!C3825,0,1)","v":0}]
[{"$f":"IF(Sheet1!C3827>Sheet1!C3826,0,1)","v":0}]
[{"$f":"IF(Sheet1!C3828>Sheet1!C3827,0,1)","v":0}]
[{"$f":"IF(Sheet1!C3829>Sheet1!C3828,0,1)","v":0}]
[{"$f":"IF(Sheet1!C3830>Sheet1!C3829,0,1)","v":0}]
[{"$f":"IF(Sheet1!C3831>Sheet1!C3830,0,1)","v":0}]
[{"$f":"IF(Sheet1!C3832>Sheet1!C3831,0,1)","v":0}]
[{"$f":"IF(Sheet1!C3833>Sheet1!C3832,0,1)","v":0}]
[{"$f":"IF(Sheet1!C3834>Sheet1!C3833,0,1)","v":0}]
[{"$f":"IF(Sheet1!C3835>Sheet1!C3834,0,1)","v":0}]
[{"$f":"IF(Sheet1!C3836>Sheet1!C3835,0,1)","v":0}]
[{"$f":"IF(Sheet1!C3837>Sheet1!C3836,0,1)","v":0}]
[{"$f":"IF(Sheet1!C3838>Sheet1!C3837,0,1)","v":0}]
[{"$f":"IF(Sheet1!C3839>Sheet1!C3838,0,1)","v":0}]
[{"$f":"IF(Sheet1!C3840>Sheet1!C3839,0,1)","v":0}]
[{"$f":"IF(Sheet1!C3841>Sheet1!C3840,0,1)","v":0}]
[{"$f":"IF(Sheet1!C3842>Sheet1!C3841,0,1)","v":0}]
[{"$f":"IF(Sheet1!C3843>Sheet1!C3842,0,1)","v":0}]
[{"$f":"IF(Sheet1!C3844>Sheet1!C3843,0,1)","v":0}]
[{"$f":"IF(Sheet1!C3845>Sheet1!C3844,0,1)","v":0}]
[{"$f":"IF(Sheet1!C3846>Sheet1!C3845,0,1)","v":0}]
[{"$f":"IF(Sheet1!C3847>Sheet1!C3846,0,1)","v":0}]
[{"$f":"IF(Sheet1!C3848>Sheet1!C3847,0,1)","v":0}]
[{"$f":"IF(Sheet1!C3849>Sheet1!C3848,0,1)","v":0}]
[{"$f":"IF(Sheet1!C3850>Sheet1!C3849,0,1)","v":0}]
[{"$f":"IF(Sheet1!C3851>Sheet1!C3850,0,1)","v":0}]
[{"$f":"IF(Sheet1!C3852>Sheet1!C3851,0,1)","v":0}]
[{"$f":"IF(Sheet1!C3853>Sheet1!C3852,0,1)","v":0}]
[{"$f":"IF(Sheet1!C3854>Sheet1!C3853,0,1)","v":0}]
[{"$f":"IF(Sheet1!C3855>Sheet1!C3854,0,1)","v":0}]
[{"$f":"IF(Sheet1!C3856>Sheet1!C3855,0,1)","v":0}]
[{"$f":"IF(Sheet1!C3857>Sheet1!C3856,0,1)","v":0}]
[{"$f":"IF(Sheet1!C3858>Sheet1!C3857,0,1)","v":0}]
[{"$f":"IF(Sheet1!C3859>Sheet1!C3858,0,1)","v":0}]
[{"$f":"IF(Sheet1!C3860>Sheet1!C3859,0,1)","v":0}]
[{"$f":"IF(Sheet1!C3861>Sheet1!C3860,0,1)","v":0}]
[{"$f":"IF(Sheet1!C3862>Sheet1!C3861,0,1)","v":0}]
[{"$f":"IF(Sheet1!C3863>Sheet1!C3862,0,1)","v":0}]
[{"$f":"IF(Sheet1!C3864>Sheet1!C3863,0,1)","v":0}]
[{"$f":"IF(Sheet1!C3865>Sheet1!C3864,0,1)","v":0}]
[{"$f":"IF(Sheet1!C3866>Sheet1!C3865,0,1)","v":0}]
[{"$f":"IF(Sheet1!C3867>Sheet1!C3866,0,1)","v":0}]
[{"$f":"IF(Sheet1!C3868>Sheet1!C3867,0,1)","v":0}]
[{"$f":"IF(Sheet1!C3869>Sheet1!C3868,0,1)","v":0}]
[{"$f":"IF(Sheet1!C3870>Sheet1!C3869,0,1)","v":0}]
[{"$f":"IF(Sheet1!C3871>Sheet1!C3870,0,1)","v":0}]
[{"$f":"IF(Sheet1!C3872>Sheet1!C3871,0,1)","v":0}]
[{"$f":"IF(Sheet1!C3873>Sheet1!C3872,0,1)","v":0}]
[{"$f":"IF(Sheet1!C3874>Sheet1!C3873,0,1)","v":0}]
[{"$f":"IF(Sheet1!C3875>Sheet1!C3874,0,1)","v":0}]
[{"$f":"IF(Sheet1!C3876>Sheet1!C3875,0,1)","v":0}]
[{"$f":"IF(Sheet1!C3877>Sheet1!C3876,0,1)","v":0}]
[{"$f":"IF(Sheet1!C3878>Sheet1!C3877,0,1)","v":0}]
[{"$f":"IF(Sheet1!C3879>Sheet1!C3878,0,1)","v":0}]
[{"$f":"IF(Sheet1!C3880>Sheet1!C3879,0,1)","v":0}]
[{"$f":"IF(Sheet1!C3881>Sheet1!C3880,0,1)","v":0}]
[{"$f":"IF(Sheet1!C3882>Sheet1!C3881,0,1)","v":0}]
[{"$f":"IF(Sheet1!C3883>Sheet1!C3882,0,1)","v":0}]
[{"$f":"IF(Sheet1!C3884>Sheet1!C3883,0,1)","v":0}]
[{"$f":"IF(Sheet1!C3885>Sheet1!C3884,0,1)","v":0}]
[{"$f":"IF(Sheet1!C3886>Sheet1!C3885,0,1)","v":0}]
[{"$f":"IF(Sheet1!C3887>Sheet1!C3886,0,1)","v":0}]
[{"$f":"IF(Sheet1!C3888>Sheet1!C3887,0,1)","v":0}]
[{"$f":"IF(Sheet1!C3889>Sheet1!C3888,0,1)","v":0}]
[{"$f":"IF(Sheet1!C3890>Sheet1!C3889,0,1)","v":0}]
[{"$f":"IF(Sheet1!C3891>Sheet1!C3890,0,1)","v":0}]
[{"$f":"IF(Sheet1!C3892>Sheet1!C3891,0,1)","v":0}]
[{"$f":"IF(Sheet1!C3893>Sheet1!C3892,0,1)","v":0}]
[{"$f":"IF(Sheet1!C3894>Sheet1!C3893,0,1)","v":0}]
[{"$f":"IF(Sheet1!C3895>Sheet1!C3894,0,1)","v":0}]
[{"$f":"IF(Sheet1!C3896>Sheet1!C3895,0,1)","v":0}]
[{"$f":"IF(Sheet1!C3897>Sheet1!C3896,0,1)","v":0}]
[{"$f":"IF(Sheet1!C3898>Sheet1!C3897,0,1)","v":0}]
[{"$f":"IF(Sheet1!C3899>Sheet1!C3898,0,1)","v":0}]
[{"$f":"IF(Sheet1!C3900>Sheet1!C3899,0,1)","v":0}]
[{"$f":"IF(Sheet1!C3901>Sheet1!C3900,0,1)","v":0}]
[{"$f":"IF(Sheet1!C3902>Sheet1!C3901,0,1)","v":0}]
[{"$f":"IF(Sheet1!C3903>Sheet1!C3902,0,1)","v":0}]
[{"$f":"IF(Sheet1!C3904>Sheet1!C3903,0,1)","v":0}]
[{"$f":"IF(Sheet1!C3905>Sheet1!C3904,0,1)","v":0}]
[{"$f":"IF(Sheet1!C3906>Sheet1!C3905,0,1)","v":0}]
[{"$f":"IF(Sheet1!C3907>Sheet1!C3906,0,1)","v":0}]
[{"$f":"IF(Sheet1!C3908>Sheet1!C3907,0,1)","v":0}]
[{"$f":"IF(Sheet1!C3909>Sheet1!C3908,0,1)","v":0}]
[{"$f":"IF(Sheet1!C3910>Sheet1!C3909,0,1)","v":0}]
[{"$f":"IF(Sheet1!C3911>Sheet1!C3910,0,1)","v":0}]
[{"$f":"IF(Sheet1!C3912>Sheet1!C3911,0,1)","v":0}]
[{"$f":"IF(Sheet1!C3913>Sheet1!C3912,0,1)","v":0}]
[{"$f":"IF(Sheet1!C3914>Sheet1!C3913,0,1)","v":0}]
[{"$f":"IF(Sheet1!C3915>Sheet1!C3914,0,1)","v":0}]
[{"$f":"IF(Sheet1!C3916>Sheet1!C3915,0,1)","v":0}]
[{"$f":"IF(Sheet1!C3917>Sheet1!C3916,0,1)","v":0}]
[{"$f":"IF(Sheet1!C3918>Sheet1!C3917,0,1)","v":0}]
[{"$f":"IF(Sheet1!C3919>Sheet1!C3918,0,1)","v":0}]
[{"$f":"IF(Sheet1!C3920>Sheet1!C3919,0,1)","v":0}]
[{"$f":"IF(Sheet1!C3921>Sheet1!C3920,0,1)","v":0}]
[{"$f":"IF(Sheet1!C3922>Sheet1!C3921,0,1)","v":0}]
[{"$f":"IF(Sheet1!C3923>Sheet1!C3922,0,1)","v":0}]
[{"$f":"IF(Sheet1!C3924>Sheet1!C3923,0,1)","v":0}]
[{"$f":"IF(Sheet1!C3925>Sheet1!C3924,0,1)","v":0}]
[{"$f":"IF(Sheet1!C3926>Sheet1!C3925,0,1)","v":0}]
[{"$f":"IF(Sheet1!C3927>Sheet1!C3926,0,1)","v":0}]
[{"$f":"IF(Sheet1!C3928>Sheet1!C3927,0,1)","v":0}]
[{"$f":"IF(Sheet1!C3929>Sheet1!C3928,0,1)","v":0}]
[{"$f":"IF(Sheet1!C3930>Sheet1!C3929,0,1)","v":0}]
[{"$f":"IF(Sheet1!C3931>Sheet1!C3930,0,1)","v":0}]
[{"$f":"IF(Sheet1!C3932>Sheet1!C3931,0,1)","v":0}]
[{"$f":"IF(Sheet1!C3933>Sheet1!C3932,0,1)","v":0}]
[{"$f":"IF(Sheet1!C3934>Sheet1!C3933,0,1)","v":0}]
[{"$f":"IF(Sheet1!C3935>Sheet1!C3934,0,1)","v":0}]
[{"$f":"IF(Sheet1!C3936>Sheet1!C3935,0,1)","v":0}]
[{"$f":"IF(Sheet1!C3937>Sheet1!C3936,0,1)","v":0}]
[{"$f":"IF(Sheet1!C3938>Sheet1!C3937,0,1)","v":0}]
[{"$f":"IF(Sheet1!C3939>Sheet1!C3938,0,1)","v":0}]
[{"$f":"IF(Sheet1!C3940>Sheet1!C3939,0,1)","v":0}]
[{"$f":"IF(Sheet1!C3941>Sheet1!C3940,0,1)","v":0}]
[{"$f":"IF(Sheet1!C3942>Sheet1!C3941,0,1)","v":0}]
[{"$f":"IF(Sheet1!C3943>Sheet1!C3942,0,1)","v":0}]
[{"$f":"IF(Sheet1!C3944>Sheet1!C3943,0,1)","v":0}]
[{"$f":"IF(Sheet1!C3945>Sheet1!C3944,0,1)","v":0}]
[{"$f":"IF(Sheet1!C3946>Sheet1!C3945,0,1)","v":0}]
[{"$f":"IF(Sheet1!C3947>Sheet1!C3946,0,1)","v":0}]
[{"$f":"IF(Sheet1!C3948>Sheet1!C3947,0,1)","v":0}]
[{"$f":"IF(Sheet1!C3949>Sheet1!C3948,0,1)","v":0}]
[{"$f":"IF(Sheet1!C3950>Sheet1!C3949,0,1)","v":0}]
[{"$f":"IF(Sheet1!C3951>Sheet1!C3950,0,1)","v":0}]
[{"$f":"IF(Sheet1!C3952>Sheet1!C3951,0,1)","v":0}]
[{"$f":"IF(Sheet1!C3953>Sheet1!C3952,0,1)","v":0}]
[{"$f":"IF(Sheet1!C3954>Sheet1!C3953,0,1)","v":0}]
[{"$f":"IF(Sheet1!C3955>Sheet1!C3954,0,1)","v":0}]
[{"$f":"IF(Sheet1!C3956>Sheet1!C3955,0,1)","v":0}]
[{"$f":"IF(Sheet1!C3957>Sheet1!C3956,0,1)","v":0}]
[{"$f":"IF(Sheet1!C3958>Sheet1!C3957,0,1)","v":0}]
[{"$f":"IF(Sheet1!C3959>Sheet1!C3958,0,1)","v":0}]
[{"$f":"IF(Sheet1!C3960>Sheet1!C3959,0,1)","v":0}]
[{"$f":"IF(Sheet1!C3961>Sheet1!C3960,0,1)","v":0}]
[{"$f":"IF(Sheet1!C3962>Sheet1!C3961,0,1)","v":0}]
[{"$f":"IF(Sheet1!C3963>Sheet1!C3962,0,1)","v":0}]
[{"$f":"IF(Sheet1!C3964>Sheet1!C3963,0,1)","v":0}]
[{"$f":"IF(Sheet1!C3965>Sheet1!C3964,0,1)","v":0}]
[{"$f":"IF(Sheet1!C3966>Sheet1!C3965,0,1)","v":0}]
[{"$f":"IF(Sheet1!C3967>Sheet1!C3966,0,1)","v":0}]
[{"$f":"IF(Sheet1!C3968>Sheet1!C3967,0,1)","v":0}]
[{"$f":"IF(Sheet1!C3969>Sheet1!C3968,0,1)","v":0}]
[{"$f":"IF(Sheet1!C3970>Sheet1!C3969,0,1)","v":0}]
[{"$f":"IF(Sheet1!C3971>Sheet1!C3970,0,1)","v":0}]
[{"$f":"IF(Sheet1!C3972>Sheet1!C3971,0,1)","v":0}]
[{"$f":"IF(Sheet1!C3973>Sheet1!C3972,0,1)","v":0}]
[{"$f":"IF(Sheet1!C3974>Sheet1!C3973,0,1)","v":0}]
[{"$f":"IF(Sheet1!C3975>Sheet1!C3974,0,1)","v":0}]
[{"$f":"IF(Sheet1!C3976>Sheet1!C3975,0,1)","v":0}]
[{"$f":"IF(Sheet1!C3977>Sheet1!C3976,0,1)","v":0}]
[{"$f":"IF(Sheet1!C3978>Sheet1!C3977,0,1)","v":0}]
[{"$f":"IF(Sheet1!C3979>Sheet1!C3978,0,1)","v":0}]
[{"$f":"IF(Sheet1!C3980>Sheet1!C3979,0,1)","v":0}]
[{"$f":"IF(Sheet1!C3981>Sheet1!C3980,0,1)","v":0}]
[{"$f":"IF(Sheet1!C3982>Sheet1!C3981,0,1)","v":0}]
[{"$f":"IF(Sheet1!C3983>Sheet1!C3982,0,1)","v":0}]
[{"$f":"IF(Sheet1!C3984>Sheet1!C3983,0,1)","v":0}]
[{"$f":"IF(Sheet1!C3985>Sheet1!C3984,0,1)","v":0}]
[{"$f":"IF(Sheet1!C3986>Sheet1!C3985,0,1)","v":0}]
[{"$f":"IF(Sheet1!C3987>Sheet1!C3986,0,1)","v":0}]
[{"$f":"IF(Sheet1!C3988>Sheet1!C3987,0,1)","v":0}]
[{"$f":"IF(Sheet1!C3989>Sheet1!C3988,0,1)","v":0}]
[{"$f":"IF(Sheet1!C3990>Sheet1!C3989,0,1)","v":0}]
[{"$f":"IF(Sheet1!C3991>Sheet1!C3990,0,1)","v":0}]
[{"$f":"IF(Sheet1!C3992>Sheet1!C3991,0,1)","v":0}]
[{"$f":"IF(Sheet1!C3993>Sheet1!C3992,0,1)","v":0}]
[{"$f":"IF(Sheet1!C3994>Sheet1!C3993,0,1)","v":0}]
[{"$f":"IF(Sheet1!C3995>Sheet1!C3994,0,1)","v":0}]
[{"$f":"IF(Sheet1!C3996>Sheet1!C3995,0,1)","v":0}]
[{"$f":"IF(Sheet1!C3997>Sheet1!C3996,0,1)","v":0}]
[{"$f":"IF(Sheet1!C3998>Sheet1!C3997,0,1)","v":0}]
[{"$f":"IF(Sheet1!C3999>Sheet1!C3998,0,1)","v":0}]
[{"$f":"IF(Sheet1!C4000>Sheet1!C3999,0,1)","v":0}]
[{"$f":"IF(Sheet1!C4001>Sheet1!C4000,0,1)","v":0}]
[{"$f":"IF(Sheet1!C4002>Sheet1!C4001,0,1)","v":0}]
[{"$f":"IF(Sheet1!C4003>Sheet1!C4002,0,1)","v":0}]
[{"$f":"IF(Sheet1!C4004>Sheet1!C4003,0,1)","v":0}]
[{"$f":"IF(Sheet1!C4005>Sheet1!C4004,0,1)","v":0}]
[{"$f":"IF(Sheet1!C4006>Sheet1!C4005,0,1)","v":0}]
[{"$f":"IF(Sheet1!C4007>Sheet1!C4006,0,1)","v":0}]
[{"$f":"IF(Sheet1!C4008>Sheet1!C4007,0,1)","v":0}]
[{"$f":"IF(Sheet1!C4009>Sheet1!C4008,0,1)","v":0}]
[{"$f":"IF(Sheet1!C4010>Sheet1!C4009,0,1)","v":0}]
[{"$f":"IF(Sheet1!C4011>Sheet1!C4010,0,1)","v":0}]
[{"$f":"IF(Sheet1!C4012>Sheet1!C4011,0,1)","v":0}]
[{"$f":"IF(Sheet1!C4013>Sheet1!C4012,0,1)","v":0}]
[{"$f":"IF(Sheet1!C4014>Sheet1!C4013,0,1)","v":0}]
[{"$f":"IF(Sheet1!C4015>Sheet1!C4014,0,1)","v":0}]
[{"$f":"IF(Sheet1!C4016>Sheet1!C4015,0,1)","v":0}]
[{"$f":"IF(Sheet1!C4017>Sheet1!C4016,0,1)","v":0}]
[{"$f":"IF(Sheet1!C4018>Sheet1!C4017,0,1)","v":0}]
[{"$f":"IF(Sheet1!C4019>Sheet1!C4018,0,1)","v":0}]
[{"$f":"IF(Sheet1!C4020>Sheet1!C4019,0,1)","v":0}]
[{"$f":"IF(Sheet1!C4021>Sheet1!C4020,0,1)","v":0}]
[{"$f":"IF(Sheet1!C4022>Sheet1!C4021,0,1)","v":0}]
[{"$f":"IF(Sheet1!C4023>Sheet1!C4022,0,1)","v":0}]
[{"$f":"IF(Sheet1!C4024>Sheet1!C4023,0,1)","v":0}]
[{"$f":"IF(Sheet1!C4025>Sheet1!C4024,0,1)","v":0}]
[{"$f":"IF(Sheet1!C4026>Sheet1!C4025,0,1)","v":0}]
[{"$f":"IF(Sheet1!C4027>Sheet1!C4026,0,1)","v":0}]
[{"$f":"IF(Sheet1!C4028>Sheet1!C4027,0,1)","v":0}]
[{"$f":"IF(Sheet1!C4029>Sheet1!C4028,0,1)","v":0}]
[{"$f":"IF(Sheet1!C4030>Sheet1!C4029,0,1)","v":0}]
[{"$f":"IF(Sheet1!C4031>Sheet1!C4030,0,1)","v":0}]
[{"$f":"IF(Sheet1!C4032>Sheet1!C4031,0,1)","v":0}]
[{"$f":"IF(Sheet1!C4033>Sheet1!C4032,0,1)","v":0}]
[{"$f":"IF(Sheet1!C4034>Sheet1!C4033,0,1)","v":0}]
[{"$f":"IF(Sheet1!C4035>Sheet1!C4034,0,1)","v":0}]
[{"$f":"IF(Sheet1!C4036>Sheet1!C4035,0,1)","v":0}]
[{"$f":"IF(Sheet1!C4037>Sheet1!C4036,0,1)","v":0}]
[{"$f":"IF(Sheet1!C4038>Sheet1!C4037,0,1)","v":0}]
[{"$f":"IF(Sheet1!C4039>Sheet1!C4038,0,1)","v":0}]
[{"$f":"IF(Sheet1!C4040>Sheet1!C4039,0,1)","v":0}]
[{"$f":"IF(Sheet1!C4041>Sheet1!C4040,0,1)","v":0}]
[{"$f":"IF(Sheet1!C4042>Sheet1!C4041,0,1)","v":0}]
[{"$f":"IF(Sheet1!C4043>Sheet1!C4042,0,1)","v":0}]
[{"$f":"IF(Sheet1!C4044>Sheet1!C4043,0,1)","v":0}]
[{"$f":"IF(Sheet1!C4045>Sheet1!C4044,0,1)","v":0}]
[{"$f":"IF(Sheet1!C4046>Sheet1!C4045,0,1)","v":0}]
[{"$f":"IF(Sheet1!C4047>Sheet1!C4046,0,1)","v":0}]
[{"$f":"IF(Sheet1!C4048>Sheet1!C4047,0,1)","v":0}]
[{"$f":"IF(Sheet1!C4049>Sheet1!C4048,0,1)","v":0}]
[{"$f":"IF(Sheet1!C4050>Sheet1!C4049,0,1)","v":0}]
[{"$f":"IF(Sheet1!C4051>Sheet1!C4050,0,1)","v":0}]
[{"$f":"IF(Sheet1!C4052>Sheet1!C4051,0,1)","v":0}]
[{"$f":"IF(Sheet1!C4053>Sheet1!C4052,0,1)","v":0}]
[{"$f":"IF(Sheet1!C4054>Sheet1!C4053,0,1)","v":0}]
[{"$f":"IF(Sheet1!C4055>Sheet1!C4054,0,1)","v":0}]
[{"$f":"IF(Sheet1!C4056>Sheet1!C4055,0,1)","v":0}]
[{"$f":"IF(Sheet1!C4057>Sheet1!C4056,0,1)","v":0}]
[{"$f":"IF(Sheet1!C4058>Sheet1!C4057,0,1)","v":0}]
[{"$f":"IF(Sheet1!C4059>Sheet1!C4058,0,1)","v":0}]
[{"$f":"IF(Sheet1!C4060>Sheet1!C4059,0,1)","v":0}]
[{"$f":"IF(Sheet1!C4061>Sheet1!C4060,0,1)","v":0}]
[{"$f":"IF(Sheet1!C4062>Sheet1!C4061,0,1)","v":0}]
[{"$f":"IF(Sheet1!C4063>Sheet1!C4062,0,1)","v":0}]
[{"$f":"IF(Sheet1!C4064>Sheet1!C4063,0,1)","v":0}]
[{"$f":"IF(Sheet1!C4065>Sheet1!C4064,0,1)","v":0}]
[{"$f":"IF(Sheet1!C4066>Sheet1!C4065,0,1)","v":0}]
[{"$f":"IF(Sheet1!C4067>Sheet1!C4066,0,1)","v":0}]
[{"$f":"IF(Sheet1!C4068>Sheet1!C4067,0,1)","v":0}]
[{"$f":"IF(Sheet1!C4069>Sheet1!C4068,0,1)","v":0}]
[{"$f":"IF(Sheet1!C4070>Sheet1!C4069,0,1)","v":0}]
[{"$f":"IF(Sheet1!C4071>Sheet1!C4070,0,1)","v":0}]
[{"$f":"IF(Sheet1!C4072>Sheet1!C4071,0,1)","v":0}]
[{"$f":"IF(Sheet1!C4073>Sheet1!C4072,0,1)","v":0}]
[{"$f":"IF(Sheet1!C4074>Sheet1!C4073,0,1)","v":0}]
[{"$f":"IF(Sheet1!C4075>Sheet1!C4074,0,1)","v":0}]
[{"$f":"IF(Sheet1!C4076>Sheet1!C4075,0,1)","v":0}]
[{"$f":"IF(Sheet1!C4077>Sheet1!C4076,0,1)","v":0}]
[{"$f":"IF(Sheet1!C4078>Sheet1!C4077,0,1)","v":0}]
[{"$f":"IF(Sheet1!C4079>Sheet1!C4078,0,1)","v":0}]
[{"$f":"IF(Sheet1!C4080>Sheet1!C4079,0,1)","v":0}]
[{"$f":"IF(Sheet1!C4081>Sheet1!C4080,0,1)","v":0}]
[{"$f":"IF(Sheet1!C4082>Sheet1!C4081,0,1)","v":0}]
[{"$f":"IF(Sheet1!C4083>Sheet1!C4082,0,1)","v":0}]
[{"$f":"IF(Sheet1!C4084>Sheet1!C4083,0,1)","v":0}]
[{"$f":"IF(Sheet1!C4085>Sheet1!C4084,0,1)","v":0}]
[{"$f":"IF(Sheet1!C4086>Sheet1!C4085,0,1)","v":0}]
[{"$f":"IF(Sheet1!C4087>Sheet1!C4086,0,1)","v":0}]
[{"$f":"IF(Sheet1!C4088>Sheet1!C4087,0,1)","v":0}]
[{"$f":"IF(Sheet1!C4089>Sheet1!C4088,0,1)","v":0}]
[{"$f":"IF(Sheet1!C4090>Sheet1!C4089,0,1)","v":0}]
[{"$f":"IF(Sheet1!C4091>Sheet1!C4090,0,1)","v":0}]
[{"$f":"IF(Sheet1!C4092>Sheet1!C4091,0,1)","v":0}]
[{"$f":"IF(Sheet1!C4093>Sheet1!C4092,0,1)","v":0}]
[{"$f":"IF(Sheet1!C4094>Sheet1!C4093,0,1)","v":0}]
[{"$f":"IF(Sheet1!C4095>Sheet1!C4094,0,1)","v":0}]
[{"$f":"IF(Sheet1!C4096>Sheet1!C4095,0,1)","v":0}]
[{"$f":"IF(Sheet1!C4097>Sheet1!C4096,0,1)","v":0}]
[{"$f":"IF(Sheet1!C4098>Sheet1!C4097,0,1)","v":0}]
[{"$f":"IF(Sheet1!C4099>Sheet1!C4098,0,1)","v":0}]
[{"$f":"IF(Sheet1!C4100>Sheet1!C4099,0,1)","v":0}]
[{"$f":"IF(Sheet1!C4101>Sheet1!C4100,0,1)","v":0}]
[{"$f":"IF(Sheet1!C4102>Sheet1!C4101,0,1)","v":0}]
[{"$f":"IF(Sheet1!C4103>Sheet1!C4102,0,1)","v":0}]
[{"$f":"IF(Sheet1!C4104>Sheet1!C4103,0,1)","v":0}]
[{"$f":"IF(Sheet1!C4105>Sheet1!C4104,0,1)","v":0}]
[{"$f":"IF(Sheet1!C4106>Sheet1!C4105,0,1)","v":0}]
[{"$f":"IF(Sheet1!C4107>Sheet1!C4106,0,1)","v":0}]
[{"$f":"IF(Sheet1!C4108>Sheet1!C4107,0,1)","v":0}]
[{"$f":"IF(Sheet1!C4109>Sheet1!C4108,0,1)","v":0}]
[{"$f":"IF(Sheet1!C4110>Sheet1!C4109,0,1)","v":0}]
[{"$f":"IF(Sheet1!C4111>Sheet1!C4110,0,1)","v":0}]
[{"$f":"IF(Sheet1!C4112>Sheet1!C4111,0,1)","v":0}]
[{"$f":"IF(Sheet1!C4113>Sheet1!C4112,0,1)","v":0}]
[{"$f":"IF(Sheet1!C4114>Sheet1!C4113,0,1)","v":0}]
[{"$f":"IF(Sheet1!C4115>Sheet1!C4114,0,1)","v":0}]
[{"$f":"IF(Sheet1!C4116>Sheet1!C4115,0,1)","v":0}]
[{"$f":"IF(Sheet1!C4117>Sheet1!C4116,0,1)","v":0}]
[{"$f":"IF(Sheet1!C4118>Sheet1!C4117,0,1)","v":0}]
[{"$f":"IF(Sheet1!C4119>Sheet1!C4118,0,1)","v":0}]
[{"$f":"IF(Sheet1!C4120>Sheet1!C4119,0,1)","v":0}]
[{"$f":"IF(Sheet1!C4121>Sheet1!C4120,0,1)","v":0}]
[{"$f":"IF(Sheet1!C4122>Sheet1!C4121,0,1)","v":0}]
[{"$f":"IF(Sheet1!C4123>Sheet1!C4122,0,1)","v":0}]
[{"$f":"IF(Sheet1!C4124>Sheet1!C4123,0,1)","v":0}]
[{"$f":"IF(Sheet1!C4125>Sheet1!C4124,0,1)","v":0}]
[{"$f":"IF(Sheet1!C4126>Sheet1!C4125,0,1)","v":0}]
[{"$f":"IF(Sheet1!C4127>Sheet1!C4126,0,1)","v":0}]
[{"$f":"IF(Sheet1!C4128>Sheet1!C4127,0,1)","v":0}]
[{"$f":"IF(Sheet1!C4129>Sheet1!C4128,0,1)","v":0}]
[{"$f":"IF(Sheet1!C4130>Sheet1!C4129,0,1)","v":0}]
[{"$f":"IF(Sheet1!C4131>Sheet1!C4130,0,1)","v":0}]
[{"$f":"IF(Sheet1!C4132>Sheet1!C4131,0,1)","v":0}]
[{"$f":"IF(Sheet1!C4133>Sheet1!C4132,0,1)","v":0}]
[{"$f":"IF(Sheet1!C4134>Sheet1!C4133,0,1)","v":0}]
[{"$f":"IF(Sheet1!C4135>Sheet1!C4134,0,1)","v":0}]
[{"$f":"IF(Sheet1!C4136>Sheet1!C4135,0,1)","v":0}]
[{"$f":"IF(Sheet1!C4137>Sheet1!C4136,0,1)","v":0}]
[{"$f":"IF(Sheet1!C4138>Sheet1!C4137,0,1)","v":0}]
[{"$f":"IF(Sheet1!C4139>Sheet1!C4138,0,1)","v":0}]
[{"$f":"IF(Sheet1!C4140>Sheet1!C4139,0,1)","v":0}]
[{"$f":"IF(Sheet1!C4141>Sheet1!C4140,0,1)","v":0}]
[{"$f":"IF(Sheet1!C4142>Sheet1!C4141,0,1)","v":0}]
[{"$f":"IF(Sheet1!C4143>Sheet1!C4142,0,1)","v":0}]
[{"$f":"IF(Sheet1!C4144>Sheet1!C4143,0,1)","v":0}]
[{"$f":"IF(Sheet1!C4145>Sheet1!C4144,0,1)","v":0}]
[{"$f":"IF(Sheet1!C4146>Sheet1!C4145,0,1)","v":0}]
[{"$f":"IF(Sheet1!C4147>Sheet1!C4146,0,1)","v":0}]
[{"$f":"IF(Sheet1!C4148>Sheet1!C4147,0,1)","v":0}]
[{"$f":"IF(Sheet1!C4149>Sheet1!C4148,0,1)","v":0}]
[{"$f":"IF(Sheet1!C4150>Sheet1!C4149,0,1)","v":0}]
[{"$f":"IF(Sheet1!C4151>Sheet1!C4150,0,1)","v":0}]
[{"$f":"IF(Sheet1!C4152>Sheet1!C4151,0,1)","v":0}]
[{"$f":"IF(Sheet1!C4153>Sheet1!C4152,0,1)","v":0}]
[{"$f":"IF(Sheet1!C4154>Sheet1!C4153,0,1)","v":0}]
[{"$f":"IF(Sheet1!C4155>Sheet1!C4154,0,1)","v":0}]
[{"$f":"IF(Sheet1!C4156>Sheet1!C4155,0,1)","v":0}]
[{"$f":"IF(Sheet1!C4157>Sheet1!C4156,0,1)","v":0}]
[{"$f":"IF(Sheet1!C4158>Sheet1!C4157,0,1)","v":0}]
[{"$f":"IF(Sheet1!C4159>Sheet1!C4158,0,1)","v":0}]
[{"$f":"IF(Sheet1!C4160>Sheet1!C4159,0,1)","v":0}]
[{"$f":"IF(Sheet1!C4161>Sheet1!C4160,0,1)","v":0}]
[{"$f":"IF(Sheet1!C4162>Sheet1!C4161,0,1)","v":0}]
[{"$f":"IF(Sheet1!C4163>Sheet1!C4162,0,1)","v":0}]
[{"$f":"IF(Sheet1!C4164>Sheet1!C4163,0,1)","v":0}]
[{"$f":"IF(Sheet1!C4165>Sheet1!C4164,0,1)","v":0}]
[{"$f":"IF(Sheet1!C4166>Sheet1!C4165,0,1)","v":0}]
[{"$f":"IF(Sheet1!C4167>Sheet1!C4166,0,1)","v":0}]
[{"$f":"IF(Sheet1!C4168>Sheet1!C4167,0,1)","v":0}]
[{"$f":"IF(Sheet1!C4169>Sheet1!C4168,0,1)","v":0}]
[{"$f":"IF(Sheet1!C4170>Sheet1!C4169,0,1)","v":0}]
[{"$f":"IF(Sheet1!C4171>Sheet1!C4170,0,1)","v":0}]
[{"$f":"IF(Sheet1!C4172>Sheet1!C4171,0,1)","v":0}]
[{"$f":"IF(Sheet1!C4173>Sheet1!C4172,0,1)","v":0}]
[{"$f":"IF(Sheet1!C4174>Sheet1!C4173,0,1)","v":0}]
[{"$f":"IF(Sheet1!C4175>Sheet1!C4174,0,1)","v":0}]
[{"$f":"IF(Sheet1!C4176>Sheet1!C4175,0,1)","v":0}]
[{"$f":"IF(Sheet1!C4177>Sheet1!C4176,0,1)","v":0}]
[{"$f":"IF(Sheet1!C4178>Sheet1!C4177,0,1)","v":0}]
[{"$f":"IF(Sheet1!C4179>Sheet1!C4178,0,1)","v":0}]
[{"$f":"IF(Sheet1!C4180>Sheet1!C4179,0,1)","v":0}]
[{"$f":"IF(Sheet1!C4181>Sheet1!C4180,0,1)","v":0}]
[{"$f":"IF(Sheet1!C4182>Sheet1!C4181,0,1)","v":0}]
[{"$f":"IF(Sheet1!C4183>Sheet1!C4182,0,1)","v":0}]
[{"$f":"IF(Sheet1!C4184>Sheet1!C4183,0,1)","v":0}]
[{"$f":"IF(Sheet1!C4185>Sheet1!C4184,0,1)","v":0}]
[{"$f":"IF(Sheet1!C4186>Sheet1!C4185,0,1)","v":0}]
[{"$f":"IF(Sheet1!C4187>Sheet1!C4186,0,1)","v":0}]
[{"$f":"IF(Sheet1!C4188>Sheet1!C4187,0,1)","v":0}]
[{"$f":"IF(Sheet1!C4189>Sheet1!C4188,0,1)","v":0}]
[{"$f":"IF(Sheet1!C4190>Sheet1!C4189,0,1)","v":0}]
[{"$f":"IF(Sheet1!C4191>Sheet1!C4190,0,1)","v":0}]
[{"$f":"IF(Sheet1!C4192>Sheet1!C4191,0,1)","v":0}]
[{"$f":"IF(Sheet1!C4193>Sheet1!C4192,0,1)","v":0}]
[{"$f":"IF(Sheet1!C4194>Sheet1!C4193,0,1)","v":0}]
[{"$f":"IF(Sheet1!C4195>Sheet1!C4194,0,1)","v":0}]
[{"$f":"IF(Sheet1!C4196>Sheet1!C4195,0,1)","v":0}]
[{"$f":"IF(Sheet1!C4197>Sheet1!C4196,0,1)","v":0}]
[{"$f":"IF(Sheet1!C4198>Sheet1!C4197,0,1)","v":0}]
[{"$f":"IF(Sheet1!C4199>Sheet1!C4198,0,1)","v":0}]
[{"$f":"IF(Sheet1!C4200>Sheet1!C4199,0,1)","v":0}]
[{"$f":"IF(Sheet1!C4201>Sheet1!C4200,0,1)","v":0}]
[{"$f":"IF(Sheet1!C4202>Sheet1!C4201,0,1)","v":0}]
[{"$f":"IF(Sheet1!C4203>Sheet1!C4202,0,1)","v":0}]
[{"$f":"IF(Sheet1!C4204>Sheet1!C4203,0,1)","v":0}]
[{"$f":"IF(Sheet1!C4205>Sheet1!C4204,0,1)","v":0}]
[{"$f":"IF(Sheet1!C4206>Sheet1!C4205,0,1)","v":0}]
[{"$f":"IF(Sheet1!C4207>Sheet1!C4206,0,1)","v":0}]
[{"$f":"IF(Sheet1!C4208>Sheet1!C4207,0,1)","v":0}]
[{"$f":"IF(Sheet1!C4209>Sheet1!C4208,0,1)","v":0}]
[{"$f":"IF(Sheet1!C4210>Sheet1!C4209,0,1)","v":0}]
[{"$f":"IF(Sheet1!C4211>Sheet1!C4210,0,1)","v":0}]
[{"$f":"IF(Sheet1!C4212>Sheet1!C4211,0,1)","v":0}]
[{"$f":"IF(Sheet1!C4213>Sheet1!C4212,0,1)","v":0}]
[{"$f":"IF(Sheet1!C4214>Sheet1!C4213,0,1)","v":0}]
[{"$f":"IF(Sheet1!C4215>Sheet1!C4214,0,1)","v":0}]
[{"$f":"IF(Sheet1!C4216>Sheet1!C4215,0,1)","v":0}]
[{"$f":"IF(Sheet1!C4217>Sheet1!C4216,0,1)","v":0}]
[{"$f":"IF(Sheet1!C4218>Sheet1!C4217,0,1)","v":0}]
[{"$f":"IF(Sheet1!C4219>Sheet1!C4218,0,1)","v":0}]
[{"$f":"IF(Sheet1!C4220>Sheet1!C4219,0,1)","v":0}]
[{"$f":"IF(Sheet1!C4221>Sheet1!C4220,0,1)","v":0}]
[{"$f":"IF(Sheet1!C4222>Sheet1!C4221,0,1)","v":0}]
[{"$f":"IF(Sheet1!C4223>Sheet1!C4222,0,1)","v":0}]
[{"$f":"IF(Sheet1!C4224>Sheet1!C4223,0,1)","v":0}]
[{"$f":"IF(Sheet1!C4225>Sheet1!C4224,0,1)","v":0}]
[{"$f":"IF(Sheet1!C4226>Sheet1!C4225,0,1)","v":0}]
[{"$f":"IF(Sheet1!C4227>Sheet1!C4226,0,1)","v":0}]
[{"$f":"IF(Sheet1!C4228>Sheet1!C4227,0,1)","v":0}]
[{"$f":"IF(Sheet1!C4229>Sheet1!C4228,0,1)","v":0}]
[{"$f":"IF(Sheet1!C4230>Sheet1!C4229,0,1)","v":0}]
[{"$f":"IF(Sheet1!C4231>Sheet1!C4230,0,1)","v":0}]
[{"$f":"IF(Sheet1!C4232>Sheet1!C4231,0,1)","v":0}]
[{"$f":"IF(Sheet1!C4233>Sheet1!C4232,0,1)","v":0}]
[{"$f":"IF(Sheet1!C4234>Sheet1!C4233,0,1)","v":0}]
[{"$f":"IF(Sheet1!C4235>Sheet1!C4234,0,1)","v":0}]
[{"$f":"IF(Sheet1!C4236>Sheet1!C4235,0,1)","v":0}]
[{"$f":"IF(Sheet1!C4237>Sheet1!C4236,0,1)","v":0}]
[{"$f":"IF(Sheet1!C4238>Sheet1!C4237,0,1)","v":0}]
[{"$f":"IF(Sheet1!C4239>Sheet1!C4238,0,1)","v":0}]
[{"$f":"IF(Sheet1!C4240>Sheet1!C4239,0,1)","v":0}]
[{"$f":"IF(Sheet1!C4241>Sheet1!C4240,0,1)","v":0}]
[{"$f":"IF(Sheet1!C4242>Sheet1!C4241,0,1)","v":0}]
[{"$f":"IF(Sheet1!C4243>Sheet1!C4242,0,1)","v":0}]
[{"$f":"IF(Sheet1!C4244>Sheet1!C4243,0,1)","v":0}]
[{"$f":"IF(Sheet1!C4245>Sheet1!C4244,0,1)","v":0}]
[{"$f":"IF(Sheet1!C4246>Sheet1!C4245,0,1)","v":0}]
[{"$f":"IF(Sheet1!C4247>Sheet1!C4246,0,1)","v":0}]
[{"$f":"IF(Sheet1!C4248>Sheet1!C4247,0,1)","v":0}]
[{"$f":"IF(Sheet1!C4249>Sheet1!C4248,0,1)","v":0}]
[{"$f":"IF(Sheet1!C4250>Sheet1!C4249,0,1)","v":0}]
[{"$f":"IF(Sheet1!C4251>Sheet1!C4250,0,1)","v":0}]
[{"$f":"IF(Sheet1!C4252>Sheet1!C4251,0,1)","v":0}]
[{"$f":"IF(Sheet1!C4253>Sheet1!C4252,0,1)","v":0}]
[{"$f":"IF(Sheet1!C4254>Sheet1!C4253,0,1)","v":0}]
[{"$f":"IF(Sheet1!C4255>Sheet1!C4254,0,1)","v":0}]
[{"$f":"IF(Sheet1!C4256>Sheet1!C4255,0,1)","v":0}]
[{"$f":"IF(Sheet1!C4257>Sheet1!C4256,0,1)","v":0}]
[{"$f":"IF(Sheet1!C4258>Sheet1!C4257,0,1)","v":0}]
[{"$f":"IF(Sheet1!C4259>Sheet1!C4258,0,1)","v":0}]
[{"$f":"IF(Sheet1!C4260>Sheet1!C4259,0,1)","v":0}]
[{"$f":"IF(Sheet1!C4261>Sheet1!C4260,0,1)","v":0}]
[{"$f":"IF(Sheet1!C4262>Sheet1!C4261,0,1)","v":0}]
[{"$f":"IF(Sheet1!C4263>Sheet1!C4262,0,1)","v":0}]
[{"$f":"IF(Sheet1!C4264>Sheet1!C4263,0,1)","v":0}]
[{"$f":"IF(Sheet1!C4265>Sheet1!C4264,0,1)","v":0}]
[{"$f":"IF(Sheet1!C4266>Sheet1!C4265,0,1)","v":0}]
[{"$f":"IF(Sheet1!C4267>Sheet1!C4266,0,1)","v":0}]
[{"$f":"IF(Sheet1!C4268>Sheet1!C4267,0,1)","v":0}]
[{"$f":"IF(Sheet1!C4269>Sheet1!C4268,0,1)","v":0}]
[{"$f":"IF(Sheet1!C4270>Sheet1!C4269,0,1)","v":0}]
[{"$f":"IF(Sheet1!C4271>Sheet1!C4270,0,1)","v":0}]
[{"$f":"IF(Sheet1!C4272>Sheet1!C4271,0,1)","v":0}]
[{"$f":"IF(Sheet1!C4273>Sheet1!C4272,0,1)","v":0}]
[{"$f":"IF(Sheet1!C4274>Sheet1!C4273,0,1)","v":0}]
[{"$f":"IF(Sheet1!C4275>Sheet1!C4274,0,1)","v":0}]
[{"$f":"IF(Sheet1!C4276>Sheet1!C4275,0,1)","v":0}]
[{"$f":"IF(Sheet1!C4277>Sheet1!C4276,0,1)","v":0}]
[{"$f":"IF(Sheet1!C4278>Sheet1!C4277,0,1)","v":0}]
[{"$f":"IF(Sheet1!C4279>Sheet1!C4278,0,1)","v":0}]
[{"$f":"IF(Sheet1!C4280>Sheet1!C4279,0,1)","v":0}]
[{"$f":"IF(Sheet1!C4281>Sheet1!C4280,0,1)","v":0}]
[{"$f":"IF(Sheet1!C4282>Sheet1!C4281,0,1)","v":0}]
[{"$f":"IF(Sheet1!C4283>Sheet1!C4282,0,1)","v":0}]
[{"$f":"IF(Sheet1!C4284>Sheet1!C4283,0,1)","v":0}]
[{"$f":"IF(Sheet1!C4285>Sheet1!C4284,0,1)","v":0}]
[{"$f":"IF(Sheet1!C4286>Sheet1!C4285,0,1)","v":0}]
[{"$f":"IF(Sheet1!C4287>Sheet1!C4286,0,1)","v":0}]
[{"$f":"IF(Sheet1!C4288>Sheet1!C4287,0,1)","v":0}]
[{"$f":"IF(Sheet1!C4289>Sheet1!C4288,0,1)","v":0}]
[{"$f":"IF(Sheet1!C4290>Sheet1!C4289,0,1)","v":0}]
[{"$f":"IF(Sheet1!C4291>Sheet1!C4290,0,1)","v":0}]
[{"$f":"IF(Sheet1!C4292>Sheet1!C4291,0,1)","v":0}]
[{"$f":"IF(Sheet1!C4293>Sheet1!C4292,0,1)","v":0}]
[{"$f":"IF(Sheet1!C4294>Sheet1!C4293,0,1)","v":0}]
[{"$f":"IF(Sheet1!C4295>Sheet1!C4294,0,1)","v":0}]
[{"$f":"IF(Sheet1!C4296>Sheet1!C4295,0,1)","v":0}]
[{"$f":"IF(Sheet1!C4297>Sheet1!C4296,0,1)","v":0}]
[{"$f":"IF(Sheet1!C4298>Sheet1!C4297,0,1)","v":0}]
[{"$f":"IF(Sheet1!C4299>Sheet1!C4298,0,1)","v":0}]
[{"$f":"IF(Sheet1!C4300>Sheet1!C4299,0,1)","v":0}]
[{"$f":"IF(Sheet1!C4301>Sheet1!C4300,0,1)","v":0}]
[{"$f":"IF(Sheet1!C4302>Sheet1!C4301,0,1)","v":0}]
[{"$f":"IF(Sheet1!C4303>Sheet1!C4302,0,1)","v":0}]
[{"$f":"IF(Sheet1!C4304>Sheet1!C4303,0,1)","v":0}]
[{"$f":"IF(Sheet1!C4305>Sheet1!C4304,0,1)","v":0}]
[{"$f":"IF(Sheet1!C4306>Sheet1!C4305,0,1)","v":0}]
[{"$f":"IF(Sheet1!C4307>Sheet1!C4306,0,1)","v":0}]
[{"$f":"IF(Sheet1!C4308>Sheet1!C4307,0,1)","v":0}]
[{"$f":"IF(Sheet1!C4309>Sheet1!C4308,0,1)","v":0}]
[{"$f":"IF(Sheet1!C4310>Sheet1!C4309,0,1)","v":0}]
[{"$f":"IF(Sheet1!C4311>Sheet1!C4310,0,1)","v":0}]
[{"$f":"IF(Sheet1!C4312>Sheet1!C4311,0,1)","v":0}]
[{"$f":"IF(Sheet1!C4313>Sheet1!C4312,0,1)","v":0}]
[{"$f":"IF(Sheet1!C4314>Sheet1!C4313,0,1)","v":0}]
[{"$f":"IF(Sheet1!C4315>Sheet1!C4314,0,1)","v":0}]
[{"$f":"IF(Sheet1!C4316>Sheet1!C4315,0,1)","v":0}]
[{"$f":"IF(Sheet1!C4317>Sheet1!C4316,0,1)","v":0}]
[{"$f":"IF(Sheet1!C4318>Sheet1!C4317,0,1)","v":0}]
[{"$f":"IF(Sheet1!C4319>Sheet1!C4318,0,1)","v":0}]
[{"$f":"IF(Sheet1!C4320>Sheet1!C4319,0,1)","v":0}]
[{"$f":"IF(Sheet1!C4321>Sheet1!C4320,0,1)","v":0}]
[{"$f":"IF(Sheet1!C4322>Sheet1!C4321,0,1)","v":0}]
[{"$f":"IF(Sheet1!C4323>Sheet1!C4322,0,1)","v":0}]
[{"$f":"IF(Sheet1!C4324>Sheet1!C4323,0,1)","v":0}]
[{"$f":"IF(Sheet1!C4325>Sheet1!C4324,0,1)","v":0}]
[{"$f":"IF(Sheet1!C4326>Sheet1!C4325,0,1)","v":0}]
[{"$f":"IF(Sheet1!C4327>Sheet1!C4326,0,1)","v":0}]
[{"$f":"IF(Sheet1!C4328>Sheet1!C4327,0,1)","v":0}]
[{"$f":"IF(Sheet1!C4329>Sheet1!C4328,0,1)","v":0}]
[{"$f":"IF(Sheet1!C4330>Sheet1!C4329,0,1)","v":0}]
[{"$f":"IF(Sheet1!C4331>Sheet1!C4330,0,1)","v":0}]
[{"$f":"IF(Sheet1!C4332>Sheet1!C4331,0,1)","v":0}]
[{"$f":"IF(Sheet1!C4333>Sheet1!C4332,0,1)","v":0}]
[{"$f":"IF(Sheet1!C4334>Sheet1!C4333,0,1)","v":0}]
[{"$f":"IF(Sheet1!C4335>Sheet1!C4334,0,1)","v":0}]
[{"$f":"IF(Sheet1!C4336>Sheet1!C4335,0,1)","v":0}]
[{"$f":"IF(Sheet1!C4337>Sheet1!C4336,0,1)","v":0}]
[{"$f":"IF(Sheet1!C4338>Sheet1!C4337,0,1)","v":0}]
[{"$f":"IF(Sheet1!C4339>Sheet1!C4338,0,1)","v":0}]
[{"$f":"IF(Sheet1!C4340>Sheet1!C4339,0,1)","v":0}]
[{"$f":"IF(Sheet1!C4341>Sheet1!C4340,0,1)","v":0}]
[{"$f":"IF(Sheet1!C4342>Sheet1!C4341,0,1)","v":0}]
[{"$f":"IF(Sheet1!C4343>Sheet1!C4342,0,1)","v":0}]
[{"$f":"IF(Sheet1!C4344>Sheet1!C4343,0,1)","v":0}]
[{"$f":"IF(Sheet1!C4345>Sheet1!C4344,0,1)","v":0}]
[{"$f":"IF(Sheet1!C4346>Sheet1!C4345,0,1)","v":0}]
[{"$f":"IF(Sheet1!C4347>Sheet1!C4346,0,1)","v":0}]
[{"$f":"IF(Sheet1!C4348>Sheet1!C4347,0,1)","v":0}]
[{"$f":"IF(Sheet1!C4349>Sheet1!C4348,0,1)","v":0}]
[{"$f":"IF(Sheet1!C4350>Sheet1!C4349,0,1)","v":0}]
[{"$f":"IF(Sheet1!C4351>Sheet1!C4350,0,1)","v":0}]
[{"$f":"IF(Sheet1!C4352>Sheet1!C4351,0,1)","v":0}]
[{"$f":"IF(Sheet1!C4353>Sheet1!C4352,0,1)","v":0}]
[{"$f":"IF(Sheet1!C4354>Sheet1!C4353,0,1)","v":0}]
[{"$f":"IF(Sheet1!C4355>Sheet1!C4354,0,1)","v":0}]
[{"$f":"IF(Sheet1!C4356>Sheet1!C4355,0,1)","v":0}]
[{"$f":"IF(Sheet1!C4357>Sheet1!C4356,0,1)","v":0}]
[{"$f":"IF(Sheet1!C4358>Sheet1!C4357,0,1)","v":0}]
[{"$f":"IF(Sheet1!C4359>Sheet1!C4358,0,1)","v":0}]
[{"$f":"IF(Sheet1!C4360>Sheet1!C4359,0,1)","v":0}]
[{"$f":"IF(Sheet1!C4361>Sheet1!C4360,0,1)","v":0}]
[{"$f":"IF(Sheet1!C4362>Sheet1!C4361,0,1)","v":0}]
[{"$f":"IF(Sheet1!C4363>Sheet1!C4362,0,1)","v":0}]
[{"$f":"IF(Sheet1!C4364>Sheet1!C4363,0,1)","v":0}]
[{"$f":"IF(Sheet1!C4365>Sheet1!C4364,0,1)","v":0}]
[{"$f":"IF(Sheet1!C4366>Sheet1!C4365,0,1)","v":0}]
[{"$f":"IF(Sheet1!C4367>Sheet1!C4366,0,1)","v":0}]
[{"$f":"IF(Sheet1!C4368>Sheet1!C4367,0,1)","v":0}]
[{"$f":"IF(Sheet1!C4369>Sheet1!C4368,0,1)","v":0}]
[{"$f":"IF(Sheet1!C4370>Sheet1!C4369,0,1)","v":0}]
[{"$f":"IF(Sheet1!C4371>Sheet1!C4370,0,1)","v":0}]
[{"$f":"IF(Sheet1!C4372>Sheet1!C4371,0,1)","v":0}]
[{"$f":"IF(Sheet1!C4373>Sheet1!C4372,0,1)","v":0}]
[{"$f":"IF(Sheet1!C4374>Sheet1!C4373,0,1)","v":0}]
[{"$f":"IF(Sheet1!C4375>Sheet1!C4374,0,1)","v":0}]
[{"$f":"IF(Sheet1!C4376>Sheet1!C4375,0,1)","v":0}]
[{"$f":"IF(Sheet1!C4377>Sheet1!C4376,0,1)","v":0}]
[{"$f":"IF(Sheet1!C4378>Sheet1!C4377,0,1)","v":0}]
[{"$f":"IF(Sheet1!C4379>Sheet1!C4378,0,1)","v":0}]
[{"$f":"IF(Sheet1!C4380>Sheet1!C4379,0,1)","v":0}]
[{"$f":"IF(Sheet1!C4381>Sheet1!C4380,0,1)","v":0}]
[{"$f":"IF(Sheet1!C4382>Sheet1!C4381,0,1)","v":0}]
[{"$f":"IF(Sheet1!C4383>Sheet1!C4382,0,1)","v":0}]
[{"$f":"IF(Sheet1!C4384>Sheet1!C4383,0,1)","v":0}]
[{"$f":"IF(Sheet1!C4385>Sheet1!C4384,0,1)","v":0}]
[{"$f":"IF(Sheet1!C4386>Sheet1!C4385,0,1)","v":0}]
[{"$f":"IF(Sheet1!C4387>Sheet1!C4386,0,1)","v":0}]
[{"$f":"IF(Sheet1!C4388>Sheet1!C4387,0,1)","v":0}]
[{"$f":"IF(Sheet1!C4389>Sheet1!C4388,0,1)","v":0}]
[{"$f":"IF(Sheet1!C4390>Sheet1!C4389,0,1)","v":0}]
[{"$f":"IF(Sheet1!C4391>Sheet1!C4390,0,1)","v":0}]
[{"$f":"IF(Sheet1!C4392>Sheet1!C4391,0,1)","v":0}]
[{"$f":"IF(Sheet1!C4393>Sheet1!C4392,0,1)","v":0}]
[{"$f":"IF(Sheet1!C4394>Sheet1!C4393,0,1)","v":0}]
[{"$f":"IF(Sheet1!C4395>Sheet1!C4394,0,1)","v":0}]
[{"$f":"IF(Sheet1!C4396>Sheet1!C4395,0,1)","v":0}]
[{"$f":"IF(Sheet1!C4397>Sheet1!C4396,0,1)","v":0}]
[{"$f":"IF(Sheet1!C4398>Sheet1!C4397,0,1)","v":0}]
[{"$f":"IF(Sheet1!C4399>Sheet1!C4398,0,1)","v":0}]
[{"$f":"IF(Sheet1!C4400>Sheet1!C4399,0,1)","v":0}]
[{"$f":"IF(Sheet1!C4401>Sheet1!C4400,0,1)","v":0}]
[{"$f":"IF(Sheet1!C4402>Sheet1!C4401,0,1)","v":0}]
[{"$f":"IF(Sheet1!C4403>Sheet1!C4402,0,1)","v":0}]
[{"$f":"IF(Sheet1!C4404>Sheet1!C4403,0,1)","v":0}]
[{"$f":"IF(Sheet1!C4405>Sheet1!C4404,0,1)","v":0}]
[{"$f":"IF(Sheet1!C4406>Sheet1!C4405,0,1)","v":0}]
[{"$f":"IF(Sheet1!C4407>Sheet1!C4406,0,1)","v":0}]
[{"$f":"IF(Sheet1!C4408>Sheet1!C4407,0,1)","v":0}]
[{"$f":"IF(Sheet1!C4409>Sheet1!C4408,0,1)","v":0}]
[{"$f":"IF(Sheet1!C4410>Sheet1!C4409,0,1)","v":0}]
[{"$f":"IF(Sheet1!C4411>Sheet1!C4410,0,1)","v":0}]
[{"$f":"IF(Sheet1!C4412>Sheet1!C4411,0,1)","v":0}]
[{"$f":"IF(Sheet1!C4413>Sheet1!C4412,0,1)","v":0}]
[{"$f":"IF(Sheet1!C4414>Sheet1!C4413,0,1)","v":0}]
[{"$f":"IF(Sheet1!C4415>Sheet1!C4414,0,1)","v":0}]
[{"$f":"IF(Sheet1!C4416>Sheet1!C4415,0,1)","v":0}]
[{"$f":"IF(Sheet1!C4417>Sheet1!C4416,0,1)","v":0}]
[{"$f":"IF(Sheet1!C4418>Sheet1!C4417,0,1)","v":0}]
[{"$f":"IF(Sheet1!C4419>Sheet1!C4418,0,1)","v":0}]
[{"$f":"IF(Sheet1!C4420>Sheet1!C4419,0,1)","v":0}]
[{"$f":"IF(Sheet1!C4421>Sheet1!C4420,0,1)","v":0}]
[{"$f":"IF(Sheet1!C4422>Sheet1!C4421,0,1)","v":0}]
[{"$f":"IF(Sheet1!C4423>Sheet1!C4422,0,1)","v":0}]
[{"$f":"IF(Sheet1!C4424>Sheet1!C4423,0,1)","v":0}]
[{"$f":"IF(Sheet1!C4425>Sheet1!C4424,0,1)","v":0}]
[{"$f":"IF(Sheet1!C4426>Sheet1!C4425,0,1)","v":0}]
[{"$f":"IF(Sheet1!C4427>Sheet1!C4426,0,1)","v":0}]
[{"$f":"IF(Sheet1!C4428>Sheet1!C4427,0,1)","v":0}]
[{"$f":"IF(Sheet1!C4429>Sheet1!C4428,0,1)","v":0}]
[{"$f":"IF(Sheet1!C4430>Sheet1!C4429,0,1)","v":0}]
[{"$f":"IF(Sheet1!C4431>Sheet1!C4430,0,1)","v":0}]
[{"$f":"IF(Sheet1!C4432>Sheet1!C4431,0,1)","v":0}]
[{"$f":"IF(Sheet1!C4433>Sheet1!C4432,0,1)","v":0}]
[{"$f":"IF(Sheet1!C4434>Sheet1!C4433,0,1)","v":0}]
[{"$f":"IF(Sheet1!C4435>Sheet1!C4434,0,1)","v":0}]
[{"$f":"IF(Sheet1!C4436>Sheet1!C4435,0,1)","v":0}]
[{"$f":"IF(Sheet1!C4437>Sheet1!C4436,0,1)","v":0}]
[{"$f":"IF(Sheet1!C4438>Sheet1!C4437,0,1)","v":0}]
[{"$f":"IF(Sheet1!C4439>Sheet1!C4438,0,1)","v":0}]
[{"$f":"IF(Sheet1!C4440>Sheet1!C4439,0,1)","v":0}]
[{"$f":"IF(Sheet1!C4441>Sheet1!C4440,0,1)","v":0}]
[{"$f":"IF(Sheet1!C4442>Sheet1!C4441,0,1)","v":0}]
[{"$f":"IF(Sheet1!C4443>Sheet1!C4442,0,1)","v":0}]
[{"$f":"IF(Sheet1!C4444>Sheet1!C4443,0,1)","v":0}]
[{"$f":"IF(Sheet1!C4445>Sheet1!C4444,0,1)","v":0}]
[{"$f":"IF(Sheet1!C4446>Sheet1!C4445,0,1)","v":0}]
[{"$f":"IF(Sheet1!C4447>Sheet1!C4446,0,1)","v":0}]
[{"$f":"IF(Sheet1!C4448>Sheet1!C4447,0,1)","v":0}]
[{"$f":"IF(Sheet1!C4449>Sheet1!C4448,0,1)","v":0}]
[{"$f":"IF(Sheet1!C4450>Sheet1!C4449,0,1)","v":0}]
[{"$f":"IF(Sheet1!C4451>Sheet1!C4450,0,1)","v":0}]
[{"$f":"IF(Sheet1!C4452>Sheet1!C4451,0,1)","v":0}]
[{"$f":"IF(Sheet1!C4453>Sheet1!C4452,0,1)","v":0}]
[{"$f":"IF(Sheet1!C4454>Sheet1!C4453,0,1)","v":0}]
[{"$f":"IF(Sheet1!C4455>Sheet1!C4454,0,1)","v":0}]
[{"$f":"IF(Sheet1!C4456>Sheet1!C4455,0,1)","v":0}]
[{"$f":"IF(Sheet1!C4457>Sheet1!C4456,0,1)","v":0}]
[{"$f":"IF(Sheet1!C4458>Sheet1!C4457,0,1)","v":0}]
[{"$f":"IF(Sheet1!C4459>Sheet1!C4458,0,1)","v":0}]
[{"$f":"IF(Sheet1!C4460>Sheet1!C4459,0,1)","v":0}]
[{"$f":"IF(Sheet1!C4461>Sheet1!C4460,0,1)","v":0}]
[{"$f":"IF(Sheet1!C4462>Sheet1!C4461,0,1)","v":0}]
[{"$f":"IF(Sheet1!C4463>Sheet1!C4462,0,1)","v":0}]
[{"$f":"IF(Sheet1!C4464>Sheet1!C4463,0,1)","v":0}]
[{"$f":"IF(Sheet1!C4465>Sheet1!C4464,0,1)","v":0}]
[{"$f":"IF(Sheet1!C4466>Sheet1!C4465,0,1)","v":0}]
[{"$f":"IF(Sheet1!C4467>Sheet1!C4466,0,1)","v":0}]
[{"$f":"IF(Sheet1!C4468>Sheet1!C4467,0,1)","v":0}]
[{"$f":"IF(Sheet1!C4469>Sheet1!C4468,0,1)","v":0}]
[{"$f":"IF(Sheet1!C4470>Sheet1!C4469,0,1)","v":0}]
[{"$f":"IF(Sheet1!C4471>Sheet1!C4470,0,1)","v":0}]
[{"$f":"IF(Sheet1!C4472>Sheet1!C4471,0,1)","v":0}]
[{"$f":"IF(Sheet1!C4473>Sheet1!C4472,0,1)","v":0}]
[{"$f":"IF(Sheet1!C4474>Sheet1!C4473,0,1)","v":0}]
[{"$f":"IF(Sheet1!C4475>Sheet1!C4474,0,1)","v":0}]
[{"$f":"IF(Sheet1!C4476>Sheet1!C4475,0,1)","v":0}]
[{"$f":"IF(Sheet1!C4477>Sheet1!C4476,0,1)","v":0}]
[{"$f":"IF(Sheet1!C4478>Sheet1!C4477,0,1)","v":0}]
[{"$f":"IF(Sheet1!C4479>Sheet1!C4478,0,1)","v":0}]
[{"$f":"IF(Sheet1!C4480>Sheet1!C4479,0,1)","v":0}]
[{"$f":"IF(Sheet1!C4481>Sheet1!C4480,0,1)","v":0}]
[{"$f":"IF(Sheet1!C4482>Sheet1!C4481,0,1)","v":0}]
[{"$f":"IF(Sheet1!C4483>Sheet1!C4482,0,1)","v":0}]
[{"$f":"IF(Sheet1!C4484>Sheet1!C4483,0,1)","v":0}]
[{"$f":"IF(Sheet1!C4485>Sheet1!C4484,0,1)","v":0}]
[{"$f":"IF(Sheet1!C4486>Sheet1!C4485,0,1)","v":0}]
[{"$f":"IF(Sheet1!C4487>Sheet1!C4486,0,1)","v":0}]
[{"$f":"IF(Sheet1!C4488>Sheet1!C4487,0,1)","v":0}]
[{"$f":"IF(Sheet1!C4489>Sheet1!C4488,0,1)","v":0}]
[{"$f":"IF(Sheet1!C4490>Sheet1!C4489,0,1)","v":0}]
[{"$f":"IF(Sheet1!C4491>Sheet1!C4490,0,1)","v":0}]
[{"$f":"IF(Sheet1!C4492>Sheet1!C4491,0,1)","v":0}]
[{"$f":"IF(Sheet1!C4493>Sheet1!C4492,0,1)","v":0}]
[{"$f":"IF(Sheet1!C4494>Sheet1!C4493,0,1)","v":0}]
[{"$f":"IF(Sheet1!C4495>Sheet1!C4494,0,1)","v":0}]
[{"$f":"IF(Sheet1!C4496>Sheet1!C4495,0,1)","v":0}]
[{"$f":"IF(Sheet1!C4497>Sheet1!C4496,0,1)","v":0}]
[{"$f":"IF(Sheet1!C4498>Sheet1!C4497,0,1)","v":0}]
[{"$f":"IF(Sheet1!C4499>Sheet1!C4498,0,1)","v":0}]
[{"$f":"IF(Sheet1!C4500>Sheet1!C4499,0,1)","v":0}]
[{"$f":"IF(Sheet1!C4501>Sheet1!C4500,0,1)","v":0}]
[{"$f":"IF(Sheet1!C4502>Sheet1!C4501,0,1)","v":0}]
[{"$f":"IF(Sheet1!C4503>Sheet1!C4502,0,1)","v":0}]
[{"$f":"IF(Sheet1!C4504>Sheet1!C4503,0,1)","v":0}]
[{"$f":"IF(Sheet1!C4505>Sheet1!C4504,0,1)","v":0}]
[{"$f":"IF(Sheet1!C4506>Sheet1!C4505,0,1)","v":0}]
[{"$f":"IF(Sheet1!C4507>Sheet1!C4506,0,1)","v":0}]
[{"$f":"IF(Sheet1!C4508>Sheet1!C4507,0,1)","v":0}]
[{"$f":"IF(Sheet1!C4509>Sheet1!C4508,0,1)","v":0}]
[{"$f":"IF(Sheet1!C4510>Sheet1!C4509,0,1)","v":0}]
[{"$f":"IF(Sheet1!C4511>Sheet1!C4510,0,1)","v":0}]
[{"$f":"IF(Sheet1!C4512>Sheet1!C4511,0,1)","v":0}]
[{"$f":"IF(Sheet1!C4513>Sheet1!C4512,0,1)","v":0}]
[{"$f":"IF(Sheet1!C4514>Sheet1!C4513,0,1)","v":0}]
[{"$f":"IF(Sheet1!C4515>Sheet1!C4514,0,1)","v":0}]
[{"$f":"IF(Sheet1!C4516>Sheet1!C4515,0,1)","v":0}]
[{"$f":"IF(Sheet1!C4517>Sheet1!C4516,0,1)","v":0}]
[{"$f":"IF(Sheet1!C4518>Sheet1!C4517,0,1)","v":0}]
[{"$f":"IF(Sheet1!C4519>Sheet1!C4518,0,1)","v":0}]
[{"$f":"IF(Sheet1!C4520>Sheet1!C4519,0,1)","v":0}]
[{"$f":"IF(Sheet1!C4521>Sheet1!C4520,0,1)","v":0}]
[{"$f":"IF(Sheet1!C4522>Sheet1!C4521,0,1)","v":0}]
[{"$f":"IF(Sheet1!C4523>Sheet1!C4522,0,1)","v":0}]
[{"$f":"IF(Sheet1!C4524>Sheet1!C4523,0,1)","v":0}]
[{"$f":"IF(Sheet1!C4525>Sheet1!C4524,0,1)","v":0}]
[{"$f":"IF(Sheet1!C4526>Sheet1!C4525,0,1)","v":0}]
[{"$f":"IF(Sheet1!C4527>Sheet1!C4526,0,1)","v":0}]
[{"$f":"IF(Sheet1!C4528>Sheet1!C4527,0,1)","v":0}]
[{"$f":"IF(Sheet1!C4529>Sheet1!C4528,0,1)","v":0}]
[{"$f":"IF(Sheet1!C4530>Sheet1!C4529,0,1)","v":0}]
[{"$f":"IF(Sheet1!C4531>Sheet1!C4530,0,1)","v":0}]
[{"$f":"IF(Sheet1!C4532>Sheet1!C4531,0,1)","v":0}]
[{"$f":"IF(Sheet1!C4533>Sheet1!C4532,0,1)","v":0}]
[{"$f":"IF(Sheet1!C4534>Sheet1!C4533,0,1)","v":0}]
[{"$f":"IF(Sheet1!C4535>Sheet1!C4534,0,1)","v":0}]
[{"$f":"IF(Sheet1!C4536>Sheet1!C4535,0,1)","v":0}]
[{"$f":"IF(Sheet1!C4537>Sheet1!C4536,0,1)","v":0}]
[{"$f":"IF(Sheet1!C4538>Sheet1!C4537,0,1)","v":0}]
[{"$f":"IF(Sheet1!C4539>Sheet1!C4538,0,1)","v":0}]
[{"$f":"IF(Sheet1!C4540>Sheet1!C4539,0,1)","v":0}]
[{"$f":"IF(Sheet1!C4541>Sheet1!C4540,0,1)","v":0}]
[{"$f":"IF(Sheet1!C4542>Sheet1!C4541,0,1)","v":0}]
[{"$f":"IF(Sheet1!C4543>Sheet1!C4542,0,1)","v":0}]
[{"$f":"IF(Sheet1!C4544>Sheet1!C4543,0,1)","v":0}]
[{"$f":"IF(Sheet1!C4545>Sheet1!C4544,0,1)","v":0}]
[{"$f":"IF(Sheet1!C4546>Sheet1!C4545,0,1)","v":0}]
[{"$f":"IF(Sheet1!C4547>Sheet1!C4546,0,1)","v":0}]
[{"$f":"IF(Sheet1!C4548>Sheet1!C4547,0,1)","v":0}]
[{"$f":"IF(Sheet1!C4549>Sheet1!C4548,0,1)","v":0}]
[{"$f":"IF(Sheet1!C4550>Sheet1!C4549,0,1)","v":0}]
[{"$f":"IF(Sheet1!C4551>Sheet1!C4550,0,1)","v":0}]
[{"$f":"IF(Sheet1!C4552>Sheet1!C4551,0,1)","v":0}]
[{"$f":"IF(Sheet1!C4553>Sheet1!C4552,0,1)","v":0}]
[{"$f":"IF(Sheet1!C4554>Sheet1!C4553,0,1)","v":0}]
[{"$f":"IF(Sheet1!C4555>Sheet1!C4554,0,1)","v":0}]
[{"$f":"IF(Sheet1!C4556>Sheet1!C4555,0,1)","v":0}]
[{"$f":"IF(Sheet1!C4557>Sheet1!C4556,0,1)","v":0}]
[{"$f":"IF(Sheet1!C4558>Sheet1!C4557,0,1)","v":0}]
[{"$f":"IF(Sheet1!C4559>Sheet1!C4558,0,1)","v":0}]
[{"$f":"IF(Sheet1!C4560>Sheet1!C4559,0,1)","v":0}]
[{"$f":"IF(Sheet1!C4561>Sheet1!C4560,0,1)","v":0}]
[{"$f":"IF(Sheet1!C4562>Sheet1!C4561,0,1)","v":0}]
[{"$f":"IF(Sheet1!C4563>Sheet1!C4562,0,1)","v":0}]
[{"$f":"IF(Sheet1!C4564>Sheet1!C4563,0,1)","v":0}]
[{"$f":"IF(Sheet1!C4565>Sheet1!C4564,0,1)","v":0}]
[{"$f":"IF(Sheet1!C4566>Sheet1!C4565,0,1)","v":0}]
[{"$f":"IF(Sheet1!C4567>Sheet1!C4566,0,1)","v":0}]
[{"$f":"IF(Sheet1!C4568>Sheet1!C4567,0,1)","v":0}]
[{"$f":"IF(Sheet1!C4569>Sheet1!C4568,0,1)","v":0}]
[{"$f":"IF(Sheet1!C4570>Sheet1!C4569,0,1)","v":0}]
[{"$f":"IF(Sheet1!C4571>Sheet1!C4570,0,1)","v":0}]
[{"$f":"IF(Sheet1!C4572>Sheet1!C4571,0,1)","v":0}]
[{"$f":"IF(Sheet1!C4573>Sheet1!C4572,0,1)","v":0}]
[{"$f":"IF(Sheet1!C4574>Sheet1!C4573,0,1)","v":0}]
[{"$f":"IF(Sheet1!C4575>Sheet1!C4574,0,1)","v":0}]
[{"$f":"IF(Sheet1!C4576>Sheet1!C4575,0,1)","v":0}]
[{"$f":"IF(Sheet1!C4577>Sheet1!C4576,0,1)","v":0}]
[{"$f":"IF(Sheet1!C4578>Sheet1!C4577,0,1)","v":0}]
[{"$f":"IF(Sheet1!C4579>Sheet1!C4578,0,1)","v":0}]
[{"$f":"IF(Sheet1!C4580>Sheet1!C4579,0,1)","v":0}]
[{"$f":"IF(Sheet1!C4581>Sheet1!C4580,0,1)","v":0}]
[{"$f":"IF(Sheet1!C4582>Sheet1!C4581,0,1)","v":0}]
[{"$f":"IF(Sheet1!C4583>Sheet1!C4582,0,1)","v":0}]
[{"$f":"IF(Sheet1!C4584>Sheet1!C4583,0,1)","v":0}]
[{"$f":"IF(Sheet1!C4585>Sheet1!C4584,0,1)","v":0}]
[{"$f":"IF(Sheet1!C4586>Sheet1!C4585,0,1)","v":0}]
[{"$f":"IF(Sheet1!C4587>Sheet1!C4586,0,1)","v":0}]
[{"$f":"IF(Sheet1!C4588>Sheet1!C4587,0,1)","v":0}]
[{"$f":"IF(Sheet1!C4589>Sheet1!C4588,0,1)","v":0}]
[{"$f":"IF(Sheet1!C4590>Sheet1!C4589,0,1)","v":0}]
[{"$f":"IF(Sheet1!C4591>Sheet1!C4590,0,1)","v":0}]
[{"$f":"IF(Sheet1!C4592>Sheet1!C4591,0,1)","v":0}]
[{"$f":"IF(Sheet1!C4593>Sheet1!C4592,0,1)","v":0}]
[{"$f":"IF(Sheet1!C4594>Sheet1!C4593,0,1)","v":0}]
[{"$f":"IF(Sheet1!C4595>Sheet1!C4594,0,1)","v":0}]
[{"$f":"IF(Sheet1!C4596>Sheet1!C4595,0,1)","v":0}]
[{"$f":"IF(Sheet1!C4597>Sheet1!C4596,0,1)","v":0}]
[{"$f":"IF(Sheet1!C4598>Sheet1!C4597,0,1)","v":0}]
[{"$f":"IF(Sheet1!C4599>Sheet1!C4598,0,1)","v":0}]
[{"$f":"IF(Sheet1!C4600>Sheet1!C4599,0,1)","v":0}]
[{"$f":"IF(Sheet1!C4601>Sheet1!C4600,0,1)","v":0}]
[{"$f":"IF(Sheet1!C4602>Sheet1!C4601,0,1)","v":0}]
[{"$f":"IF(Sheet1!C4603>Sheet1!C4602,0,1)","v":0}]
[{"$f":"IF(Sheet1!C4604>Sheet1!C4603,0,1)","v":0}]
[{"$f":"IF(Sheet1!C4605>Sheet1!C4604,0,1)","v":0}]
[{"$f":"IF(Sheet1!C4606>Sheet1!C4605,0,1)","v":0}]
[{"$f":"IF(Sheet1!C4607>Sheet1!C4606,0,1)","v":0}]
[{"$f":"IF(Sheet1!C4608>Sheet1!C4607,0,1)","v":0}]
[{"$f":"IF(Sheet1!C4609>Sheet1!C4608,0,1)","v":0}]
[{"$f":"IF(Sheet1!C4610>Sheet1!C4609,0,1)","v":0}]
[{"$f":"IF(Sheet1!C4611>Sheet1!C4610,0,1)","v":0}]
[{"$f":"IF(Sheet1!C4612>Sheet1!C4611,0,1)","v":0}]
[{"$f":"IF(Sheet1!C4613>Sheet1!C4612,0,1)","v":0}]
[{"$f":"IF(Sheet1!C4614>Sheet1!C4613,0,1)","v":0}]
[{"$f":"IF(Sheet1!C4615>Sheet1!C4614,0,1)","v":0}]
[{"$f":"IF(Sheet1!C4616>Sheet1!C4615,0,1)","v":0}]
[{"$f":"IF(Sheet1!C4617>Sheet1!C4616,0,1)","v":0}]
[{"$f":"IF(Sheet1!C4618>Sheet1!C4617,0,1)","v":0}]
[{"$f":"IF(Sheet1!C4619>Sheet1!C4618,0,1)","v":0}]
[{"$f":"IF(Sheet1!C4620>Sheet1!C4619,0,1)","v":0}]
[{"$f":"IF(Sheet1!C4621>Sheet1!C4620,0,1)","v":0}]
[{"$f":"IF(Sheet1!C4622>Sheet1!C4621,0,1)","v":0}]
[{"$f":"IF(Sheet1!C4623>Sheet1!C4622,0,1)","v":0}]
[{"$f":"IF(Sheet1!C4624>Sheet1!C4623,0,1)","v":0}]
[{"$f":"IF(Sheet1!C4625>Sheet1!C4624,0,1)","v":0}]
[{"$f":"IF(Sheet1!C4626>Sheet1!C4625,0,1)","v":0}]
[{"$f":"IF(Sheet1!C4627>Sheet1!C4626,0,1)","v":0}]
[{"$f":"IF(Sheet1!C4628>Sheet1!C4627,0,1)","v":0}]
[{"$f":"IF(Sheet1!C4629>Sheet1!C4628,0,1)","v":0}]
[{"$f":"IF(Sheet1!C4630>Sheet1!C4629,0,1)","v":0}]
[{"$f":"IF(Sheet1!C4631>Sheet1!C4630,0,1)","v":0}]
[{"$f":"IF(Sheet1!C4632>Sheet1!C4631,0,1)","v":0}]
[{"$f":"IF(Sheet1!C4633>Sheet1!C4632,0,1)","v":0}]
[{"$f":"IF(Sheet1!C4634>Sheet1!C4633,0,1)","v":0}]
[{"$f":"IF(Sheet1!C4635>Sheet1!C4634,0,1)","v":0}]
[{"$f":"IF(Sheet1!C4636>Sheet1!C4635,0,1)","v":0}]
[{"$f":"IF(Sheet1!C4637>Sheet1!C4636,0,1)","v":0}]
[{"$f":"IF(Sheet1!C4638>Sheet1!C4637,0,1)","v":0}]
[{"$f":"IF(Sheet1!C4639>Sheet1!C4638,0,1)","v":0}]
[{"$f":"IF(Sheet1!C4640>Sheet1!C4639,0,1)","v":0}]
[{"$f":"IF(Sheet1!C4641>Sheet1!C4640,0,1)","v":0}]
[{"$f":"IF(Sheet1!C4642>Sheet1!C4641,0,1)","v":0}]
[{"$f":"IF(Sheet1!C4643>Sheet1!C4642,0,1)","v":0}]
[{"$f":"IF(Sheet1!C4644>Sheet1!C4643,0,1)","v":0}]
[{"$f":"IF(Sheet1!C4645>Sheet1!C4644,0,1)","v":0}]
[{"$f":"IF(Sheet1!C4646>Sheet1!C4645,0,1)","v":0}]
[{"$f":"IF(Sheet1!C4647>Sheet1!C4646,0,1)","v":0}]
[{"$f":"IF(Sheet1!C4648>Sheet1!C4647,0,1)","v":0}]
[{"$f":"IF(Sheet1!C4649>Sheet1!C4648,0,1)","v":0}]
[{"$f":"IF(Sheet1!C4650>Sheet1!C4649,0,1)","v":0}]
[{"$f":"IF(Sheet1!C4651>Sheet1!C4650,0,1)","v":0}]
[{"$f":"IF(Sheet1!C4652>Sheet1!C4651,0,1)","v":0}]
[{"$f":"IF(Sheet1!C4653>Sheet1!C4652,0,1)","v":0}]
[{"$f":"IF(Sheet1!C4654>Sheet1!C4653,0,1)","v":0}]
[{"$f":"IF(Sheet1!C4655>Sheet1!C4654,0,1)","v":0}]
[{"$f":"IF(Sheet1!C4656>Sheet1!C4655,0,1)","v":0}]
[{"$f":"IF(Sheet1!C4657>Sheet1!C4656,0,1)","v":0}]
[{"$f":"IF(Sheet1!C4658>Sheet1!C4657,0,1)","v":0}]
[{"$f":"IF(Sheet1!C4659>Sheet1!C4658,0,1)","v":0}]
[{"$f":"IF(Sheet1!C4660>Sheet1!C4659,0,1)","v":0}]
[{"$f":"IF(Sheet1!C4661>Sheet1!C4660,0,1)","v":0}]
[{"$f":"IF(Sheet1!C4662>Sheet1!C4661,0,1)","v":0}]
[{"$f":"IF(Sheet1!C4663>Sheet1!C4662,0,1)","v":0}]
[{"$f":"IF(Sheet1!C4664>Sheet1!C4663,0,1)","v":0}]
[{"$f":"IF(Sheet1!C4665>Sheet1!C4664,0,1)","v":0}]
[{"$f":"IF(Sheet1!C4666>Sheet1!C4665,0,1)","v":0}]
[{"$f":"IF(Sheet1!C4667>Sheet1!C4666,0,1)","v":0}]
[{"$f":"IF(Sheet1!C4668>Sheet1!C4667,0,1)","v":0}]
[{"$f":"IF(Sheet1!C4669>Sheet1!C4668,0,1)","v":0}]
[{"$f":"IF(Sheet1!C4670>Sheet1!C4669,0,1)","v":0}]
[{"$f":"IF(Sheet1!C4671>Sheet1!C4670,0,1)","v":0}]
[{"$f":"IF(Sheet1!C4672>Sheet1!C4671,0,1)","v":0}]
[{"$f":"IF(Sheet1!C4673>Sheet1!C4672,0,1)","v":0}]
[{"$f":"IF(Sheet1!C4674>Sheet1!C4673,0,1)","v":0}]
[{"$f":"IF(Sheet1!C4675>Sheet1!C4674,0,1)","v":0}]
[{"$f":"IF(Sheet1!C4676>Sheet1!C4675,0,1)","v":0}]
[{"$f":"IF(Sheet1!C4677>Sheet1!C4676,0,1)","v":0}]
[{"$f":"IF(Sheet1!C4678>Sheet1!C4677,0,1)","v":0}]
[{"$f":"IF(Sheet1!C4679>Sheet1!C4678,0,1)","v":0}]
[{"$f":"IF(Sheet1!C4680>Sheet1!C4679,0,1)","v":0}]
[{"$f":"IF(Sheet1!C4681>Sheet1!C4680,0,1)","v":0}]
[{"$f":"IF(Sheet1!C4682>Sheet1!C4681,0,1)","v":0}]
[{"$f":"IF(Sheet1!C4683>Sheet1!C4682,0,1)","v":0}]
[{"$f":"IF(Sheet1!C4684>Sheet1!C4683,0,1)","v":0}]
[{"$f":"IF(Sheet1!C4685>Sheet1!C4684,0,1)","v":0}]
[{"$f":"IF(Sheet1!C4686>Sheet1!C4685,0,1)","v":0}]
[{"$f":"IF(Sheet1!C4687>Sheet1!C4686,0,1)","v":0}]
[{"$f":"IF(Sheet1!C4688>Sheet1!C4687,0,1)","v":0}]
[{"$f":"IF(Sheet1!C4689>Sheet1!C4688,0,1)","v":0}]
[{"$f":"IF(Sheet1!C4690>Sheet1!C4689,0,1)","v":0}]
[{"$f":"IF(Sheet1!C4691>Sheet1!C4690,0,1)","v":0}]
[{"$f":"IF(Sheet1!C4692>Sheet1!C4691,0,1)","v":0}]
[{"$f":"IF(Sheet1!C4693>Sheet1!C4692,0,1)","v":0}]
[{"$f":"IF(Sheet1!C4694>Sheet1!C4693,0,1)","v":0}]
[{"$f":"IF(Sheet1!C4695>Sheet1!C4694,0,1)","v":0}]
[{"$f":"IF(Sheet1!C4696>Sheet1!C4695,0,1)","v":0}]
[{"$f":"IF(Sheet1!C4697>Sheet1!C4696,0,1)","v":0}]
[{"$f":"IF(Sheet1!C4698>Sheet1!C4697,0,1)","v":0}]
[{"$f":"IF(Sheet1!C4699>Sheet1!C4698,0,1)","v":0}]
[{"$f":"IF(Sheet1!C4700>Sheet1!C4699,0,1)","v":0}]
[{"$f":"IF(Sheet1!C4701>Sheet1!C4700,0,1)","v":0}]
[{"$f":"IF(Sheet1!C4702>Sheet1!C4701,0,1)","v":0}]
[{"$f":"IF(Sheet1!C4703>Sheet1!C4702,0,1)","v":0}]
[{"$f":"IF(Sheet1!C4704>Sheet1!C4703,0,1)","v":0}]
[{"$f":"IF(Sheet1!C4705>Sheet1!C4704,0,1)","v":0}]
[{"$f":"IF(Sheet1!C4706>Sheet1!C4705,0,1)","v":0}]
[{"$f":"IF(Sheet1!C4707>Sheet1!C4706,0,1)","v":0}]
[{"$f":"IF(Sheet1!C4708>Sheet1!C4707,0,1)","v":0}]
[{"$f":"IF(Sheet1!C4709>Sheet1!C4708,0,1)","v":0}]
[{"$f":"IF(Sheet1!C4710>Sheet1!C4709,0,1)","v":0}]
[{"$f":"IF(Sheet1!C4711>Sheet1!C4710,0,1)","v":0}]
[{"$f":"IF(Sheet1!C4712>Sheet1!C4711,0,1)","v":0}]
[{"$f":"IF(Sheet1!C4713>Sheet1!C4712,0,1)","v":0}]
[{"$f":"IF(Sheet1!C4714>Sheet1!C4713,0,1)","v":0}]
[{"$f":"IF(Sheet1!C4715>Sheet1!C4714,0,1)","v":0}]
[{"$f":"IF(Sheet1!C4716>Sheet1!C4715,0,1)","v":0}]
[{"$f":"IF(Sheet1!C4717>Sheet1!C4716,0,1)","v":0}]
[{"$f":"IF(Sheet1!C4718>Sheet1!C4717,0,1)","v":0}]
[{"$f":"IF(Sheet1!C4719>Sheet1!C4718,0,1)","v":0}]
[{"$f":"IF(Sheet1!C4720>Sheet1!C4719,0,1)","v":0}]
[{"$f":"IF(Sheet1!C4721>Sheet1!C4720,0,1)","v":0}]
[{"$f":"IF(Sheet1!C4722>Sheet1!C4721,0,1)","v":0}]
[{"$f":"IF(Sheet1!C4723>Sheet1!C4722,0,1)","v":0}]
[{"$f":"IF(Sheet1!C4724>Sheet1!C4723,0,1)","v":0}]
[{"$f":"IF(Sheet1!C4725>Sheet1!C4724,0,1)","v":0}]
[{"$f":"IF(Sheet1!C4726>Sheet1!C4725,0,1)","v":0}]
[{"$f":"IF(Sheet1!C4727>Sheet1!C4726,0,1)","v":0}]
[{"$f":"IF(Sheet1!C4728>Sheet1!C4727,0,1)","v":0}]
[{"$f":"IF(Sheet1!C4729>Sheet1!C4728,0,1)","v":0}]
[{"$f":"IF(Sheet1!C4730>Sheet1!C4729,0,1)","v":0}]
[{"$f":"IF(Sheet1!C4731>Sheet1!C4730,0,1)","v":0}]
[{"$f":"IF(Sheet1!C4732>Sheet1!C4731,0,1)","v":0}]
[{"$f":"IF(Sheet1!C4733>Sheet1!C4732,0,1)","v":0}]
[{"$f":"IF(Sheet1!C4734>Sheet1!C4733,0,1)","v":0}]
[{"$f":"IF(Sheet1!C4735>Sheet1!C4734,0,1)","v":0}]
[{"$f":"IF(Sheet1!C4736>Sheet1!C4735,0,1)","v":0}]
[{"$f":"IF(Sheet1!C4737>Sheet1!C4736,0,1)","v":0}]
[{"$f":"IF(Sheet1!C4738>Sheet1!C4737,0,1)","v":0}]
[{"$f":"IF(Sheet1!C4739>Sheet1!C4738,0,1)","v":0}]
[{"$f":"IF(Sheet1!C4740>Sheet1!C4739,0,1)","v":0}]
[{"$f":"IF(Sheet1!C4741>Sheet1!C4740,0,1)","v":0}]
[{"$f":"IF(Sheet1!C4742>Sheet1!C4741,0,1)","v":0}]
[{"$f":"IF(Sheet1!C4743>Sheet1!C4742,0,1)","v":0}]
[{"$f":"IF(Sheet1!C4744>Sheet1!C4743,0,1)","v":0}]
[{"$f":"IF(Sheet1!C4745>Sheet1!C4744,0,1)","v":0}]
[{"$f":"IF(Sheet1!C4746>Sheet1!C4745,0,1)","v":0}]
[{"$f":"IF(Sheet1!C4747>Sheet1!C4746,0,1)","v":0}]
[{"$f":"IF(Sheet1!C4748>Sheet1!C4747,0,1)","v":0}]
[{"$f":"IF(Sheet1!C4749>Sheet1!C4748,0,1)","v":0}]
[{"$f":"IF(Sheet1!C4750>Sheet1!C4749,0,1)","v":0}]
[{"$f":"IF(Sheet1!C4751>Sheet1!C4750,0,1)","v":0}]
[{"$f":"IF(Sheet1!C4752>Sheet1!C4751,0,1)","v":0}]
[{"$f":"IF(Sheet1!C4753>Sheet1!C4752,0,1)","v":0}]
[{"$f":"IF(Sheet1!C4754>Sheet1!C4753,0,1)","v":0}]
[{"$f":"IF(Sheet1!C4755>Sheet1!C4754,0,1)","v":0}]
[{"$f":"IF(Sheet1!C4756>Sheet1!C4755,0,1)","v":0}]
[{"$f":"IF(Sheet1!C4757>Sheet1!C4756,0,1)","v":0}]
[{"$f":"IF(Sheet1!C4758>Sheet1!C4757,0,1)","v":0}]
[{"$f":"IF(Sheet1!C4759>Sheet1!C4758,0,1)","v":0}]
[{"$f":"IF(Sheet1!C4760>Sheet1!C4759,0,1)","v":0}]
[{"$f":"IF(Sheet1!C4761>Sheet1!C4760,0,1)","v":0}]
[{"$f":"IF(Sheet1!C4762>Sheet1!C4761,0,1)","v":0}]
[{"$f":"IF(Sheet1!C4763>Sheet1!C4762,0,1)","v":0}]
[{"$f":"IF(Sheet1!C4764>Sheet1!C4763,0,1)","v":0}]
[{"$f":"IF(Sheet1!C4765>Sheet1!C4764,0,1)","v":0}]
[{"$f":"IF(Sheet1!C4766>Sheet1!C4765,0,1)","v":0}]
[{"$f":"IF(Sheet1!C4767>Sheet1!C4766,0,1)","v":0}]
[{"$f":"IF(Sheet1!C4768>Sheet1!C4767,0,1)","v":0}]
[{"$f":"IF(Sheet1!C4769>Sheet1!C4768,0,1)","v":0}]
[{"$f":"IF(Sheet1!C4770>Sheet1!C4769,0,1)","v":0}]
[{"$f":"IF(Sheet1!C4771>Sheet1!C4770,0,1)","v":0}]
[{"$f":"IF(Sheet1!C4772>Sheet1!C4771,0,1)","v":0}]
[{"$f":"IF(Sheet1!C4773>Sheet1!C4772,0,1)","v":0}]
[{"$f":"IF(Sheet1!C4774>Sheet1!C4773,0,1)","v":0}]
[{"$f":"IF(Sheet1!C4775>Sheet1!C4774,0,1)","v":0}]
[{"$f":"IF(Sheet1!C4776>Sheet1!C4775,0,1)","v":0}]
[{"$f":"IF(Sheet1!C4777>Sheet1!C4776,0,1)","v":0}]
[{"$f":"IF(Sheet1!C4778>Sheet1!C4777,0,1)","v":0}]
[{"$f":"IF(Sheet1!C4779>Sheet1!C4778,0,1)","v":0}]
[{"$f":"IF(Sheet1!C4780>Sheet1!C4779,0,1)","v":0}]
[{"$f":"IF(Sheet1!C4781>Sheet1!C4780,0,1)","v":0}]
[{"$f":"IF(Sheet1!C4782>Sheet1!C4781,0,1)","v":0}]
[{"$f":"IF(Sheet1!C4783>Sheet1!C4782,0,1)","v":0}]
[{"$f":"IF(Sheet1!C4784>Sheet1!C4783,0,1)","v":0}]
[{"$f":"IF(Sheet1!C4785>Sheet1!C4784,0,1)","v":0}]
[{"$f":"IF(Sheet1!C4786>Sheet1!C4785,0,1)","v":0}]
[{"$f":"IF(Sheet1!C4787>Sheet1!C4786,0,1)","v":0}]
[{"$f":"IF(Sheet1!C4788>Sheet1!C4787,0,1)","v":0}]
[{"$f":"IF(Sheet1!C4789>Sheet1!C4788,0,1)","v":0}]
[{"$f":"IF(Sheet1!C4790>Sheet1!C4789,0,1)","v":0}]
[{"$f":"IF(Sheet1!C4791>Sheet1!C4790,0,1)","v":0}]
[{"$f":"IF(Sheet1!C4792>Sheet1!C4791,0,1)","v":0}]
[{"$f":"IF(Sheet1!C4793>Sheet1!C4792,0,1)","v":0}]
[{"$f":"IF(Sheet1!C4794>Sheet1!C4793,0,1)","v":0}]
[{"$f":"IF(Sheet1!C4795>Sheet1!C4794,0,1)","v":0}]
[{"$f":"IF(Sheet1!C4796>Sheet1!C4795,0,1)","v":0}]
[{"$f":"IF(Sheet1!C4797>Sheet1!C4796,0,1)","v":0}]
[{"$f":"IF(Sheet1!C4798>Sheet1!C4797,0,1)","v":0}]
[{"$f":"IF(Sheet1!C4799>Sheet1!C4798,0,1)","v":0}]
[{"$f":"IF(Sheet1!C4800>Sheet1!C4799,0,1)","v":0}]
[{"$f":"IF(Sheet1!C4801>Sheet1!C4800,0,1)","v":0}]
[{"$f":"IF(Sheet1!C4802>Sheet1!C4801,0,1)","v":0}]
[{"$f":"IF(Sheet1!C4803>Sheet1!C4802,0,1)","v":0}]
[{"$f":"IF(Sheet1!C4804>Sheet1!C4803,0,1)","v":0}]
[{"$f":"IF(Sheet1!C4805>Sheet1!C4804,0,1)","v":0}]
[{"$f":"IF(Sheet1!C4806>Sheet1!C4805,0,1)","v":0}]
[{"$f":"IF(Sheet1!C4807>Sheet1!C4806,0,1)","v":0}]
[{"$f":"IF(Sheet1!C4808>Sheet1!C4807,0,1)","v":0}]
[{"$f":"IF(Sheet1!C4809>Sheet1!C4808,0,1)","v":0}]
[{"$f":"IF(Sheet1!C4810>Sheet1!C4809,0,1)","v":0}]
[{"$f":"IF(Sheet1!C4811>Sheet1!C4810,0,1)","v":0}]
[{"$f":"IF(Sheet1!C4812>Sheet1!C4811,0,1)","v":0}]
[{"$f":"IF(Sheet1!C4813>Sheet1!C4812,0,1)","v":0}]
[{"$f":"IF(Sheet1!C4814>Sheet1!C4813,0,1)","v":0}]
[{"$f":"IF(Sheet1!C4815>Sheet1!C4814,0,1)","v":0}]
[{"$f":"IF(Sheet1!C4816>Sheet1!C4815,0,1)","v":0}]
[{"$f":"IF(Sheet1!C4817>Sheet1!C4816,0,1)","v":0}]
[{"$f":"IF(Sheet1!C4818>Sheet1!C4817,0,1)","v":0}]
[{"$f":"IF(Sheet1!C4819>Sheet1!C4818,0,1)","v":0}]
[{"$f":"IF(Sheet1!C4820>Sheet1!C4819,0,1)","v":0}]
[{"$f":"IF(Sheet1!C4821>Sheet1!C4820,0,1)","v":0}]
[{"$f":"IF(Sheet1!C4822>Sheet1!C4821,0,1)","v":0}]
[{"$f":"IF(Sheet1!C4823>Sheet1!C4822,0,1)","v":0}]
[{"$f":"IF(Sheet1!C4824>Sheet1!C4823,0,1)","v":0}]
[{"$f":"IF(Sheet1!C4825>Sheet1!C4824,0,1)","v":0}]
[{"$f":"IF(Sheet1!C4826>Sheet1!C4825,0,1)","v":0}]
[{"$f":"IF(Sheet1!C4827>Sheet1!C4826,0,1)","v":0}]
[{"$f":"IF(Sheet1!C4828>Sheet1!C4827,0,1)","v":0}]
[{"$f":"IF(Sheet1!C4829>Sheet1!C4828,0,1)","v":0}]
[{"$f":"IF(Sheet1!C4830>Sheet1!C4829,0,1)","v":0}]
[{"$f":"IF(Sheet1!C4831>Sheet1!C4830,0,1)","v":0}]
[{"$f":"IF(Sheet1!C4832>Sheet1!C4831,0,1)","v":0}]
[{"$f":"IF(Sheet1!C4833>Sheet1!C4832,0,1)","v":0}]
[{"$f":"IF(Sheet1!C4834>Sheet1!C4833,0,1)","v":0}]
[{"$f":"IF(Sheet1!C4835>Sheet1!C4834,0,1)","v":0}]
[{"$f":"IF(Sheet1!C4836>Sheet1!C4835,0,1)","v":0}]
[{"$f":"IF(Sheet1!C4837>Sheet1!C4836,0,1)","v":0}]
[{"$f":"IF(Sheet1!C4838>Sheet1!C4837,0,1)","v":0}]
[{"$f":"IF(Sheet1!C4839>Sheet1!C4838,0,1)","v":0}]
[{"$f":"IF(Sheet1!C4840>Sheet1!C4839,0,1)","v":0}]
[{"$f":"IF(Sheet1!C4841>Sheet1!C4840,0,1)","v":0}]
[{"$f":"IF(Sheet1!C4842>Sheet1!C4841,0,1)","v":0}]
[{"$f":"IF(Sheet1!C4843>Sheet1!C4842,0,1)","v":0}]
[{"$f":"IF(Sheet1!C4844>Sheet1!C4843,0,1)","v":0}]
[{"$f":"IF(Sheet1!C4845>Sheet1!C4844,0,1)","v":0}]
[{"$f":"IF(Sheet1!C4846>Sheet1!C4845,0,1)","v":0}]
[{"$f":"IF(Sheet1!C4847>Sheet1!C4846,0,1)","v":0}]
[{"$f":"IF(Sheet1!C4848>Sheet1!C4847,0,1)","v":0}]
[{"$f":"IF(Sheet1!C4849>Sheet1!C4848,0,1)","v":0}]
[{"$f":"IF(Sheet1!C4850>Sheet1!C4849,0,1)","v":0}]
[{"$f":"IF(Sheet1!C4851>Sheet1!C4850,0,1)","v":0}]
[{"$f":"IF(Sheet1!C4852>Sheet1!C4851,0,1)","v":0}]
[{"$f":"IF(Sheet1!C4853>Sheet1!C4852,0,1)","v":0}]
[{"$f":"IF(Sheet1!C4854>Sheet1!C4853,0,1)","v":0}]
[{"$f":"IF(Sheet1!C4855>Sheet1!C4854,0,1)","v":0}]
[{"$f":"IF(Sheet1!C4856>Sheet1!C4855,0,1)","v":0}]
[{"$f":"IF(Sheet1!C4857>Sheet1!C4856,0,1)","v":0}]
[{"$f":"IF(Sheet1!C4858>Sheet1!C4857,0,1)","v":0}]
[{"$f":"IF(Sheet1!C4859>Sheet1!C4858,0,1)","v":0}]
[{"$f":"IF(Sheet1!C4860>Sheet1!C4859,0,1)","v":0}]
[{"$f":"IF(Sheet1!C4861>Sheet1!C4860,0,1)","v":0}]
[{"$f":"IF(Sheet1!C4862>Sheet1!C4861,0,1)","v":0}]
[{"$f":"IF(Sheet1!C4863>Sheet1!C4862,0,1)","v":0}]
[{"$f":"IF(Sheet1!C4864>Sheet1!C4863,0,1)","v":0}]
[{"$f":"IF(Sheet1!C4865>Sheet1!C4864,0,1)","v":0}]
[{"$f":"IF(Sheet1!C4866>Sheet1!C4865,0,1)","v":0}]
[{"$f":"IF(Sheet1!C4867>Sheet1!C4866,0,1)","v":0}]
[{"$f":"IF(Sheet1!C4868>Sheet1!C4867,0,1)","v":0}]
[{"$f":"IF(Sheet1!C4869>Sheet1!C4868,0,1)","v":0}]
[{"$f":"IF(Sheet1!C4870>Sheet1!C4869,0,1)","v":0}]
[{"$f":"IF(Sheet1!C4871>Sheet1!C4870,0,1)","v":0}]
[{"$f":"IF(Sheet1!C4872>Sheet1!C4871,0,1)","v":0}]
[{"$f":"IF(Sheet1!C4873>Sheet1!C4872,0,1)","v":0}]
[{"$f":"IF(Sheet1!C4874>Sheet1!C4873,0,1)","v":0}]
[{"$f":"IF(Sheet1!C4875>Sheet1!C4874,0,1)","v":0}]
[{"$f":"IF(Sheet1!C4876>Sheet1!C4875,0,1)","v":0}]
[{"$f":"IF(Sheet1!C4877>Sheet1!C4876,0,1)","v":0}]
[{"$f":"IF(Sheet1!C4878>Sheet1!C4877,0,1)","v":0}]
[{"$f":"IF(Sheet1!C4879>Sheet1!C4878,0,1)","v":0}]
[{"$f":"IF(Sheet1!C4880>Sheet1!C4879,0,1)","v":0}]
[{"$f":"IF(Sheet1!C4881>Sheet1!C4880,0,1)","v":0}]
[{"$f":"IF(Sheet1!C4882>Sheet1!C4881,0,1)","v":0}]
[{"$f":"IF(Sheet1!C4883>Sheet1!C4882,0,1)","v":0}]
[{"$f":"IF(Sheet1!C4884>Sheet1!C4883,0,1)","v":0}]
[{"$f":"IF(Sheet1!C4885>Sheet1!C4884,0,1)","v":0}]
[{"$f":"IF(Sheet1!C4886>Sheet1!C4885,0,1)","v":0}]
[{"$f":"IF(Sheet1!C4887>Sheet1!C4886,0,1)","v":0}]
[{"$f":"IF(Sheet1!C4888>Sheet1!C4887,0,1)","v":0}]
[{"$f":"IF(Sheet1!C4889>Sheet1!C4888,0,1)","v":0}]
[{"$f":"IF(Sheet1!C4890>Sheet1!C4889,0,1)","v":0}]
[{"$f":"IF(Sheet1!C4891>Sheet1!C4890,0,1)","v":0}]
[{"$f":"IF(Sheet1!C4892>Sheet1!C4891,0,1)","v":0}]
[{"$f":"IF(Sheet1!C4893>Sheet1!C4892,0,1)","v":0}]
[{"$f":"IF(Sheet1!C4894>Sheet1!C4893,0,1)","v":0}]
[{"$f":"IF(Sheet1!C4895>Sheet1!C4894,0,1)","v":0}]
[{"$f":"IF(Sheet1!C4896>Sheet1!C4895,0,1)","v":0}]
[{"$f":"IF(Sheet1!C4897>Sheet1!C4896,0,1)","v":0}]
[{"$f":"IF(Sheet1!C4898>Sheet1!C4897,0,1)","v":0}]
[{"$f":"IF(Sheet1!C4899>Sheet1!C4898,0,1)","v":0}]
[{"$f":"IF(Sheet1!C4900>Sheet1!C4899,0,1)","v":0}]
[{"$f":"IF(Sheet1!C4901>Sheet1!C4900,0,1)","v":0}]
[{"$f":"IF(Sheet1!C4902>Sheet1!C4901,0,1)","v":0}]
[{"$f":"IF(Sheet1!C4903>Sheet1!C4902,0,1)","v":0}]
[{"$f":"IF(Sheet1!C4904>Sheet1!C4903,0,1)","v":0}]
[{"$f":"IF(Sheet1!C4905>Sheet1!C4904,0,1)","v":0}]
[{"$f":"IF(Sheet1!C4906>Sheet1!C4905,0,1)","v":0}]
[{"$f":"IF(Sheet1!C4907>Sheet1!C4906,0,1)","v":0}]
[{"$f":"IF(Sheet1!C4908>Sheet1!C4907,0,1)","v":0}]
[{"$f":"IF(Sheet1!C4909>Sheet1!C4908,0,1)","v":0}]
[{"$f":"IF(Sheet1!C4910>Sheet1!C4909,0,1)","v":0}]
[{"$f":"IF(Sheet1!C4911>Sheet1!C4910,0,1)","v":0}]
[{"$f":"IF(Sheet1!C4912>Sheet1!C4911,0,1)","v":0}]
[{"$f":"IF(Sheet1!C4913>Sheet1!C4912,0,1)","v":0}]
[{"$f":"IF(Sheet1!C4914>Sheet1!C4913,0,1)","v":0}]
[{"$f":"IF(Sheet1!C4915>Sheet1!C4914,0,1)","v":0}]
[{"$f":"IF(Sheet1!C4916>Sheet1!C4915,0,1)","v":0}]
[{"$f":"IF(Sheet1!C4917>Sheet1!C4916,0,1)","v":0}]
[{"$f":"IF(Sheet1!C4918>Sheet1!C4917,0,1)","v":0}]
[{"$f":"IF(Sheet1!C4919>Sheet1!C4918,0,1)","v":0}]
[{"$f":"IF(Sheet1!C4920>Sheet1!C4919,0,1)","v":0}]
[{"$f":"IF(Sheet1!C4921>Sheet1!C4920,0,1)","v":0}]
[{"$f":"IF(Sheet1!C4922>Sheet1!C4921,0,1)","v":0}]
[{"$f":"IF(Sheet1!C4923>Sheet1!C4922,0,1)","v":0}]
[{"$f":"IF(Sheet1!C4924>Sheet1!C4923,0,1)","v":0}]
[{"$f":"IF(Sheet1!C4925>Sheet1!C4924,0,1)","v":0}]
[{"$f":"IF(Sheet1!C4926>Sheet1!C4925,0,1)","v":0}]
[{"$f":"IF(Sheet1!C4927>Sheet1!C4926,0,1)","v":0}]
[{"$f":"IF(Sheet1!C4928>Sheet1!C4927,0,1)","v":0}]
[{"$f":"IF(Sheet1!C4929>Sheet1!C4928,0,1)","v":0}]
[{"$f":"IF(Sheet1!C4930>Sheet1!C4929,0,1)","v":0}]
[{"$f":"IF(Sheet1!C4931>Sheet1!C4930,0,1)","v":0}]
[{"$f":"IF(Sheet1!C4932>Sheet1!C4931,0,1)","v":0}]
[{"$f":"IF(Sheet1!C4933>Sheet1!C4932,0,1)","v":0}]
[{"$f":"IF(Sheet1!C4934>Sheet1!C4933,0,1)","v":0}]
[{"$f":"IF(Sheet1!C4935>Sheet1!C4934,0,1)","v":0}]
[{"$f":"IF(Sheet1!C4936>Sheet1!C4935,0,1)","v":0}]
[{"$f":"IF(Sheet1!C4937>Sheet1!C4936,0,1)","v":0}]
[{"$f":"IF(Sheet1!C4938>Sheet1!C4937,0,1)","v":0}]
[{"$f":"IF(Sheet1!C4939>Sheet1!C4938,0,1)","v":0}]
[{"$f":"IF(Sheet1!C4940>Sheet1!C4939,0,1)","v":0}]
[{"$f":"IF(Sheet1!C4941>Sheet1!C4940,0,1)","v":0}]
[{"$f":"IF(Sheet1!C4942>Sheet1!C4941,0,1)","v":0}]
[{"$f":"IF(Sheet1!C4943>Sheet1!C4942,0,1)","v":0}]
[{"$f":"IF(Sheet1!C4944>Sheet1!C4943,0,1)","v":0}]
[{"$f":"IF(Sheet1!C4945>Sheet1!C4944,0,1)","v":0}]
[{"$f":"IF(Sheet1!C4946>Sheet1!C4945,0,1)","v":0}]
[{"$f":"IF(Sheet1!C4947>Sheet1!C4946,0,1)","v":0}]
[{"$f":"IF(Sheet1!C4948>Sheet1!C4947,0,1)","v":0}]
[{"$f":"IF(Sheet1!C4949>Sheet1!C4948,0,1)","v":0}]
[{"$f":"IF(Sheet1!C4950>Sheet1!C4949,0,1)","v":0}]
[{"$f":"IF(Sheet1!C4951>Sheet1!C4950,0,1)","v":0}]
[{"$f":"IF(Sheet1!C4952>Sheet1!C4951,0,1)","v":0}]
[{"$f":"IF(Sheet1!C4953>Sheet1!C4952,0,1)","v":0}]
[{"$f":"IF(Sheet1!C4954>Sheet1!C4953,0,1)","v":0}]
[{"$f":"IF(Sheet1!C4955>Sheet1!C4954,0,1)","v":0}]
[{"$f":"IF(Sheet1!C4956>Sheet1!C4955,0,1)","v":0}]
[{"$f":"IF(Sheet1!C4957>Sheet1!C4956,0,1)","v":0}]
[{"$f":"IF(Sheet1!C4958>Sheet1!C4957,0,1)","v":0}]
[{"$f":"IF(Sheet1!C4959>Sheet1!C4958,0,1)","v":0}]
[{"$f":"IF(Sheet1!C4960>Sheet1!C4959,0,1)","v":0}]
[{"$f":"IF(Sheet1!C4961>Sheet1!C4960,0,1)","v":0}]
[{"$f":"IF(Sheet1!C4962>Sheet1!C4961,0,1)","v":0}]
[{"$f":"IF(Sheet1!C4963>Sheet1!C4962,0,1)","v":0}]
[{"$f":"IF(Sheet1!C4964>Sheet1!C4963,0,1)","v":0}]
[{"$f":"IF(Sheet1!C4965>Sheet1!C4964,0,1)","v":0}]
[{"$f":"IF(Sheet1!C4966>Sheet1!C4965,0,1)","v":0}]
[{"$f":"IF(Sheet1!C4967>Sheet1!C4966,0,1)","v":0}]
[{"$f":"IF(Sheet1!C4968>Sheet1!C4967,0,1)","v":0}]
[{"$f":"IF(Sheet1!C4969>Sheet1!C4968,0,1)","v":0}]
[{"$f":"IF(Sheet1!C4970>Sheet1!C4969,0,1)","v":0}]
[{"$f":"IF(Sheet1!C4971>Sheet1!C4970,0,1)","v":0}]
[{"$f":"IF(Sheet1!C4972>Sheet1!C4971,0,1)","v":0}]
[{"$f":"IF(Sheet1!C4973>Sheet1!C4972,0,1)","v":0}]
[{"$f":"IF(Sheet1!C4974>Sheet1!C4973,0,1)","v":0}]
[{"$f":"IF(Sheet1!C4975>Sheet1!C4974,0,1)","v":0}]
[{"$f":"IF(Sheet1!C4976>Sheet1!C4975,0,1)","v":0}]
[{"$f":"IF(Sheet1!C4977>Sheet1!C4976,0,1)","v":0}]
[{"$f":"IF(Sheet1!C4978>Sheet1!C4977,0,1)","v":0}]
[{"$f":"IF(Sheet1!C4979>Sheet1!C4978,0,1)","v":0}]
[{"$f":"IF(Sheet1!C4980>Sheet1!C4979,0,1)","v":0}]
[{"$f":"IF(Sheet1!C4981>Sheet1!C4980,0,1)","v":0}]
[{"$f":"IF(Sheet1!C4982>Sheet1!C4981,0,1)","v":0}]
[{"$f":"IF(Sheet1!C4983>Sheet1!C4982,0,1)","v":0}]
[{"$f":"IF(Sheet1!C4984>Sheet1!C4983,0,1)","v":0}]
[{"$f":"IF(Sheet1!C4985>Sheet1!C4984,0,1)","v":0}]
[{"$f":"IF(Sheet1!C4986>Sheet1!C4985,0,1)","v":0}]
[{"$f":"IF(Sheet1!C4987>Sheet1!C4986,0,1)","v":0}]
[{"$f":"IF(Sheet1!C4988>Sheet1!C4987,0,1)","v":0}]
[{"$f":"IF(Sheet1!C4989>Sheet1!C4988,0,1)","v":0}]
[{"$f":"IF(Sheet1!C4990>Sheet1!C4989,0,1)","v":0}]
[{"$f":"IF(Sheet1!C4991>Sheet1!C4990,0,1)","v":0}]
[{"$f":"IF(Sheet1!C4992>Sheet1!C4991,0,1)","v":0}]
[{"$f":"IF(Sheet1!C4993>Sheet1!C4992,0,1)","v":0}]
[{"$f":"IF(Sheet1!C4994>Sheet1!C4993,0,1)","v":0}]
[{"$f":"IF(Sheet1!C4995>Sheet1!C4994,0,1)","v":0}]
[{"$f":"IF(Sheet1!C4996>Sheet1!C4995,0,1)","v":0}]
[{"$f":"IF(Sheet1!C4997>Sheet1!C4996,0,1)","v":0}]
[{"$f":"IF(Sheet1!C4998>Sheet1!C4997,0,1)","v":0}]
[{"$f":"IF(Sheet1!C4999>Sheet1!C4998,0,1)","v":0}]
[{"$f":"IF(Sheet1!C5000>Sheet1!C4999,0,1)","v":0}]
[{"$f":"IF(Sheet1!C5001>Sheet1!C5000,0,1)","v":0}]
[{"$f":"IF(Sheet1!C5002>Sheet1!C5001,0,1)","v":0}]

{"sheet":"Sheet3","index":2,"n_rows":0,"n_cols":0,"rows_kept":0}